BEGIN:VCALENDAR
VERSION:2.0
PRODID:-//Mississippi Humanities Council - ECPv6.15.18//NONSGML v1.0//EN
CALSCALE:GREGORIAN
METHOD:PUBLISH
X-ORIGINAL-URL:https://www.mshumanities.org
X-WR-CALDESC:Events for Mississippi Humanities Council
REFRESH-INTERVAL;VALUE=DURATION:PT1H
X-Robots-Tag:noindex
X-PUBLISHED-TTL:PT1H
BEGIN:VTIMEZONE
TZID:America/Chicago
BEGIN:DAYLIGHT
TZOFFSETFROM:-0600
TZOFFSETTO:-0500
TZNAME:CDT
DTSTART:20170312T080000
END:DAYLIGHT
BEGIN:STANDARD
TZOFFSETFROM:-0500
TZOFFSETTO:-0600
TZNAME:CST
DTSTART:20171105T070000
END:STANDARD
BEGIN:DAYLIGHT
TZOFFSETFROM:-0600
TZOFFSETTO:-0500
TZNAME:CDT
DTSTART:20180311T080000
END:DAYLIGHT
BEGIN:STANDARD
TZOFFSETFROM:-0500
TZOFFSETTO:-0600
TZNAME:CST
DTSTART:20181104T070000
END:STANDARD
BEGIN:DAYLIGHT
TZOFFSETFROM:-0600
TZOFFSETTO:-0500
TZNAME:CDT
DTSTART:20190310T080000
END:DAYLIGHT
BEGIN:STANDARD
TZOFFSETFROM:-0500
TZOFFSETTO:-0600
TZNAME:CST
DTSTART:20191103T070000
END:STANDARD
END:VTIMEZONE
BEGIN:VEVENT
DTSTART;VALUE=DATE:20181020
DTEND;VALUE=DATE:20181201
DTSTAMP:20260421T035300
CREATED:20180411T190313Z
LAST-MODIFIED:20180411T190313Z
UID:10969-1539993600-1543622399@www.mshumanities.org
SUMMARY:Water/Ways in Ocean Springs
DESCRIPTION:The Ocean Springs Municipal Library will host Water/Ways\, a traveling exhibit from the Smithsonian Institution\, from October 20 through November 30. \nWater/Ways is a traveling exhibit offered by the Museum on Main Street division of the Smithsonian Institution. It consists of five free-standing display units incorporating photographs and text as well as numerous interactives ranging from basic flip charts to state of the art audio and video devices. Requiring a display area of a minimum of 650 sq. ft.\, the exhibit is designed for smaller venues\, thereby achieving the goal of “bringing the Smithsonian to Small Town America.” \nWater/Ways explores the endless motion of the water cycle\, water’s effect on landscape\, settlement and migration\, and its impact on culture and spirituality. It looks at how political and economic planning have long been affected by access to water and control of water resources. Human creativity and resourcefulness provide new ways of protecting water resources and renewing respect for the natural environment.
URL:https://www.mshumanities.org/event/water-ways-ocean-springs/
LOCATION:Ocean Springs Municipal Library\, 525 Dewey Avenue\, Ocean Springs\, MS\, 39564\, United States
END:VEVENT
BEGIN:VEVENT
DTSTART;TZID=America/Chicago:20181108T110000
DTEND;TZID=America/Chicago:20181108T123000
DTSTAMP:20260421T035300
CREATED:20181107T165123Z
LAST-MODIFIED:20181107T165123Z
UID:11088-1541674800-1541680200@www.mshumanities.org
SUMMARY:The Power of Language: The Tempest
DESCRIPTION:This version of The Tempest will be an immersive theatre experience that engages the audience as part of the play and they will take part in the language. The themes of The Tempest  will be analyzed and discussed\, the use of power\, morality and forgiveness. Students will also look at the historical context of the play. Shakespeare wrote this in 1610 which makes it one of his last works. Discussion will consider what was Shakespeare trying to say through the words of this magical and brilliant piece? \n  \nAbout WINGS \n \nThe nationally recognized Lynn Meadows WINGS Performing Arts program\, now in its 19th year\, nurtures the talent and spirit of young people through the arts\, community service and leadership. WINGS has been awarded the Coming up Taller from the President’s Council on the Arts and Humanities at the White House\, the Mississippi Governor’s Award for Excellence in Arts Education and the Mississippi Humanities Educator Award.  Over 500 students from 1st to 12th grade participate annually in this program through memberships\, summer programs and school outreach.  Nine productions throughout the year reach in excess of 40\,000 audience members\, including the traditionally underserved demographics of the young and the elderly.  WINGS has performed across the country at the Tony Award winning Oregon Shakespeare Festival\, at the National WWII Museum’s Canteen Theatre and in the Southeastern Theatre Conferences’ Fringe Theatre Festival.  WINGS High School Students\, the Shooting Stars\, have performed at the Kennedy Center in Washington\, D. C. twice.  Ninety eight percent of students completing the WINGS program go on to attend college.  All receive scholarships and grant awards for their involvement and work in the WINGS program that prides itself on presenting innovative theatrical work. \n                                                          \n 
URL:https://www.mshumanities.org/event/power-language-tempest/
LOCATION:Cedar Lake Christian Academy\, 11555 Cedar Lake Rd.\, Biloxi\, MS\, 39532
END:VEVENT
BEGIN:VEVENT
DTSTART;TZID=America/Chicago:20181108T143000
DTEND;TZID=America/Chicago:20181108T153000
DTSTAMP:20260421T035300
CREATED:20181107T165450Z
LAST-MODIFIED:20181107T165450Z
UID:11089-1541687400-1541691000@www.mshumanities.org
SUMMARY:The Power of Language: The Tempest
DESCRIPTION:This version of The Tempest will be an immersive theatre experience that engages the audience as part of the play and they will take part in the language. The themes of The Tempest  will be analyzed and discussed\, the use of power\, morality and forgiveness. Students will also look at the historical context of the play. Shakespeare wrote this in 1610 which makes it one of his last works. Discussion will consider what was Shakespeare trying to say through the words of this magical and brilliant piece? \n  \nAbout WINGS \n \nThe nationally recognized Lynn Meadows WINGS Performing Arts program\, now in its 19th year\, nurtures the talent and spirit of young people through the arts\, community service and leadership. WINGS has been awarded the Coming up Taller from the President’s Council on the Arts and Humanities at the White House\, the Mississippi Governor’s Award for Excellence in Arts Education and the Mississippi Humanities Educator Award.  Over 500 students from 1st to 12th grade participate annually in this program through memberships\, summer programs and school outreach.  Nine productions throughout the year reach in excess of 40\,000 audience members\, including the traditionally underserved demographics of the young and the elderly.  WINGS has performed across the country at the Tony Award winning Oregon Shakespeare Festival\, at the National WWII Museum’s Canteen Theatre and in the Southeastern Theatre Conferences’ Fringe Theatre Festival.  WINGS High School Students\, the Shooting Stars\, have performed at the Kennedy Center in Washington\, D. C. twice.  Ninety eight percent of students completing the WINGS program go on to attend college.  All receive scholarships and grant awards for their involvement and work in the WINGS program that prides itself on presenting innovative theatrical work. \n                                                          \n 
URL:https://www.mshumanities.org/event/power-language-tempest-2/
LOCATION:Gulfport High School\, 100 Perry St.\, Gulfport\, MS\, 39507
END:VEVENT
BEGIN:VEVENT
DTSTART;TZID=America/Chicago:20181108T180000
DTEND;TZID=America/Chicago:20181108T193000
DTSTAMP:20260421T035300
CREATED:20181022T182706Z
LAST-MODIFIED:20181022T182706Z
UID:11069-1541700000-1541705400@www.mshumanities.org
SUMMARY:Water/Ways @ Ocean Springs: Teen Science Cafe
DESCRIPTION:Program details TBA. \nWater/Ways is a traveling exhibit offered by the Museum on Main Street division of the Smithsonian Institution. The exhibit explores water’s connection to all aspects of our society\, including the endless motion of the water cycle\, water’s effect on landscape\, settlement and migration\, and its impact on culture and spirituality. \nExhibit hours are Monday-Thursday 10am-6pm and Friday-Saturday 10am-4pm. School and group visits are welcome but are encouraged to schedule a visit by contacting the library in advance at 228-875-1193. \nFuture Water/Ways events in Ocean Springs:\nNovember 10\, 9:30-11:30am: USM Marine Education Center tour\nNovember 14\, 10-10:45am: Water-related story and craft time\nNovember 15\, 3-7pm: Oysters & Seafood Safety/Terrapins & TEDs\nNovember 17\, 9:30am-12:30pm: Get N2RH20 Kayaking trip\nNovember 20\, 12pm: BP Oil Spill\, Eight Years Later\nNovember 21\, 10-10:45am: Water-related story and craft time\nNovember 27\, 6-7:30pm: Gulf Coast Research Lab Sci-Cafe\nNovember 28\, 10-10:45am: Water-related story and craft time\nNovember 29\, 5:30-7:30pm: How Storms Have Impacted Life on the Mississippi Gulf Coast\nDecember 1\, 10am-12pm: Lessons From the Way of Water for Native Americans
URL:https://www.mshumanities.org/event/water-ways-ocean-springs-teen-science-cafe/
LOCATION:MS
END:VEVENT
END:VCALENDAR