BEGIN:VCALENDAR
VERSION:2.0
PRODID:-//Mississippi Humanities Council - ECPv6.15.18//NONSGML v1.0//EN
CALSCALE:GREGORIAN
METHOD:PUBLISH
X-WR-CALNAME:Mississippi Humanities Council
X-ORIGINAL-URL:https://www.mshumanities.org
X-WR-CALDESC:Events for Mississippi Humanities Council
REFRESH-INTERVAL;VALUE=DURATION:PT1H
X-Robots-Tag:noindex
X-PUBLISHED-TTL:PT1H
BEGIN:VTIMEZONE
TZID:America/Chicago
BEGIN:DAYLIGHT
TZOFFSETFROM:-0600
TZOFFSETTO:-0500
TZNAME:CDT
DTSTART:20170312T080000
END:DAYLIGHT
BEGIN:STANDARD
TZOFFSETFROM:-0500
TZOFFSETTO:-0600
TZNAME:CST
DTSTART:20171105T070000
END:STANDARD
BEGIN:DAYLIGHT
TZOFFSETFROM:-0600
TZOFFSETTO:-0500
TZNAME:CDT
DTSTART:20180311T080000
END:DAYLIGHT
BEGIN:STANDARD
TZOFFSETFROM:-0500
TZOFFSETTO:-0600
TZNAME:CST
DTSTART:20181104T070000
END:STANDARD
BEGIN:DAYLIGHT
TZOFFSETFROM:-0600
TZOFFSETTO:-0500
TZNAME:CDT
DTSTART:20190310T080000
END:DAYLIGHT
BEGIN:STANDARD
TZOFFSETFROM:-0500
TZOFFSETTO:-0600
TZNAME:CST
DTSTART:20191103T070000
END:STANDARD
END:VTIMEZONE
BEGIN:VEVENT
DTSTART;VALUE=DATE:20181020
DTEND;VALUE=DATE:20181201
DTSTAMP:20260421T033721
CREATED:20180411T190313Z
LAST-MODIFIED:20180411T190313Z
UID:10969-1539993600-1543622399@www.mshumanities.org
SUMMARY:Water/Ways in Ocean Springs
DESCRIPTION:The Ocean Springs Municipal Library will host Water/Ways\, a traveling exhibit from the Smithsonian Institution\, from October 20 through November 30. \nWater/Ways is a traveling exhibit offered by the Museum on Main Street division of the Smithsonian Institution. It consists of five free-standing display units incorporating photographs and text as well as numerous interactives ranging from basic flip charts to state of the art audio and video devices. Requiring a display area of a minimum of 650 sq. ft.\, the exhibit is designed for smaller venues\, thereby achieving the goal of “bringing the Smithsonian to Small Town America.” \nWater/Ways explores the endless motion of the water cycle\, water’s effect on landscape\, settlement and migration\, and its impact on culture and spirituality. It looks at how political and economic planning have long been affected by access to water and control of water resources. Human creativity and resourcefulness provide new ways of protecting water resources and renewing respect for the natural environment.
URL:https://www.mshumanities.org/event/water-ways-ocean-springs/
LOCATION:Ocean Springs Municipal Library\, 525 Dewey Avenue\, Ocean Springs\, MS\, 39564\, United States
END:VEVENT
BEGIN:VEVENT
DTSTART;TZID=America/Chicago:20181114T100000
DTEND;TZID=America/Chicago:20181114T104500
DTSTAMP:20260421T033721
CREATED:20181015T204926Z
LAST-MODIFIED:20181015T204926Z
UID:11064-1542189600-1542192300@www.mshumanities.org
SUMMARY:Water/Ways @ Ocean Springs: Water-related Story & Craft Time
DESCRIPTION:On November 14\, the Ocean Springs Municipal Library will host a water-related story and craft time for families. Parents are encouraged to bring their preschool-aged children for story time and crafts with children’s librarian Maureen Downey. The free program will take place in conjunction with the Smithsonian traveling exhibit Water/Ways\, on display at the Ocean Springs Municipal Library through November 30. \nWater/Ways is a traveling exhibit offered by the Museum on Main Street division of the Smithsonian Institution. The exhibit explores water’s connection to all aspects of our society\, including the endless motion of the water cycle\, water’s effect on landscape\, settlement and migration\, and its impact on culture and spirituality. \nExhibit hours are Monday-Thursday 10am-6pm and Friday-Saturday 10am-4pm. School and group visits are welcome but are encouraged to schedule a visit by contacting the library in advance at 228-875-1193. \nFuture Water/Ways events in Ocean Springs:\nNovember 15\, 3-7pm: Oysters & Seafood Safety/Terrapins & TEDs\nNovember 17\, 9:30am-12:30pm: Get N2RH20 Kayaking trip\nNovember 20\, 12pm: BP Oil Spill\, Eight Years Later\nNovember 21\, 10-10:45am: Water-related story and craft time\nNovember 27\, 6-7:30pm: Gulf Coast Research Lab Sci-Cafe\nNovember 28\, 10-10:45am: Water-related story and craft time\nNovember 29\, 5:30-7:30pm: How Storms Have Impacted Life on the Mississippi Gulf Coast\nDecember 1\, 10am-12pm: Lessons From the Way of Water for Native Americans
URL:https://www.mshumanities.org/event/water-ways-ocean-springs-water-related-story-craft-time-3/
LOCATION:Ocean Springs Municipal Library\, 525 Dewey Avenue\, Ocean Springs\, MS\, 39564\, United States
END:VEVENT
BEGIN:VEVENT
DTSTART;TZID=America/Chicago:20181114T140000
DTEND;TZID=America/Chicago:20181114T170000
DTSTAMP:20260421T033721
CREATED:20180716T192623Z
LAST-MODIFIED:20180716T192623Z
UID:11008-1542204000-1542214800@www.mshumanities.org
SUMMARY:The Orators: In the Pursuit of "Happyness"
DESCRIPTION:The Shackouls Honors College is pleased to continue The Orators program on Wednesday\, November 14 with Dr. Corey Keyes. Dr. Keyes\, a sociologist and a psychologist in the Department of Sociology at Emory University\, will present “Finding Me Through The Search for Happiness” at 2 p.m. Griffis Hall\, Room 401 on the MSU campus. As a teacher and a researcher\, he is best known for his work in “positive psychology”. His interests in mental health\, methods for attaining positive social relationships\, and the psychology of aging have made him a much sought after speaker. Author of many books and articles\, his mental health model has been adopted by Canadian Public Health Agency into its surveillance program. \nThe Orators program kicked off in September during the Honors College’s annual Classical Week. It is a year long program which invites speakers\, representing various academic disciplines and topics\, to engage and enrich the university and local communities in research\, course work\, and public lectures. Since the Honors College touches all colleges at MSU through curriculum design\, active research and special events\, there is a specific theme for each year. The theme for this first year is “Searching for Self: Who Am I Anyway?” \nA reception to meet the speaker follows the lecture. For additional information\, contact Dr. Donna Clevinger  dclevinger@honors.msstate.edu or 662-325-2522. Free Admission.
URL:https://www.mshumanities.org/event/the-orators-2/
LOCATION:Mississippi State University\, Bost Theater\, Starkville\, MS
END:VEVENT
END:VCALENDAR