BEGIN:VCALENDAR
VERSION:2.0
PRODID:-//Mississippi Humanities Council - ECPv6.15.18//NONSGML v1.0//EN
CALSCALE:GREGORIAN
METHOD:PUBLISH
X-ORIGINAL-URL:https://www.mshumanities.org
X-WR-CALDESC:Events for Mississippi Humanities Council
REFRESH-INTERVAL;VALUE=DURATION:PT1H
X-Robots-Tag:noindex
X-PUBLISHED-TTL:PT1H
BEGIN:VTIMEZONE
TZID:America/Chicago
BEGIN:DAYLIGHT
TZOFFSETFROM:-0600
TZOFFSETTO:-0500
TZNAME:CDT
DTSTART:20170312T080000
END:DAYLIGHT
BEGIN:STANDARD
TZOFFSETFROM:-0500
TZOFFSETTO:-0600
TZNAME:CST
DTSTART:20171105T070000
END:STANDARD
BEGIN:DAYLIGHT
TZOFFSETFROM:-0600
TZOFFSETTO:-0500
TZNAME:CDT
DTSTART:20180311T080000
END:DAYLIGHT
BEGIN:STANDARD
TZOFFSETFROM:-0500
TZOFFSETTO:-0600
TZNAME:CST
DTSTART:20181104T070000
END:STANDARD
BEGIN:DAYLIGHT
TZOFFSETFROM:-0600
TZOFFSETTO:-0500
TZNAME:CDT
DTSTART:20190310T080000
END:DAYLIGHT
BEGIN:STANDARD
TZOFFSETFROM:-0500
TZOFFSETTO:-0600
TZNAME:CST
DTSTART:20191103T070000
END:STANDARD
BEGIN:DAYLIGHT
TZOFFSETFROM:-0600
TZOFFSETTO:-0500
TZNAME:CDT
DTSTART:20200308T080000
END:DAYLIGHT
BEGIN:STANDARD
TZOFFSETFROM:-0500
TZOFFSETTO:-0600
TZNAME:CST
DTSTART:20201101T070000
END:STANDARD
END:VTIMEZONE
BEGIN:VEVENT
DTSTART;VALUE=DATE:20181207
DTEND;VALUE=DATE:20190120
DTSTAMP:20260421T063420
CREATED:20180411T190012Z
LAST-MODIFIED:20180411T190012Z
UID:10968-1544140800-1547942399@www.mshumanities.org
SUMMARY:Water/Ways in Jackson
DESCRIPTION:The Mississippi Agriculture & Forestry Museum will host Water/Ways\, a traveling exhibit from the Smithsonian Institution\, from December 7 through January 19. \nWater/Ways is a traveling exhibit offered by the Museum on Main Street division of the Smithsonian Institution. It consists of five free-standing display units incorporating photographs and text as well as numerous interactives ranging from basic flip charts to state of the art audio and video devices. Requiring a display area of a minimum of 650 sq. ft.\, the exhibit is designed for smaller venues\, thereby achieving the goal of “bringing the Smithsonian to Small Town America.” \nWater/Ways explores the endless motion of the water cycle\, water’s effect on landscape\, settlement and migration\, and its impact on culture and spirituality. It looks at how political and economic planning have long been affected by access to water and control of water resources. Human creativity and resourcefulness provide new ways of protecting water resources and renewing respect for the natural environment.
URL:https://www.mshumanities.org/event/water-ways-jackson/
LOCATION:Mississippi Agriculture & Forestry Museum\, 1150 Lakeland Drive\, Jackson\, MS\, 39216\, United States
END:VEVENT
BEGIN:VEVENT
DTSTART;TZID=America/Chicago:20190110T100000
DTEND;TZID=America/Chicago:20190110T130000
DTSTAMP:20260421T063420
CREATED:20181206T205902Z
LAST-MODIFIED:20181206T205902Z
UID:11097-1547114400-1547125200@www.mshumanities.org
SUMMARY:SB: The Hillbilly Cat: The Local Roots and National Impact of Elvis Presley's Music
DESCRIPTION:Using documentary footage and recordings from the mid-1950s\, Northeast Mississippi Community College history instructor Carla Falkner of Tupelo examines the role Southern culture played in the emergence of rock and roll through the music of Elvis Presley and how that music impacted popular American culture and values. \nSpeakers Expertise:\nCarla Falkner has more than 30 years of experience as a Mississippi educator. She joined the Northeast Mississippi Community College faculty in 1989 after teaching high school social studies in Batesville and New Site. In addition to her teaching responsibilities\, Falkner serves as the Chair of the Division of Social\, Behavioral\, and Applied Sciences and is active on the NEMCC Cultural Arts Committee. \n  \nDATE/TIME School Location of presentation \n\n\n\nThursday\, January 10 \n10 am\nWest Hills Elementary \n4100 32nd St          39307\nNW auditorium\n\n\nThursday\, January 10 \n12 Noon\nCrestwood \n730  Crestwood Dr.  39301\nLibrary\n\n\nThursday\, January 10 \n1:30 pm\nParkview Elementary \n1225 26th St. 39305\nLibrary\n\n\nFriday\, January 11 \n9 am\nHarris Upper Elementary \n3951 12th St 39307\nMrs. A. Williams’ Class\n\n\nFriday\, January 11 \n11 am\nOakland Heights Elementary \n601-59th Ave 39307\nOH Auditorium\n\n\nFriday\, January 11 \n1:00 pm\nPoplar Springs \n4101 27th Ave.  39305\nPSE Auditorium
URL:https://www.mshumanities.org/event/sb-hillbilly-cat-local-roots-national-impact-elvis-presleys-music/
LOCATION:Meridian Public School District\, 1019 25th Avenue\, Meridian\, MS\, 39301
END:VEVENT
END:VCALENDAR