BEGIN:VCALENDAR
VERSION:2.0
PRODID:-//Mississippi Humanities Council - ECPv6.15.18//NONSGML v1.0//EN
CALSCALE:GREGORIAN
METHOD:PUBLISH
X-WR-CALNAME:Mississippi Humanities Council
X-ORIGINAL-URL:https://www.mshumanities.org
X-WR-CALDESC:Events for Mississippi Humanities Council
REFRESH-INTERVAL;VALUE=DURATION:PT1H
X-Robots-Tag:noindex
X-PUBLISHED-TTL:PT1H
BEGIN:VTIMEZONE
TZID:America/Chicago
BEGIN:DAYLIGHT
TZOFFSETFROM:-0600
TZOFFSETTO:-0500
TZNAME:CDT
DTSTART:20180311T080000
END:DAYLIGHT
BEGIN:STANDARD
TZOFFSETFROM:-0500
TZOFFSETTO:-0600
TZNAME:CST
DTSTART:20181104T070000
END:STANDARD
BEGIN:DAYLIGHT
TZOFFSETFROM:-0600
TZOFFSETTO:-0500
TZNAME:CDT
DTSTART:20190310T080000
END:DAYLIGHT
BEGIN:STANDARD
TZOFFSETFROM:-0500
TZOFFSETTO:-0600
TZNAME:CST
DTSTART:20191103T070000
END:STANDARD
BEGIN:DAYLIGHT
TZOFFSETFROM:-0600
TZOFFSETTO:-0500
TZNAME:CDT
DTSTART:20200308T080000
END:DAYLIGHT
BEGIN:STANDARD
TZOFFSETFROM:-0500
TZOFFSETTO:-0600
TZNAME:CST
DTSTART:20201101T070000
END:STANDARD
END:VTIMEZONE
BEGIN:VEVENT
DTSTART;VALUE=DATE:20190125
DTEND;VALUE=DATE:20190309
DTSTAMP:20260421T080312
CREATED:20180411T190725Z
LAST-MODIFIED:20180411T190725Z
UID:10970-1548374400-1552089599@www.mshumanities.org
SUMMARY:Water/Ways in Columbus
DESCRIPTION:The Tennessee-Tombigbee Waterway Transportation Museum will host Water/Ways\, a traveling exhibit from the Smithsonian Institution\, from January 25 through March 8. \nWater/Ways is a traveling exhibit offered by the Museum on Main Street division of the Smithsonian Institution. It consists of five free-standing display units incorporating photographs and text as well as numerous interactives ranging from basic flip charts to state of the art audio and video devices. Requiring a display area of a minimum of 650 sq. ft.\, the exhibit is designed for smaller venues\, thereby achieving the goal of “bringing the Smithsonian to Small Town America.” \nWater/Ways explores the endless motion of the water cycle\, water’s effect on landscape\, settlement and migration\, and its impact on culture and spirituality. It looks at how political and economic planning have long been affected by access to water and control of water resources. Human creativity and resourcefulness provide new ways of protecting water resources and renewing respect for the natural environment.
URL:https://www.mshumanities.org/event/water-ways-columbus/
LOCATION:Tennessee-Tombigbee Waterway Transportation Museum\, 318 7th St. N\, Columbus\, MS\, 39703\, United States
END:VEVENT
BEGIN:VEVENT
DTSTART;TZID=America/Chicago:20190219T100000
DTEND;TZID=America/Chicago:20190219T110000
DTSTAMP:20260421T080312
CREATED:20190124T215212Z
LAST-MODIFIED:20190124T215212Z
UID:11156-1550570400-1550574000@www.mshumanities.org
SUMMARY:SB: Margret and H.A. Rey: A Partnership that Created and Icon
DESCRIPTION:For 75 years\, children have been captivated by “Curious George.” Much is known about “George\,” but little is know about his creators. The lived of Margret and H.A. Rey are as interesting as the little monkey they created-if not more so. This presentation will examine their lived- telling of their lives in Hamburg\, Germany\, as well as the journeys that brought them to the United States. The de Grummond Children’s Literature Collection at The University of Southern Mississippi holds the Rey’s literary archive\, containing diaries\, correspondence\, autobiographical sketches\, original illustrations\, audio and video tapes\, and their creative process. \nSpeakers Expertise:\nTraining and experience as a librarian\, educator\, grant writer\, and instructor of children’s literature gives me the background for my topic. Currently serving as the Curator of the de Grummond Children’s Literature Collection with the University of Southern Mississippi Libraries.
URL:https://www.mshumanities.org/event/sb-margret-h-rey-partnership-created-icon/
LOCATION:Thames Conference Center\, Wesson\, MS
END:VEVENT
BEGIN:VEVENT
DTSTART;TZID=America/Chicago:20190219T173000
DTEND;TZID=America/Chicago:20190219T190000
DTSTAMP:20260421T080312
CREATED:20190125T182102Z
LAST-MODIFIED:20190125T182102Z
UID:11159-1550597400-1550602800@www.mshumanities.org
SUMMARY:Ideas on Tap: Locked Up: Criminal Justice in Mississippi
DESCRIPTION:On February 19\, join the Mississippi Humanities Council for the first in a two-part series on criminal justice in Mississippi. \nThe February 19 program\, “Locked Up: Criminal Justice in Mississippi” will examine the state of the criminal justice system in Mississippi\, existing laws\, and ongoing reform efforts. Hear from panelists Jennifer Riley-Collins (ACLU of Mississippi)\, James Robertson (Empower Mississippi)\, and Johnnie McDaniels (Henley-Young Juvenile Justice Center) as they share their thoughts. \nAs always\, snacks and great conversation are on us\, and drinks are on you.
URL:https://www.mshumanities.org/event/ideas-tap-locked-criminal-justice-mississippi/
LOCATION:Hal & Mal’s\, 200 Commerce Street\, Jackson\, MS\, 39201\, United States
END:VEVENT
BEGIN:VEVENT
DTSTART;TZID=America/Chicago:20190219T180000
DTEND;TZID=America/Chicago:20190219T190000
DTSTAMP:20260421T080312
CREATED:20190124T222620Z
LAST-MODIFIED:20190124T222620Z
UID:11158-1550599200-1550602800@www.mshumanities.org
SUMMARY:SB: The Soul of Southern Cooking I & II: Miz Bob's Second Batch Cooking from a Mississippi Slave Girl's Table
DESCRIPTION:Miz Bob (known as Bob Hunter to friends and family) learned to cook from her mother and her grandmother. Her mental catalogue includes over 500 recipes and follows the art of cooking from the slave kitchen to her great-grandmother’s table. Miz Bob began teaching her daughter\, Kathy Starr\, all 500 recipes at about age 5\, and in the process\, Kathy Starr has preserved a lost art of cooking for future generations. \nSpeakers Expertise:\nKathy Starr received a Congressional honor for her book The Soul of Southern Cooking and has appeared on numerous cooking shows\, talk shows\, in magazine and newspaper articles.
URL:https://www.mshumanities.org/event/sb-soul-southern-cooking-ii-miz-bobs-second-batch-cooking-mississippi-slave-girls-table/
LOCATION:Train Depot\, 308 Newman Street \, Hattiesburg \, MS
END:VEVENT
BEGIN:VEVENT
DTSTART;TZID=America/Chicago:20190219T183000
DTEND;TZID=America/Chicago:20190219T200000
DTSTAMP:20260421T080312
CREATED:20181206T215352Z
LAST-MODIFIED:20181206T215352Z
UID:11105-1550601000-1550606400@www.mshumanities.org
SUMMARY:Delta Hill Riders
DESCRIPTION:In mid-February 2019\, the first solo photography exhibit of Rory Doyle will open at the Delta Arts Alliance. The public exhibit will feature work from over two years of documenting the African-American cowboy and cowgirl subculture in the Mississippi Delta. On opening night\, February 19\, Dr. Shalando Jones of Delta State University will present a lecture on the history of black cowboys in Mississippi and across the country. The exhibit will hang until March 15\, 2019.
URL:https://www.mshumanities.org/event/delta-hill-riders/
LOCATION:Delta Arts Alliance\, 104 S. Court Street\, Cleveland\, MS\, 38732
END:VEVENT
BEGIN:VEVENT
DTSTART;TZID=America/Chicago:20190219T183000
DTEND;TZID=America/Chicago:20190219T200000
DTSTAMP:20260421T080312
CREATED:20190104T185743Z
LAST-MODIFIED:20190104T185743Z
UID:11117-1550601000-1550606400@www.mshumanities.org
SUMMARY:The Struggle Continues: Equity in Education
DESCRIPTION:In 2018\, the Hancock Performing Arts Center received a grant for a series of lectures entitled\, “The Struggle and the Music It Created.” The purpose of the project was to address race in Mississippi and to discuss the relevance of the music that defined the movement. The majority of the audience attending was students. After the lectures ended\, Kevin Allemand\, a history teacher\, noticed a shift in conversations where his students were engaged in the civil rights movement and asking questions and making comments. He realized that placing the students in the historical context as they listened to the lectures was transformative. For the 2019 Spring semester\, “The Struggle” conversations will continue by addressing equity in education in a series of three lectures and a poetry reading. \nFEBRUARY 12: Dr. Sherita L. Johnson from the University of Southern Mississippi will give a lecture and discuss the story of Clyde Kennard’s admission to the university and how his story united the campus to secure his legacy.
URL:https://www.mshumanities.org/event/struggle-continues-equity-education-2/
LOCATION:Hancock Performing Arts Center\, 7140 Stennis Airport Rd\, Kiln\, MS\, 39556\, United States
ORGANIZER;CN="Hancock Performing Arts Center":MAILTO:info@hancockpac.com
END:VEVENT
BEGIN:VEVENT
DTSTART;TZID=America/Chicago:20190219T190000
DTEND;TZID=America/Chicago:20190219T200000
DTSTAMP:20260421T080312
CREATED:20190212T231512Z
LAST-MODIFIED:20190212T231512Z
UID:11169-1550602800-1550606400@www.mshumanities.org
SUMMARY:Water/Ways @ Columbus: Ebbs and Flows of Mississippi History
DESCRIPTION:On February 19\, the Tenn-Tom Waterway Transportation Museum will host Dr. Jim Giesen of the MHC’s Speakers Bureau to present his free program\, “Ebbs and Flows of Mississippi History.” The free program will take place in conjunction with the Smithsonian traveling exhibit Water/Ways\, on display at the Tenn-Tom Waterway Transportation Museum through March 8. \nThere are few states where water has been more central to its history and culture than Mississippi. From ship-building on the coast to Native American migration along rivers and streams\, from Civil Rights Movement wade-ins to Civil War strategy\, water has played a central role in how and why the Magnolia State looks and operates as it does today. From massive natural disasters like Hurricane Katrina and the 1927 Mississippi River Flood\, to great success stories like the shipbuilding and fishing industries\, to less well-known incidents where water played an important role in the development of small communities and towns\, the talk will tell not just the well-known water histories of the state\, but show how water has become an often overlooked factor in our past\, present\, and future \nWater/Ways is a traveling exhibit offered by the Museum on Main Street division of the Smithsonian Institution. The exhibit explores water’s connection to all aspects of our society\, including the endless motion of the water cycle\, water’s effect on landscape\, settlement and migration\, and its impact on culture and spirituality. \nExhibit hours are Monday-Friday 9am-3pm and Saturday by appointment. School and group visits are welcome but are encouraged to schedule a visit by contacting the library in advance at 662-328-8936. \nFuture Water/Ways events in Columbus:\nFebruary 26\, 5pm: Mississippi Water: Shaped By the Past\, Molding the Future
URL:https://www.mshumanities.org/event/water-ways-columbus-ebbs-flows-mississippi-history/
LOCATION:Columbus Convention & Visitors Bureau\, 117 3rd St S\, Columbus\, MS\, 39701\, United States
END:VEVENT
END:VCALENDAR