BEGIN:VCALENDAR
VERSION:2.0
PRODID:-//Mississippi Humanities Council - ECPv6.15.18//NONSGML v1.0//EN
CALSCALE:GREGORIAN
METHOD:PUBLISH
X-WR-CALNAME:Mississippi Humanities Council
X-ORIGINAL-URL:https://www.mshumanities.org
X-WR-CALDESC:Events for Mississippi Humanities Council
REFRESH-INTERVAL;VALUE=DURATION:PT1H
X-Robots-Tag:noindex
X-PUBLISHED-TTL:PT1H
BEGIN:VTIMEZONE
TZID:America/Chicago
BEGIN:DAYLIGHT
TZOFFSETFROM:-0600
TZOFFSETTO:-0500
TZNAME:CDT
DTSTART:20180311T080000
END:DAYLIGHT
BEGIN:STANDARD
TZOFFSETFROM:-0500
TZOFFSETTO:-0600
TZNAME:CST
DTSTART:20181104T070000
END:STANDARD
BEGIN:DAYLIGHT
TZOFFSETFROM:-0600
TZOFFSETTO:-0500
TZNAME:CDT
DTSTART:20190310T080000
END:DAYLIGHT
BEGIN:STANDARD
TZOFFSETFROM:-0500
TZOFFSETTO:-0600
TZNAME:CST
DTSTART:20191103T070000
END:STANDARD
BEGIN:DAYLIGHT
TZOFFSETFROM:-0600
TZOFFSETTO:-0500
TZNAME:CDT
DTSTART:20200308T080000
END:DAYLIGHT
BEGIN:STANDARD
TZOFFSETFROM:-0500
TZOFFSETTO:-0600
TZNAME:CST
DTSTART:20201101T070000
END:STANDARD
END:VTIMEZONE
BEGIN:VEVENT
DTSTART;VALUE=DATE:20190125
DTEND;VALUE=DATE:20190309
DTSTAMP:20260421T080314
CREATED:20180411T190725Z
LAST-MODIFIED:20180411T190725Z
UID:10970-1548374400-1552089599@www.mshumanities.org
SUMMARY:Water/Ways in Columbus
DESCRIPTION:The Tennessee-Tombigbee Waterway Transportation Museum will host Water/Ways\, a traveling exhibit from the Smithsonian Institution\, from January 25 through March 8. \nWater/Ways is a traveling exhibit offered by the Museum on Main Street division of the Smithsonian Institution. It consists of five free-standing display units incorporating photographs and text as well as numerous interactives ranging from basic flip charts to state of the art audio and video devices. Requiring a display area of a minimum of 650 sq. ft.\, the exhibit is designed for smaller venues\, thereby achieving the goal of “bringing the Smithsonian to Small Town America.” \nWater/Ways explores the endless motion of the water cycle\, water’s effect on landscape\, settlement and migration\, and its impact on culture and spirituality. It looks at how political and economic planning have long been affected by access to water and control of water resources. Human creativity and resourcefulness provide new ways of protecting water resources and renewing respect for the natural environment.
URL:https://www.mshumanities.org/event/water-ways-columbus/
LOCATION:Tennessee-Tombigbee Waterway Transportation Museum\, 318 7th St. N\, Columbus\, MS\, 39703\, United States
END:VEVENT
BEGIN:VEVENT
DTSTART;VALUE=DATE:20190221
DTEND;VALUE=DATE:20190224
DTSTAMP:20260421T080314
CREATED:20181105T181351Z
LAST-MODIFIED:20181105T181351Z
UID:11087-1550707200-1550966399@www.mshumanities.org
SUMMARY:The 30th Annual Natchez Literary and Cinema Celebration: The Great River Road
DESCRIPTION:THURSDAY CINEMA EVENT: February 21\, 2019\n6:00-7:15p.m.: Mark Brockway and Tim Givens present: Mississippi Madam: The Life of Nellie Jackson\n7:30 p.m.: Beverly Adams and Mark LaFrancis present: Making the Film—Women of the Struggle \nFRIDAY FEBRUARY 22\, 2019\n8:30 a.m.\nOpening Ceremony\, Recognition of William Winter\nAward Winners—Dr. Jane Hulon\, Mayor Darryl Grennell\,\nand Vice President Teresa Busby\n9:15 a.m.\nAnne Butler: Deep Roots\n10:00 a.m.\nJames Pate: Pickett’s History of French Louisiana\n11:00 a.m.\nBook Signing\n1:00 p.m.\nPresentation of Thad Cochran Award\n1:30 p.m.\nGene Dattel: The Jewish Experience\n2:30 p.m.\nPamela D. Arceneaux: Guidebooks to Sin\n3:30 p.m.\nBook Signing \n3:50 p.m. \nMark Brockway and Tim Givens: Making the Film: Mississippi Madam\n5:00 p.m.\nReception\, NAPAC Museum\n5:00 p.m. & 5:30 p.m.\nTours of Concord Quarters: ticketed event $15; for more\ninformation\, see our ticketed events flyer \n  \n  \nSATURDAY FEBRUARY 23\, 2019\n8:30 a.m.\nOpening Remarks\, Dr. Jane Hulon; Recognition of The\nJohn D. W. Guice Young Writer’s Competition\, Vice\nPresident Teresa Busby.\n9:00 a.m.\nBeth Ann Fennelly\, Poet Laureate of Mississippi\n10:15 a.m.\nBook Signing\n10:30 .a.m.\nRichard Wright Awards for Literary Excellence\n11:30\nLuncheon\, Dunleith Plantation: ticketed event\, $30; for\nmore information\, see our ticketed events flyer)\n1:00 p.m.\nTom Franklin: Southern Fiction\n2:00 p.m.\nMichael Twitty\, winner of the James Beard Award for\nThe Cooking Gene\n3:15 p.m.\nBook Signing\n3:45 p.m.\nDr. Karen Cox: The Rhythm Nightclub Fire\n5:30-7:45 p.m.\nBenefit Gala Reception: Magnolia Hall\, ticketed event\n$60—proceeds from this event go toward support of\nfuture NLCC Conferences; see ticketed event flyer for\nmore information. \nNatchez Convention Center—211 Main Street—Natchez Mississippi: All events at the NCC are free and open to the public \n 
URL:https://www.mshumanities.org/event/30th-annual-natchez-literary-cinema-celebration-great-river-road/
LOCATION:Natchez Convention Center\, 211 Main Street\, Natchez\, MS\, 39120
END:VEVENT
BEGIN:VEVENT
DTSTART;TZID=America/Chicago:20190222T090000
DTEND;TZID=America/Chicago:20190222T120000
DTSTAMP:20260421T080314
CREATED:20190124T215054Z
LAST-MODIFIED:20190124T215054Z
UID:11155-1550826000-1550836800@www.mshumanities.org
SUMMARY:SB: Parallels of Southern Storytelling and Folktales from Around the World
DESCRIPTION:Diane uses the art of storytelling to uncover folktales from the south\, oral history from Mississippi\, often paralleling these story motifs with folktales from around the world. \nPresentation will take place in the Lorena Smith building. \nSpeakers Expertise:\nDiane Williams is a neo-griot\, along the lines of the story­tellers from times gone by when oral historians were crucial to maintaining black folks’ history because book publishers didn’t believe the history worth chronicling. Williams is also a quilter\, an artistry befitting for a woman known for paying homage to the past. Williams uses silk yarns\, beads\, stones and vibrant colors to make traditional quilts with Motherland inspiration to tell stories of strength\, resilience and hope.
URL:https://www.mshumanities.org/event/sb-parallels-southern-storytelling-folktales-around-world/
LOCATION:William Carey University\, 710 William Carey Parkway\, Hattiesburg\, MS\, 39401
END:VEVENT
BEGIN:VEVENT
DTSTART;TZID=America/Chicago:20190222T100000
DTEND;TZID=America/Chicago:20190222T110000
DTSTAMP:20260421T080314
CREATED:20190108T163634Z
LAST-MODIFIED:20190108T163634Z
UID:11126-1550829600-1550833200@www.mshumanities.org
SUMMARY:HTA: "Coffee Spoons and Cell Phones"
DESCRIPTION:Humanities Teacher Award winner Morgan Boothe presents her public lecture\, “Coffee Spoons and Cell Phones: Isolation and Loneliness in T.S. Eliot’s “The Love Song of J. Alfred Prufrock” \n\n\n\n\n\nBoothe will be discussing Prufrock’s lack of social interaction as a means of control. In trying to control his life\, he has lost all means of communication\, and we should learn how vital face to face contact becomes to our existence.
URL:https://www.mshumanities.org/event/hta-coffee-spoons-cell-phones/
LOCATION:Meridian Community College\, 910 Hwy 19 N\, Meridian\, MS\, 39307
END:VEVENT
BEGIN:VEVENT
DTSTART;TZID=America/Chicago:20190222T110000
DTEND;TZID=America/Chicago:20190222T120000
DTSTAMP:20260421T080314
CREATED:20190108T214839Z
LAST-MODIFIED:20190108T214839Z
UID:11139-1550833200-1550836800@www.mshumanities.org
SUMMARY:HTA: History of Wesson and Copiah-Lincoln Community College
DESCRIPTION:Humanities Teacher Award winner Kyle Britt (Copiah-Lincoln Community College) will present his public lecture\, “History of Wesson and Copiah-Lincoln Community College.” Reception to follow. \nThis presentation will be on the history of Wesson\, Mississippi and Copiah-Lincoln Community College from mills to modern times. It will examine the boom times of the late 1800’s Mississippi Mills to its decline then examine how public education became an important part of Wesson. Describing establishment of Copiah-Lincoln Agricultural High School and eventually developing into Copiah-Lincoln Community College that has help educate students for the past century.
URL:https://www.mshumanities.org/event/hta-history-wesson-copiah-lincoln-community-college/
LOCATION:Smith Hall-Room 101\, H F McCarty Drive\, Wesson\, MS\, 39191
END:VEVENT
BEGIN:VEVENT
DTSTART;TZID=America/Chicago:20190222T180000
DTEND;TZID=America/Chicago:20190222T200000
DTSTAMP:20260421T080314
CREATED:20190117T165337Z
LAST-MODIFIED:20190117T165337Z
UID:11151-1550858400-1550865600@www.mshumanities.org
SUMMARY:"Baltimore" Performance & Discussion
DESCRIPTION:The Sunflower County Freedom Project youth drama will present Baltimore\, a play by Kirsten Greenridge. Baltimore focuses on a group of college students whose lvies are shaken when someone draws an offensive picture of the wall of their residence hall. The play shines light on issues of equality\, racism\, community\, and the question of who gets to belong where. After the performance\, the students and audience will participate in a facilitated conversation.
URL:https://www.mshumanities.org/event/baltimore-performance-discussion-4/
LOCATION:Alpha Kappa Alpha\, 718 Main Street\, Greenville\, MS\, 38701
END:VEVENT
END:VCALENDAR