BEGIN:VCALENDAR
VERSION:2.0
PRODID:-//Mississippi Humanities Council - ECPv6.15.18//NONSGML v1.0//EN
CALSCALE:GREGORIAN
METHOD:PUBLISH
X-WR-CALNAME:Mississippi Humanities Council
X-ORIGINAL-URL:https://www.mshumanities.org
X-WR-CALDESC:Events for Mississippi Humanities Council
REFRESH-INTERVAL;VALUE=DURATION:PT1H
X-Robots-Tag:noindex
X-PUBLISHED-TTL:PT1H
BEGIN:VTIMEZONE
TZID:America/Chicago
BEGIN:DAYLIGHT
TZOFFSETFROM:-0600
TZOFFSETTO:-0500
TZNAME:CDT
DTSTART:20180311T080000
END:DAYLIGHT
BEGIN:STANDARD
TZOFFSETFROM:-0500
TZOFFSETTO:-0600
TZNAME:CST
DTSTART:20181104T070000
END:STANDARD
BEGIN:DAYLIGHT
TZOFFSETFROM:-0600
TZOFFSETTO:-0500
TZNAME:CDT
DTSTART:20190310T080000
END:DAYLIGHT
BEGIN:STANDARD
TZOFFSETFROM:-0500
TZOFFSETTO:-0600
TZNAME:CST
DTSTART:20191103T070000
END:STANDARD
BEGIN:DAYLIGHT
TZOFFSETFROM:-0600
TZOFFSETTO:-0500
TZNAME:CDT
DTSTART:20200308T080000
END:DAYLIGHT
BEGIN:STANDARD
TZOFFSETFROM:-0500
TZOFFSETTO:-0600
TZNAME:CST
DTSTART:20201101T070000
END:STANDARD
END:VTIMEZONE
BEGIN:VEVENT
DTSTART;VALUE=DATE:20190125
DTEND;VALUE=DATE:20190309
DTSTAMP:20260421T080349
CREATED:20180411T190725Z
LAST-MODIFIED:20180411T190725Z
UID:10970-1548374400-1552089599@www.mshumanities.org
SUMMARY:Water/Ways in Columbus
DESCRIPTION:The Tennessee-Tombigbee Waterway Transportation Museum will host Water/Ways\, a traveling exhibit from the Smithsonian Institution\, from January 25 through March 8. \nWater/Ways is a traveling exhibit offered by the Museum on Main Street division of the Smithsonian Institution. It consists of five free-standing display units incorporating photographs and text as well as numerous interactives ranging from basic flip charts to state of the art audio and video devices. Requiring a display area of a minimum of 650 sq. ft.\, the exhibit is designed for smaller venues\, thereby achieving the goal of “bringing the Smithsonian to Small Town America.” \nWater/Ways explores the endless motion of the water cycle\, water’s effect on landscape\, settlement and migration\, and its impact on culture and spirituality. It looks at how political and economic planning have long been affected by access to water and control of water resources. Human creativity and resourcefulness provide new ways of protecting water resources and renewing respect for the natural environment.
URL:https://www.mshumanities.org/event/water-ways-columbus/
LOCATION:Tennessee-Tombigbee Waterway Transportation Museum\, 318 7th St. N\, Columbus\, MS\, 39703\, United States
END:VEVENT
BEGIN:VEVENT
DTSTART;TZID=America/Chicago:20190225T100000
DTEND;TZID=America/Chicago:20190225T110000
DTSTAMP:20260421T080349
CREATED:20190108T181330Z
LAST-MODIFIED:20190108T181330Z
UID:11132-1551088800-1551092400@www.mshumanities.org
SUMMARY:HTA: Making as a Revolutionary Act: Black women Artist and the Forging of New Societies
DESCRIPTION:Humanities Teacher Award winner Phoenix Savage (Tougaloo College) will present her public lecture titled\, “Making as a Revolutionary Act: Black women Artist and the Forging of New Societies.” Reception to follow. \nThe lecture will look at the lives and works of Edmonia Lewis\, Augusta Savage\, and Clementine Hunter. Each woman in her own right selected the revolutionary act to be an artist. And in creating something from nothing\, a change occurred\, connecting each woman to present day mores in which we see the world around us.
URL:https://www.mshumanities.org/event/hta-making-revolutionary-act-black-women-artist-forging-new-societies/
LOCATION:Bennie G. Thompson Building\, 500 West County Line Road\, Jackson\, MS\, 39174\, United States
END:VEVENT
BEGIN:VEVENT
DTSTART;TZID=America/Chicago:20190225T173000
DTEND;TZID=America/Chicago:20190225T190000
DTSTAMP:20260421T080349
CREATED:20190128T160826Z
LAST-MODIFIED:20190128T160826Z
UID:11160-1551115800-1551121200@www.mshumanities.org
SUMMARY:Representing the Experiences of Women: The Changeling
DESCRIPTION:The University of Southern Mississippi Gulf Park Campus premieres its spring 2019 Cultural Arts Series\, “Representing the Experiences of Women\, From the English Renaissance to Right Now.” On February 25th\, Atlanta-based Resurgens Theatre Company returns to the Gulf Park campus to present Rowley and Middleton’s The Changeling\, an English Renaissance tragedy of profound contemporary relevance. \n \n 
URL:https://www.mshumanities.org/event/representing-experiences-women-changeling/
LOCATION:Fleming Education Center\, USM Gulf Coast Campus\, Long Beach\, MS\, 39560
END:VEVENT
END:VCALENDAR