BEGIN:VCALENDAR
VERSION:2.0
PRODID:-//Mississippi Humanities Council - ECPv6.15.18//NONSGML v1.0//EN
CALSCALE:GREGORIAN
METHOD:PUBLISH
X-ORIGINAL-URL:https://www.mshumanities.org
X-WR-CALDESC:Events for Mississippi Humanities Council
REFRESH-INTERVAL;VALUE=DURATION:PT1H
X-Robots-Tag:noindex
X-PUBLISHED-TTL:PT1H
BEGIN:VTIMEZONE
TZID:America/Chicago
BEGIN:DAYLIGHT
TZOFFSETFROM:-0600
TZOFFSETTO:-0500
TZNAME:CDT
DTSTART:20180311T080000
END:DAYLIGHT
BEGIN:STANDARD
TZOFFSETFROM:-0500
TZOFFSETTO:-0600
TZNAME:CST
DTSTART:20181104T070000
END:STANDARD
BEGIN:DAYLIGHT
TZOFFSETFROM:-0600
TZOFFSETTO:-0500
TZNAME:CDT
DTSTART:20190310T080000
END:DAYLIGHT
BEGIN:STANDARD
TZOFFSETFROM:-0500
TZOFFSETTO:-0600
TZNAME:CST
DTSTART:20191103T070000
END:STANDARD
BEGIN:DAYLIGHT
TZOFFSETFROM:-0600
TZOFFSETTO:-0500
TZNAME:CDT
DTSTART:20200308T080000
END:DAYLIGHT
BEGIN:STANDARD
TZOFFSETFROM:-0500
TZOFFSETTO:-0600
TZNAME:CST
DTSTART:20201101T070000
END:STANDARD
END:VTIMEZONE
BEGIN:VEVENT
DTSTART;VALUE=DATE:20190125
DTEND;VALUE=DATE:20190309
DTSTAMP:20260421T080603
CREATED:20180411T190725Z
LAST-MODIFIED:20180411T190725Z
UID:10970-1548374400-1552089599@www.mshumanities.org
SUMMARY:Water/Ways in Columbus
DESCRIPTION:The Tennessee-Tombigbee Waterway Transportation Museum will host Water/Ways\, a traveling exhibit from the Smithsonian Institution\, from January 25 through March 8. \nWater/Ways is a traveling exhibit offered by the Museum on Main Street division of the Smithsonian Institution. It consists of five free-standing display units incorporating photographs and text as well as numerous interactives ranging from basic flip charts to state of the art audio and video devices. Requiring a display area of a minimum of 650 sq. ft.\, the exhibit is designed for smaller venues\, thereby achieving the goal of “bringing the Smithsonian to Small Town America.” \nWater/Ways explores the endless motion of the water cycle\, water’s effect on landscape\, settlement and migration\, and its impact on culture and spirituality. It looks at how political and economic planning have long been affected by access to water and control of water resources. Human creativity and resourcefulness provide new ways of protecting water resources and renewing respect for the natural environment.
URL:https://www.mshumanities.org/event/water-ways-columbus/
LOCATION:Tennessee-Tombigbee Waterway Transportation Museum\, 318 7th St. N\, Columbus\, MS\, 39703\, United States
END:VEVENT
BEGIN:VEVENT
DTSTART;TZID=America/Chicago:20190228T083000
DTEND;TZID=America/Chicago:20190228T093000
DTSTAMP:20260421T080603
CREATED:20190212T220309Z
LAST-MODIFIED:20190212T220309Z
UID:11166-1551342600-1551346200@www.mshumanities.org
SUMMARY:SB: Nursing Care in the 1878 Yellow Fever Epidemic
DESCRIPTION:The 1878 yellow fever epidemic in Mississippi resulted in an expansion of nursing care and the recognition of the importance of nurses in disaster care. Much nursing care was provided by family members\, but those victims who did not have the advantage of home care often received nursing care from others. Many of the nurses were from the Sisters of Charity and Sisters of Mercy\, while others were from the Howard Association. These nurses were vital to the recovery of many who had no one else to care for them as the epidemic caused panic among the citizenry and many fled the disease. Because of the severity of the epidemic\, race relations also underwent dramatic changes as African Americans nursed white Mississippians in a post-Reconstruction period fraught with racial tension and violence. \nSpeakers Expertise:\nDeanne Stephens Nuwer is Associate Professor of History at the University of Southern Mississippi.
URL:https://www.mshumanities.org/event/sb-nursing-care-1878-yellow-fever-epidemic/
LOCATION:Nelson Student Union\, 2500 North State Street\, Jackson\, MS\, 39560
END:VEVENT
BEGIN:VEVENT
DTSTART;TZID=America/Chicago:20190228T180000
DTEND;TZID=America/Chicago:20190228T200000
DTSTAMP:20260421T080603
CREATED:20181105T172315Z
LAST-MODIFIED:20181105T172315Z
UID:11084-1551376800-1551384000@www.mshumanities.org
SUMMARY:"Back in the Day" Black History Celebration
DESCRIPTION:Annual ecumenical Black History Celebration. 2019 event features Dr. Darius D. Prier of Duquesne University\, presenting “Who Got Next: Holding Hostage Hope in the Imagination of Next Generation Leadership.”
URL:https://www.mshumanities.org/event/back-day-black-history-celebration-2/
LOCATION:New Hope Baptist Church\, 5202 Watkins Dr.\, Jackson\, MS\, 39206
END:VEVENT
END:VCALENDAR