BEGIN:VCALENDAR
VERSION:2.0
PRODID:-//Mississippi Humanities Council - ECPv6.15.18//NONSGML v1.0//EN
CALSCALE:GREGORIAN
METHOD:PUBLISH
X-WR-CALNAME:Mississippi Humanities Council
X-ORIGINAL-URL:https://www.mshumanities.org
X-WR-CALDESC:Events for Mississippi Humanities Council
REFRESH-INTERVAL;VALUE=DURATION:PT1H
X-Robots-Tag:noindex
X-PUBLISHED-TTL:PT1H
BEGIN:VTIMEZONE
TZID:America/Chicago
BEGIN:DAYLIGHT
TZOFFSETFROM:-0600
TZOFFSETTO:-0500
TZNAME:CDT
DTSTART:20180311T080000
END:DAYLIGHT
BEGIN:STANDARD
TZOFFSETFROM:-0500
TZOFFSETTO:-0600
TZNAME:CST
DTSTART:20181104T070000
END:STANDARD
BEGIN:DAYLIGHT
TZOFFSETFROM:-0600
TZOFFSETTO:-0500
TZNAME:CDT
DTSTART:20190310T080000
END:DAYLIGHT
BEGIN:STANDARD
TZOFFSETFROM:-0500
TZOFFSETTO:-0600
TZNAME:CST
DTSTART:20191103T070000
END:STANDARD
BEGIN:DAYLIGHT
TZOFFSETFROM:-0600
TZOFFSETTO:-0500
TZNAME:CDT
DTSTART:20200308T080000
END:DAYLIGHT
BEGIN:STANDARD
TZOFFSETFROM:-0500
TZOFFSETTO:-0600
TZNAME:CST
DTSTART:20201101T070000
END:STANDARD
END:VTIMEZONE
BEGIN:VEVENT
DTSTART;VALUE=DATE:20190125
DTEND;VALUE=DATE:20190309
DTSTAMP:20260421T093428
CREATED:20180411T190725Z
LAST-MODIFIED:20180411T190725Z
UID:10970-1548374400-1552089599@www.mshumanities.org
SUMMARY:Water/Ways in Columbus
DESCRIPTION:The Tennessee-Tombigbee Waterway Transportation Museum will host Water/Ways\, a traveling exhibit from the Smithsonian Institution\, from January 25 through March 8. \nWater/Ways is a traveling exhibit offered by the Museum on Main Street division of the Smithsonian Institution. It consists of five free-standing display units incorporating photographs and text as well as numerous interactives ranging from basic flip charts to state of the art audio and video devices. Requiring a display area of a minimum of 650 sq. ft.\, the exhibit is designed for smaller venues\, thereby achieving the goal of “bringing the Smithsonian to Small Town America.” \nWater/Ways explores the endless motion of the water cycle\, water’s effect on landscape\, settlement and migration\, and its impact on culture and spirituality. It looks at how political and economic planning have long been affected by access to water and control of water resources. Human creativity and resourcefulness provide new ways of protecting water resources and renewing respect for the natural environment.
URL:https://www.mshumanities.org/event/water-ways-columbus/
LOCATION:Tennessee-Tombigbee Waterway Transportation Museum\, 318 7th St. N\, Columbus\, MS\, 39703\, United States
END:VEVENT
BEGIN:VEVENT
DTSTART;TZID=America/Chicago:20190305T103000
DTEND;TZID=America/Chicago:20190305T113000
DTSTAMP:20260421T093428
CREATED:20190109T165638Z
LAST-MODIFIED:20190109T165638Z
UID:11143-1551781800-1551785400@www.mshumanities.org
SUMMARY:HTA: Flow and Music
DESCRIPTION:Humanities Teacher Award winner Dr. Lindsay Keay (Jones County Junior College) will present her public lecture\, “Flow and Music.” \nThe term flow can be described as a state of heightened concentration and arousal where a balance of skill and challenge cause someone to be so absorbed in a task that everything else seems to disappear. The result of the experience can be one of immense enjoyment and satisfaction. This presentation discusses how musical activities lend themselves well to the flow experience due to the multifaceted tasks of listening\, practicing\, performing\, or teaching music.
URL:https://www.mshumanities.org/event/hta-flow-music/
LOCATION:M.P. Bush Fine Arts Auditorium\, Bush Drive\, Ellisville\, MS\, 39437
END:VEVENT
BEGIN:VEVENT
DTSTART;TZID=America/Chicago:20190305T190000
DTEND;TZID=America/Chicago:20190305T200000
DTSTAMP:20260421T093428
CREATED:20190107T211731Z
LAST-MODIFIED:20190107T211731Z
UID:11122-1551812400-1551816000@www.mshumanities.org
SUMMARY:HTA: Bulgarian Art Song: History\, Development\, and Performance
DESCRIPTION:Humanities Teacher Award winner Dr. Jamie Dahman (Delta State University) will present a public lecture\, “Bulgarian Art Song: History\, Development\, and Performance” \n\n\n \n\n\nBulgarian Art Song\, largely unexplored and unperformed in the United States\, has a rich tradition and history and deserves a place among the standard repertoires of Classical Art Song. On Tuesday\, March 5\, 2019 at 7 p.m.\, Dr. Jamie Dahman\, a Fulbright alumnus who studied in Bulgaria\, will present a lecture-recital at Delta State University on the history and development of the Bulgarian Art Song.
URL:https://www.mshumanities.org/event/hta-bulgarian-art-song-history-development-performance/
LOCATION:William H. Zeigel Music Center\, 1003 W Sunflower Rd\, Cleveland\, MS\, 38733
END:VEVENT
END:VCALENDAR