BEGIN:VCALENDAR
VERSION:2.0
PRODID:-//Mississippi Humanities Council - ECPv6.15.18//NONSGML v1.0//EN
CALSCALE:GREGORIAN
METHOD:PUBLISH
X-WR-CALNAME:Mississippi Humanities Council
X-ORIGINAL-URL:https://www.mshumanities.org
X-WR-CALDESC:Events for Mississippi Humanities Council
REFRESH-INTERVAL;VALUE=DURATION:PT1H
X-Robots-Tag:noindex
X-PUBLISHED-TTL:PT1H
BEGIN:VTIMEZONE
TZID:America/Chicago
BEGIN:DAYLIGHT
TZOFFSETFROM:-0600
TZOFFSETTO:-0500
TZNAME:CDT
DTSTART:20180311T080000
END:DAYLIGHT
BEGIN:STANDARD
TZOFFSETFROM:-0500
TZOFFSETTO:-0600
TZNAME:CST
DTSTART:20181104T070000
END:STANDARD
BEGIN:DAYLIGHT
TZOFFSETFROM:-0600
TZOFFSETTO:-0500
TZNAME:CDT
DTSTART:20190310T080000
END:DAYLIGHT
BEGIN:STANDARD
TZOFFSETFROM:-0500
TZOFFSETTO:-0600
TZNAME:CST
DTSTART:20191103T070000
END:STANDARD
BEGIN:DAYLIGHT
TZOFFSETFROM:-0600
TZOFFSETTO:-0500
TZNAME:CDT
DTSTART:20200308T080000
END:DAYLIGHT
BEGIN:STANDARD
TZOFFSETFROM:-0500
TZOFFSETTO:-0600
TZNAME:CST
DTSTART:20201101T070000
END:STANDARD
END:VTIMEZONE
BEGIN:VEVENT
DTSTART;TZID=America/Chicago:20190319T130000
DTEND;TZID=America/Chicago:20190319T140000
DTSTAMP:20260421T093428
CREATED:20190315T180613Z
LAST-MODIFIED:20190315T180613Z
UID:11183-1553000400-1553004000@www.mshumanities.org
SUMMARY:HTA: William Blake
DESCRIPTION:On March 19\, William Carey University’s Humanities Teacher Award winner Dr. Marsha Newman will present a program on William Blake. The program will be free an open to the public\, is part of the MHC’s Humanities Teacher Award program to recognize outstanding humanities teachers at Mississippi’s colleges and universities. \nThe program will take place in the Fail-Asbury Nursing Building. A reception will follow.
URL:https://www.mshumanities.org/event/hta-william-blake/
LOCATION:William Carey University\, 710 William Carey Parkway\, Hattiesburg\, MS\, 39401
END:VEVENT
BEGIN:VEVENT
DTSTART;TZID=America/Chicago:20190319T170000
DTEND;TZID=America/Chicago:20190319T180000
DTSTAMP:20260421T093428
CREATED:20190108T215814Z
LAST-MODIFIED:20190108T215814Z
UID:11141-1553014800-1553018400@www.mshumanities.org
SUMMARY:HTA: Overlooked No More: Women's History in the Classroom and Beyond
DESCRIPTION:Humanities Teacher Award winner Dr. Allison Abra (University of Southern Mississippi) will present her public lecture\, “Overlooked No More: Women’s History in the Classroom and Beyond.” Reception to follow. \nThis lecture will explore strategies for restoring the voices and experiences of “overlooked” women in the history classroom and historical scholarship. It will reflect on how to negotiate a balance between making women a central part of the historical narrative\, and avoiding ghettoizing their experiences as separate and distinctive. In particular\, the lecture will use as a case study the history of the British women who served as secret agents in Nazi-occupied Europe during World War II\, in order to explore the mechanisms by which some women get remembered by history\, while others get forgotten.
URL:https://www.mshumanities.org/event/hta-overlooked-no-womens-history-classroom-beyond/
LOCATION:USM Liberal Arts Building\, 114 N. 31st Ave.\, Hattiesburg\, MS\, 39401
END:VEVENT
BEGIN:VEVENT
DTSTART;TZID=America/Chicago:20190319T173000
DTEND;TZID=America/Chicago:20190319T190000
DTSTAMP:20260421T093428
CREATED:20190313T123859Z
LAST-MODIFIED:20190313T123859Z
UID:11180-1553016600-1553022000@www.mshumanities.org
SUMMARY:Ideas on Tap: Locked Out: Criminal Justice in Mississippi
DESCRIPTION:On March 19\, join the Mississippi Humanities Council for the second in a two-part series on criminal justice in Mississippi. \nThe March 19 program\, “Locked Out: Criminal Justice in Mississippi” will examine the process of re-entry back into society for formerly-incarcerated individuals. Hear from former Parchman inmate Eddie Spencer\, Mississippi Center for Justice Advocacy Director Beth Orlansky\, and director of the Incarcerated Veterans Program at Central Mississippi Correctional Facility B.R. Hawkins. Journalist Ko Bragg will moderate. \nAs always\, snacks and great conversation are on us\, and drinks are on you.
URL:https://www.mshumanities.org/event/ideas-tap-locked-criminal-justice-mississippi-2/
LOCATION:Hal & Mal’s\, 200 Commerce Street\, Jackson\, MS\, 39201\, United States
END:VEVENT
BEGIN:VEVENT
DTSTART;TZID=America/Chicago:20190319T183000
DTEND;TZID=America/Chicago:20190319T193000
DTSTAMP:20260421T093428
CREATED:20190104T185929Z
LAST-MODIFIED:20190104T185929Z
UID:11118-1553020200-1553023800@www.mshumanities.org
SUMMARY:The Struggle Continues: Equity in Education
DESCRIPTION:“The Struggle Continues: Equity in Education” is a series of three lectures that centers on the history of equity in public education. The series will examine today’s political climate and the role of the federal\, state\, and local governments in education\, and will consider the ways citizens can play a role in equity in education. The March 19 lecture will be presented by William Coleman of the Hancock County Historical Society\, who will examine the experiences of African Americans\, Asians and Hispanics in Hancock\, Harrison\, and Jackson counties\, in their pursuit of education.
URL:https://www.mshumanities.org/event/struggle-continues-equity-education-3/
LOCATION:Hancock Performing Arts Center\, 7140 Stennis Airport Rd\, Kiln\, MS\, 39556\, United States
ORGANIZER;CN="Hancock Performing Arts Center":MAILTO:info@hancockpac.com
END:VEVENT
END:VCALENDAR