BEGIN:VCALENDAR
VERSION:2.0
PRODID:-//Mississippi Humanities Council - ECPv6.15.18//NONSGML v1.0//EN
CALSCALE:GREGORIAN
METHOD:PUBLISH
X-WR-CALNAME:Mississippi Humanities Council
X-ORIGINAL-URL:https://www.mshumanities.org
X-WR-CALDESC:Events for Mississippi Humanities Council
REFRESH-INTERVAL;VALUE=DURATION:PT1H
X-Robots-Tag:noindex
X-PUBLISHED-TTL:PT1H
BEGIN:VTIMEZONE
TZID:America/Chicago
BEGIN:DAYLIGHT
TZOFFSETFROM:-0600
TZOFFSETTO:-0500
TZNAME:CDT
DTSTART:20180311T080000
END:DAYLIGHT
BEGIN:STANDARD
TZOFFSETFROM:-0500
TZOFFSETTO:-0600
TZNAME:CST
DTSTART:20181104T070000
END:STANDARD
BEGIN:DAYLIGHT
TZOFFSETFROM:-0600
TZOFFSETTO:-0500
TZNAME:CDT
DTSTART:20190310T080000
END:DAYLIGHT
BEGIN:STANDARD
TZOFFSETFROM:-0500
TZOFFSETTO:-0600
TZNAME:CST
DTSTART:20191103T070000
END:STANDARD
BEGIN:DAYLIGHT
TZOFFSETFROM:-0600
TZOFFSETTO:-0500
TZNAME:CDT
DTSTART:20200308T080000
END:DAYLIGHT
BEGIN:STANDARD
TZOFFSETFROM:-0500
TZOFFSETTO:-0600
TZNAME:CST
DTSTART:20201101T070000
END:STANDARD
END:VTIMEZONE
BEGIN:VEVENT
DTSTART;TZID=America/Chicago:20190321T110000
DTEND;TZID=America/Chicago:20190321T120000
DTSTAMP:20260421T093835
CREATED:20181206T213128Z
LAST-MODIFIED:20181206T213128Z
UID:11103-1553166000-1553169600@www.mshumanities.org
SUMMARY:SB: The Historic Journey of African American Quilters
DESCRIPTION:Diane Williams\, storyteller and fiber artist\, begins her presentation with a discussion of Kente cloth weaved fibers of West Africa and moves on to utilitarian quilts made by African slaves in America who sewed for their owners. She provides a reflective look at how the designs of Underground Railroad quilts relate to storytelling\, and explores the works of Harriet Powers (1837-1910) and three other female fiber artists. Powers was a model for women quilters of the late 19th-early 20th centuries. In her discussion of 20th and 21st century quilting\, she uses the work of Faith Ringgold\, Carolyn L. Mazloomi and Mississippi quilter/fiber artist Gwen Magee. Williams uses her storytelling skills to explore how images — in pictures\, but also in quilts — can guide us to a place of tolerance\, empathy and sensitivity. \nSpeakers Expertise:\nDiane Williams is a neo-griot\, along the lines of the story­tellers from times gone by when oral historians were crucial to maintaining black folks’ history because book publishers didn’t believe the history worth chronicling. Williams is also a quilter\, an artistry befitting for a woman known for paying homage to the past. Williams uses silk yarns\, beads\, stones and vibrant colors to make traditional quilts with Motherland inspiration to tell stories of strength\, resilience and hope.
URL:https://www.mshumanities.org/event/sb-historic-journey-african-american-quilters/
LOCATION:Country Club of Jackson\, 345 St. Andrew's Drive\, Jackson\, MS\, 39211
ORGANIZER;CN="Annandale DAR":MAILTO:dcannon@gasequipment.com
END:VEVENT
BEGIN:VEVENT
DTSTART;TZID=America/Chicago:20190321T150000
DTEND;TZID=America/Chicago:20190321T160000
DTSTAMP:20260421T093835
CREATED:20190108T220154Z
LAST-MODIFIED:20190108T220154Z
UID:11142-1553180400-1553184000@www.mshumanities.org
SUMMARY:HTA: Literature in Relief: Healing in the Human Spirit
DESCRIPTION:Humanities Teacher Award winner Ginny Leonard (East Mississippi Community College) will present her public lecture\, “Literature in Relief: Healing in the Human Spirit.” Reception to follow. \nThe strength of the written word does not rely on simple fact-giving or storytelling. Instead\, the true power of literature rests in its ability to soothe and heal the mind\, body\, and soul of humankind. This presentation will explore the many ways literature of all sorts relieves the pressures of the human condition. 
URL:https://www.mshumanities.org/event/hta-literature-relief-healing-human-spirit/
LOCATION:Golden Triangle Lyceum\, 8731 S. Frontage Rd.\, Mayhew\, MS\, 39753
END:VEVENT
BEGIN:VEVENT
DTSTART;TZID=America/Chicago:20190321T170000
DTEND;TZID=America/Chicago:20190321T183000
DTSTAMP:20260421T093835
CREATED:20190313T124213Z
LAST-MODIFIED:20190313T124213Z
UID:11181-1553187600-1553193000@www.mshumanities.org
SUMMARY:Ideas on Tap Oxford: The Future of Journalism
DESCRIPTION:On March 21\, join the Mississippi Humanities Council and the Overby Center for Southern Journalism and Politics at the Annex at Rafter’s Music and Food in Oxford for “Ideas on Tap: The Future of Journalism.” \nThis special Oxford edition of Ideas on Tap will focus on the role of community journalism in our society and how economic restraints affect how journalism is produced and disseminated. Hear from panelists R.L. Nave (Mississippi Today)\, Cynthia Joyce (University of Mississippi School of Journalism and New Media)\, and Elizabeth Zaremba Walters (Daily Journal). Charles L. Overby will moderate. \nThis program is supported by the The Andrew W. Mellon Foundation’s “Democracy and the Informed Citizen” initiative\, in partnership with the Federation of State Humanities Councils. \nThe MHC will provide appetizers and attendees are welcome to purchase their own drinks. As always\, this event is free and open to the public.
URL:https://www.mshumanities.org/event/ideas-tap-oxford-future-journalism/
LOCATION:Rafters\, 1002 Jackson Avenue East\, Oxford\, 38655\, United States
END:VEVENT
BEGIN:VEVENT
DTSTART;TZID=America/Chicago:20190321T190000
DTEND;TZID=America/Chicago:20190321T200000
DTSTAMP:20260421T093835
CREATED:20190108T214354Z
LAST-MODIFIED:20190108T214354Z
UID:11138-1553194800-1553198400@www.mshumanities.org
SUMMARY:HTA: Fallen Ministers and Reformed Seductresses...
DESCRIPTION:Humanities Teacher Award winner Dr. Mikki Galliher (Blue Mountain College) will present her public lecture titled\, “Fallen Ministers and Reformed Seductresses in Nathaniel Hawthorne’s The Scarlet Letter and Alice Cary’s Hagar\, A Story of Today.” Reception to follow. \nNathaniel Hawthorne’s classic text has much in common with another novel\, Hagar\, A Story for Today by Hawthorne’s contemporary Alice Cary.  Both novels feature a young woman who is seduced\, impregnated\, and then betrayed by her lover.  However\, while Hawthorne’s novel is a beloved classic studied in high school and college classrooms\, Cary’s work has fallen into obscurity\, unchampioned even by most feminist recovery projects despite Cary’s popularity and influence during her lifetime.  I posit that much of the reason for the disparity in reception lies in the way that Hawthorne’s text elicits empathy for the male seducer\, while Cary does not.
URL:https://www.mshumanities.org/event/hta-fallen-ministers-reformed-seductresses/
LOCATION:Garrett Auditorium\, 201 W Main Street\, Blue Mountain\, MS\, 38610
END:VEVENT
END:VCALENDAR