BEGIN:VCALENDAR
VERSION:2.0
PRODID:-//Mississippi Humanities Council - ECPv6.15.18//NONSGML v1.0//EN
CALSCALE:GREGORIAN
METHOD:PUBLISH
X-ORIGINAL-URL:https://www.mshumanities.org
X-WR-CALDESC:Events for Mississippi Humanities Council
REFRESH-INTERVAL;VALUE=DURATION:PT1H
X-Robots-Tag:noindex
X-PUBLISHED-TTL:PT1H
BEGIN:VTIMEZONE
TZID:America/Chicago
BEGIN:DAYLIGHT
TZOFFSETFROM:-0600
TZOFFSETTO:-0500
TZNAME:CDT
DTSTART:20180311T080000
END:DAYLIGHT
BEGIN:STANDARD
TZOFFSETFROM:-0500
TZOFFSETTO:-0600
TZNAME:CST
DTSTART:20181104T070000
END:STANDARD
BEGIN:DAYLIGHT
TZOFFSETFROM:-0600
TZOFFSETTO:-0500
TZNAME:CDT
DTSTART:20190310T080000
END:DAYLIGHT
BEGIN:STANDARD
TZOFFSETFROM:-0500
TZOFFSETTO:-0600
TZNAME:CST
DTSTART:20191103T070000
END:STANDARD
BEGIN:DAYLIGHT
TZOFFSETFROM:-0600
TZOFFSETTO:-0500
TZNAME:CDT
DTSTART:20200308T080000
END:DAYLIGHT
BEGIN:STANDARD
TZOFFSETFROM:-0500
TZOFFSETTO:-0600
TZNAME:CST
DTSTART:20201101T070000
END:STANDARD
END:VTIMEZONE
BEGIN:VEVENT
DTSTART;VALUE=DATE:20190404
DTEND;VALUE=DATE:20190407
DTSTAMP:20260421T110941
CREATED:20181105T165208Z
LAST-MODIFIED:20181105T165208Z
UID:11083-1554336000-1554595199@www.mshumanities.org
SUMMARY:Behind the Big House
DESCRIPTION:The Behind The Big House Tour is uncovering the truth about slavery in antebellum Holly Springs.  Re-enactors channel the lives of enslaved people in the houses where they actually lived. They demonstrate the labor of slaves in the kitchen\,  the yard\, and the big house.
URL:https://www.mshumanities.org/event/behind-big-house/
LOCATION:Hugh Craft House\, 184 S. Memphis St.\, Holly Springs\, MS\, 38635
END:VEVENT
BEGIN:VEVENT
DTSTART;TZID=America/Chicago:20190405T173000
DTEND;TZID=America/Chicago:20190405T200000
DTSTAMP:20260421T110941
CREATED:20190318T132617Z
LAST-MODIFIED:20190318T132617Z
UID:11184-1554485400-1554494400@www.mshumanities.org
SUMMARY:MHC Public Humanities Awards and Gala
DESCRIPTION:The Mississippi Humanities Council will hold its Public Humanities Awards and Gala April 5\, 2019\, at the Old Capitol Museum in Jackson. The awards recognize outstanding work by Mississippians in bringing the insights of the humanities to public audiences. \nHelp celebrate awardees Patti Carr Black\, Winterville Mounds\, Mississippi Today\, Dr. Stephanie Clanton Rolph\, Dr. Brinda Fuller Willis\, and our 32 Humanities Teacher Award winners by purchasing a ticket or sponsorship here: http://mshumanities.org/program/public-humanities-awards/ \nThank you to our event sponsors Trustmark\, Entergy Mississippi\, and BancorpSouth for their generous financial support.
URL:https://www.mshumanities.org/event/mhc-public-humanities-awards-gala/
LOCATION:Old Capitol Museum\, 100 South State Street\, Jackson \, MS\, 39201
END:VEVENT
END:VCALENDAR