BEGIN:VCALENDAR
VERSION:2.0
PRODID:-//Mississippi Humanities Council - ECPv6.15.18//NONSGML v1.0//EN
CALSCALE:GREGORIAN
METHOD:PUBLISH
X-WR-CALNAME:Mississippi Humanities Council
X-ORIGINAL-URL:https://www.mshumanities.org
X-WR-CALDESC:Events for Mississippi Humanities Council
REFRESH-INTERVAL;VALUE=DURATION:PT1H
X-Robots-Tag:noindex
X-PUBLISHED-TTL:PT1H
BEGIN:VTIMEZONE
TZID:America/Chicago
BEGIN:DAYLIGHT
TZOFFSETFROM:-0600
TZOFFSETTO:-0500
TZNAME:CDT
DTSTART:20180311T080000
END:DAYLIGHT
BEGIN:STANDARD
TZOFFSETFROM:-0500
TZOFFSETTO:-0600
TZNAME:CST
DTSTART:20181104T070000
END:STANDARD
BEGIN:DAYLIGHT
TZOFFSETFROM:-0600
TZOFFSETTO:-0500
TZNAME:CDT
DTSTART:20190310T080000
END:DAYLIGHT
BEGIN:STANDARD
TZOFFSETFROM:-0500
TZOFFSETTO:-0600
TZNAME:CST
DTSTART:20191103T070000
END:STANDARD
BEGIN:DAYLIGHT
TZOFFSETFROM:-0600
TZOFFSETTO:-0500
TZNAME:CDT
DTSTART:20200308T080000
END:DAYLIGHT
BEGIN:STANDARD
TZOFFSETFROM:-0500
TZOFFSETTO:-0600
TZNAME:CST
DTSTART:20201101T070000
END:STANDARD
END:VTIMEZONE
BEGIN:VEVENT
DTSTART;TZID=America/Chicago:20190411T190000
DTEND;TZID=America/Chicago:20190411T200000
DTSTAMP:20260421T110643
CREATED:20190204T170532Z
LAST-MODIFIED:20190204T170532Z
UID:11163-1555009200-1555012800@www.mshumanities.org
SUMMARY:2019 Sammy O. Cranford Memorial History Lecture
DESCRIPTION:The 2019 annual Sammy O. Craford Memorial History Lecture will take place Thursday\, April 11. This year\, Dr. Joseph Crespino (Jimmy Carter Professor of American History at Emory University) will deliver a presentation entitled “Atticus Finch: The Biography.” \nThe lecture will take place at 7pm in the Jobe Hall Auditorium on the DSU campus.
URL:https://www.mshumanities.org/event/2019-sammy-o-cranford-memorial-history-lecture/
LOCATION:Delta State University\, 1003 W Sunflower Rd\, Cleveland\, MS\, 38733\, United States
END:VEVENT
END:VCALENDAR