BEGIN:VCALENDAR
VERSION:2.0
PRODID:-//Mississippi Humanities Council - ECPv6.15.18//NONSGML v1.0//EN
CALSCALE:GREGORIAN
METHOD:PUBLISH
X-WR-CALNAME:Mississippi Humanities Council
X-ORIGINAL-URL:https://www.mshumanities.org
X-WR-CALDESC:Events for Mississippi Humanities Council
REFRESH-INTERVAL;VALUE=DURATION:PT1H
X-Robots-Tag:noindex
X-PUBLISHED-TTL:PT1H
BEGIN:VTIMEZONE
TZID:America/Chicago
BEGIN:DAYLIGHT
TZOFFSETFROM:-0600
TZOFFSETTO:-0500
TZNAME:CDT
DTSTART:20180311T080000
END:DAYLIGHT
BEGIN:STANDARD
TZOFFSETFROM:-0500
TZOFFSETTO:-0600
TZNAME:CST
DTSTART:20181104T070000
END:STANDARD
BEGIN:DAYLIGHT
TZOFFSETFROM:-0600
TZOFFSETTO:-0500
TZNAME:CDT
DTSTART:20190310T080000
END:DAYLIGHT
BEGIN:STANDARD
TZOFFSETFROM:-0500
TZOFFSETTO:-0600
TZNAME:CST
DTSTART:20191103T070000
END:STANDARD
BEGIN:DAYLIGHT
TZOFFSETFROM:-0600
TZOFFSETTO:-0500
TZNAME:CDT
DTSTART:20200308T080000
END:DAYLIGHT
BEGIN:STANDARD
TZOFFSETFROM:-0500
TZOFFSETTO:-0600
TZNAME:CST
DTSTART:20201101T070000
END:STANDARD
END:VTIMEZONE
BEGIN:VEVENT
DTSTART;VALUE=DATE:20190413
DTEND;VALUE=DATE:20190415
DTSTAMP:20260421T110644
CREATED:20190220T161627Z
LAST-MODIFIED:20190220T161627Z
UID:11173-1555113600-1555286399@www.mshumanities.org
SUMMARY:2019 Petal Southern Miss Powwow
DESCRIPTION:The 2019 Petal Suthern Miss Powwow will be held on April 13-14 with a school day on April 11. It will take place at Willie Hinton Park in Petal\, with Natives and non-Natives in celebration of American Indian Culture\, crafts\, foodways\, dance\, and song.
URL:https://www.mshumanities.org/event/2019-petal-southern-miss-powwow/
LOCATION:Willie Hinton Park\, 718 S. Main Street\, Petal\, MS\, 39465\, United States
END:VEVENT
BEGIN:VEVENT
DTSTART;TZID=America/Chicago:20190413T100000
DTEND;TZID=America/Chicago:20190413T120000
DTSTAMP:20260421T110644
CREATED:20181031T160004Z
LAST-MODIFIED:20181031T160004Z
UID:11082-1555149600-1555156800@www.mshumanities.org
SUMMARY:Artistic Expression during the Civil Rights Movement
DESCRIPTION:Turry Flucker will lead a panel that will focuses on two significant art groups that responded to the Civil Rights movement: The Art Committee for Tougaloo College and Spiral: An African American Art Collective. Active from the summer of 1963 through 1965\, he group of artists met weekly to discuss the role of African-American artists in politics and the Civil Rights Movement\, as well as in the larger art world\, and organized one group exhibition.
URL:https://www.mshumanities.org/event/artistic-expression-civil-rights-movement/
LOCATION:Museum of the Mississippi Delta\, 1608 Hwy 82 West\, Greenwood\, MS\, 38930
END:VEVENT
BEGIN:VEVENT
DTSTART;TZID=America/Chicago:20190413T160000
DTEND;TZID=America/Chicago:20190413T170000
DTSTAMP:20260421T110644
CREATED:20190314T191235Z
LAST-MODIFIED:20190314T191235Z
UID:11182-1555171200-1555174800@www.mshumanities.org
SUMMARY:The 39th Annual Alcorn State University Jazz Festival: Dee Dee Bridgewater
DESCRIPTION:  \nAn hour-long educational workshop conducted by Grammy and Tony Award-winning jazz giant Dee Dee Bridgewater. She will discuss various topics that relate to the heritage and history of jazz in the U.S. South.
URL:https://www.mshumanities.org/event/39th-annual-alcorn-state-university-jazz-festival-ellis-marsalis/
LOCATION:Vicksburg Convention Center\, 1600 Mulberry Street\, Vicksburg\, MS\, 39180
END:VEVENT
END:VCALENDAR