BEGIN:VCALENDAR
VERSION:2.0
PRODID:-//Mississippi Humanities Council - ECPv6.15.18//NONSGML v1.0//EN
CALSCALE:GREGORIAN
METHOD:PUBLISH
X-WR-CALNAME:Mississippi Humanities Council
X-ORIGINAL-URL:https://www.mshumanities.org
X-WR-CALDESC:Events for Mississippi Humanities Council
REFRESH-INTERVAL;VALUE=DURATION:PT1H
X-Robots-Tag:noindex
X-PUBLISHED-TTL:PT1H
BEGIN:VTIMEZONE
TZID:America/Chicago
BEGIN:DAYLIGHT
TZOFFSETFROM:-0600
TZOFFSETTO:-0500
TZNAME:CDT
DTSTART:20180311T080000
END:DAYLIGHT
BEGIN:STANDARD
TZOFFSETFROM:-0500
TZOFFSETTO:-0600
TZNAME:CST
DTSTART:20181104T070000
END:STANDARD
BEGIN:DAYLIGHT
TZOFFSETFROM:-0600
TZOFFSETTO:-0500
TZNAME:CDT
DTSTART:20190310T080000
END:DAYLIGHT
BEGIN:STANDARD
TZOFFSETFROM:-0500
TZOFFSETTO:-0600
TZNAME:CST
DTSTART:20191103T070000
END:STANDARD
BEGIN:DAYLIGHT
TZOFFSETFROM:-0600
TZOFFSETTO:-0500
TZNAME:CDT
DTSTART:20200308T080000
END:DAYLIGHT
BEGIN:STANDARD
TZOFFSETFROM:-0500
TZOFFSETTO:-0600
TZNAME:CST
DTSTART:20201101T070000
END:STANDARD
END:VTIMEZONE
BEGIN:VEVENT
DTSTART;TZID=America/Chicago:20190416T173000
DTEND;TZID=America/Chicago:20190416T190000
DTSTAMP:20260421T110645
CREATED:20190405T133712Z
LAST-MODIFIED:20190405T133712Z
UID:11193-1555435800-1555441200@www.mshumanities.org
SUMMARY:Ideas on Tap Clarksdale: The Future of Public Education in Mississippi
DESCRIPTION:On April 16\, join the Mississippi Humanities Council\, the Phil Hardin Foundation\, and Meraki Roasting Company in Clarksdale for the first in a special two-part Ideas on Tap series on public education in the state. \nThe program will feature an ideologically diverse panel of education policy experts to discuss different approaches to improving public schools. Panelists include Constance White (Empower Mississippi)\, Nancy Loome (The Parents’ Campaign)\, and Sanford Johnson (Mississippi First). MHC Executive Director Dr. Stuart Rockoff will moderate. \nA follow-up program that addresses public education in Clarksdale will take place on May 14. Both programs are part of a larger yearlong series on public education in communities around the state. \nAs always\, snacks and great conversation are on us\, and drinks are on you.
URL:https://www.mshumanities.org/event/ideas-tap-clarksdale-future-public-education-mississippi/
LOCATION:Meraki Roasting Company\, 282 Sunflower Ave\, Clarksdale\, MS\, 38614\, United States
END:VEVENT
BEGIN:VEVENT
DTSTART;TZID=America/Chicago:20190416T180000
DTEND;TZID=America/Chicago:20190416T193000
DTSTAMP:20260421T110645
CREATED:20190401T151608Z
LAST-MODIFIED:20190401T151608Z
UID:11189-1555437600-1555443000@www.mshumanities.org
SUMMARY:Civil Rights-Era Music Panel
DESCRIPTION:This panel will focus on the music from the Civil Rights Era. They will be using audio and video clips from the time period\, which is also included within the exhibition itself. These will include songs that were written about Emmett Till and the Three Civil Rights workers who were murdered near Philadelphia\, Miss. There are over 20 clips from the Ed Sullivan Show where African American performers were showcased\, many for the first time. They will discuss how African Americans became accepted to white audiences by their choice of music/songs and individual performances. \nPanelists include: \nScott Barretta\, Blues Historian\, Author\, Filmmaker \nBen Wiley Payton\, blues musician \nDr. Alphonso Sanders\, Mississippi Valley State University\, Professor and Blues musician
URL:https://www.mshumanities.org/event/civil-rights-era-music-panel/
LOCATION:Museum of the Mississippi Delta\, 1608 Hwy 82 West\, Greenwood\, MS\, 38930
END:VEVENT
END:VCALENDAR