BEGIN:VCALENDAR
VERSION:2.0
PRODID:-//Mississippi Humanities Council - ECPv6.15.18//NONSGML v1.0//EN
CALSCALE:GREGORIAN
METHOD:PUBLISH
X-WR-CALNAME:Mississippi Humanities Council
X-ORIGINAL-URL:https://www.mshumanities.org
X-WR-CALDESC:Events for Mississippi Humanities Council
REFRESH-INTERVAL;VALUE=DURATION:PT1H
X-Robots-Tag:noindex
X-PUBLISHED-TTL:PT1H
BEGIN:VTIMEZONE
TZID:America/Chicago
BEGIN:DAYLIGHT
TZOFFSETFROM:-0600
TZOFFSETTO:-0500
TZNAME:CDT
DTSTART:20180311T080000
END:DAYLIGHT
BEGIN:STANDARD
TZOFFSETFROM:-0500
TZOFFSETTO:-0600
TZNAME:CST
DTSTART:20181104T070000
END:STANDARD
BEGIN:DAYLIGHT
TZOFFSETFROM:-0600
TZOFFSETTO:-0500
TZNAME:CDT
DTSTART:20190310T080000
END:DAYLIGHT
BEGIN:STANDARD
TZOFFSETFROM:-0500
TZOFFSETTO:-0600
TZNAME:CST
DTSTART:20191103T070000
END:STANDARD
BEGIN:DAYLIGHT
TZOFFSETFROM:-0600
TZOFFSETTO:-0500
TZNAME:CDT
DTSTART:20200308T080000
END:DAYLIGHT
BEGIN:STANDARD
TZOFFSETFROM:-0500
TZOFFSETTO:-0600
TZNAME:CST
DTSTART:20201101T070000
END:STANDARD
END:VTIMEZONE
BEGIN:VEVENT
DTSTART;TZID=America/Chicago:20190606T170000
DTEND;TZID=America/Chicago:20190606T200000
DTSTAMP:20260421T140916
CREATED:20190514T160703Z
LAST-MODIFIED:20190514T160703Z
UID:11205-1559840400-1559851200@www.mshumanities.org
SUMMARY:SB: Developing an Oral History from Concept to Creation
DESCRIPTION:An oral history is a valuable tool in preserving the stories and memories of those who lived through interesting\, extraordinary\, and important times (for example\, World War II veterans or Civil Rights leaders and advocates.) An oral history can encompass a wide variety of groups and/or individuals who have a shared experience. G. Mark La Francis\, a long time professional oral historian\, demystifies the process\, breaking it down into manageable components\, from establishing a mission statement\, creating questions\, selecting interviewees\, achieving a quality recording\, time-coding and more. Oral history novices need not feel intimidated by a project; in fact\, they can feel exhilarated as they preserve forever an important piece of history. This workshop will last approximately two hours and include coaching on how to ask questions\, audio devices (and video\,) choosing an interview location\, and more. As a retired journalist\, college instructor and author\, LaFrancis has interviewed hundreds of individuals of all ages and histories. The workshop is casual\, interactive\, and fun. There will be plenty of time for questions. LaFrancis also offers follow-up advice. \nSpeakers Expertise: \nAs a veteran of 23 years (active duty during the Vietnam War era and Air National Guard) and as a writer for more than 30 years\, LaFrancis is professionally and personally qualified to offer what is a moving and unique presentation. LaFrancis has more than 25 years experience as a professional speaker and presenter\, particularly on the topics of creative writing and journalism. With the war ever-present in our lives\, his presentation of the experiences of the soldiers and their loved ones will enlighten and engage a wide range of audiences.
URL:https://www.mshumanities.org/event/3292/
LOCATION:Trinity Episcopal Church\, 305 S. Commerce St.\, Natchez\, MS\, 39120
END:VEVENT
BEGIN:VEVENT
DTSTART;TZID=America/Chicago:20190606T180000
DTEND;TZID=America/Chicago:20190606T180000
DTSTAMP:20260421T140916
CREATED:20190528T195036Z
LAST-MODIFIED:20190528T195036Z
UID:11207-1559844000-1559844000@www.mshumanities.org
SUMMARY:Everywhere with Roy Lewis
DESCRIPTION:  \n  \n  \nA conversation about the photography exhibition “Everywhere with Roy Lewis” at 6 p.m. on Thursday\, June 6\, in Johnson Hall with Dr. Redell Hearn\, Curator of Art and Civil Rights at Tougaloo College and the Mississippi Museum of Art\, and Mark Geil\, an Associate Professor of art and photography at Jackson State.
URL:https://www.mshumanities.org/event/everywhere-roy-lewis-2/
LOCATION:Jackson State University\, 1400 J.R. Lynch Street\, Jackson\, MS\, 39217
END:VEVENT
END:VCALENDAR