BEGIN:VCALENDAR
VERSION:2.0
PRODID:-//Mississippi Humanities Council - ECPv6.15.18//NONSGML v1.0//EN
CALSCALE:GREGORIAN
METHOD:PUBLISH
X-WR-CALNAME:Mississippi Humanities Council
X-ORIGINAL-URL:https://www.mshumanities.org
X-WR-CALDESC:Events for Mississippi Humanities Council
REFRESH-INTERVAL;VALUE=DURATION:PT1H
X-Robots-Tag:noindex
X-PUBLISHED-TTL:PT1H
BEGIN:VTIMEZONE
TZID:America/Chicago
BEGIN:DAYLIGHT
TZOFFSETFROM:-0600
TZOFFSETTO:-0500
TZNAME:CDT
DTSTART:20180311T080000
END:DAYLIGHT
BEGIN:STANDARD
TZOFFSETFROM:-0500
TZOFFSETTO:-0600
TZNAME:CST
DTSTART:20181104T070000
END:STANDARD
BEGIN:DAYLIGHT
TZOFFSETFROM:-0600
TZOFFSETTO:-0500
TZNAME:CDT
DTSTART:20190310T080000
END:DAYLIGHT
BEGIN:STANDARD
TZOFFSETFROM:-0500
TZOFFSETTO:-0600
TZNAME:CST
DTSTART:20191103T070000
END:STANDARD
BEGIN:DAYLIGHT
TZOFFSETFROM:-0600
TZOFFSETTO:-0500
TZNAME:CDT
DTSTART:20200308T080000
END:DAYLIGHT
BEGIN:STANDARD
TZOFFSETFROM:-0500
TZOFFSETTO:-0600
TZNAME:CST
DTSTART:20201101T070000
END:STANDARD
END:VTIMEZONE
BEGIN:VEVENT
DTSTART;TZID=America/Chicago:20190629T150000
DTEND;TZID=America/Chicago:20190629T190000
DTSTAMP:20260421T140916
CREATED:20181031T133253Z
LAST-MODIFIED:20181031T133253Z
UID:11078-1561820400-1561834800@www.mshumanities.org
SUMMARY:Wilkinson County Mound Sites: Field Facts and Artifacts
DESCRIPTION:  \n \n  \n  \nThe Wilkinson County Mound Exhibit opens June 29th\, 2019 in the Wilkinson County Museum in downtown Woodville\, Mississippi at 3pm\, in conjunction with a “Meet the Archaeologists” discussion and Artifact Roadshow event at the African American Museum. The exhibit is curated by Dr. Megan Kassabaum\, Assistant Professor of Anthropology at the University of Pennsylvania and Weingarten Assistant Curator at the Penn Museum\, and two studen curators\, Arielle Pierson and Erin Spicola. \n  \n  \nThe Mound Exhibit will feature Native American artifacts from Wilkinson County and will highlight the county’s two sites on the Mississippi Mound Trail–the Lessley and the Smith Creek sites–located along state highway 24\, west of Woodville.
URL:https://www.mshumanities.org/event/wilkinson-county-mound-sites-field-facts-artifacts/
LOCATION:Wilkinson County Museum\, 165 Boston Row\, Woodville\, MS
END:VEVENT
END:VCALENDAR