BEGIN:VCALENDAR
VERSION:2.0
PRODID:-//Mississippi Humanities Council - ECPv6.15.18//NONSGML v1.0//EN
CALSCALE:GREGORIAN
METHOD:PUBLISH
X-ORIGINAL-URL:https://www.mshumanities.org
X-WR-CALDESC:Events for Mississippi Humanities Council
REFRESH-INTERVAL;VALUE=DURATION:PT1H
X-Robots-Tag:noindex
X-PUBLISHED-TTL:PT1H
BEGIN:VTIMEZONE
TZID:America/Chicago
BEGIN:DAYLIGHT
TZOFFSETFROM:-0600
TZOFFSETTO:-0500
TZNAME:CDT
DTSTART:20180311T080000
END:DAYLIGHT
BEGIN:STANDARD
TZOFFSETFROM:-0500
TZOFFSETTO:-0600
TZNAME:CST
DTSTART:20181104T070000
END:STANDARD
BEGIN:DAYLIGHT
TZOFFSETFROM:-0600
TZOFFSETTO:-0500
TZNAME:CDT
DTSTART:20190310T080000
END:DAYLIGHT
BEGIN:STANDARD
TZOFFSETFROM:-0500
TZOFFSETTO:-0600
TZNAME:CST
DTSTART:20191103T070000
END:STANDARD
BEGIN:DAYLIGHT
TZOFFSETFROM:-0600
TZOFFSETTO:-0500
TZNAME:CDT
DTSTART:20200308T080000
END:DAYLIGHT
BEGIN:STANDARD
TZOFFSETFROM:-0500
TZOFFSETTO:-0600
TZNAME:CST
DTSTART:20201101T070000
END:STANDARD
END:VTIMEZONE
BEGIN:VEVENT
DTSTART;VALUE=DATE:20190719
DTEND;VALUE=DATE:20190721
DTSTAMP:20260421T152331
CREATED:20190627T154853Z
LAST-MODIFIED:20190627T154853Z
UID:11218-1563494400-1563667199@www.mshumanities.org
SUMMARY:Old Asylum History Days
DESCRIPTION:Are you the descendant of someone who was a patient or employee at the Mississippi State Insane Hospital between 1855 and 1935? You are invited to tell your story! \nThis free event is open to the public and will include the following activities for attendees: \n\n Have your stories about the Old Asylum recorded to video.\n Enjoy presentations about the history of the Old Asylum and plans for the Asylum Hill Project.\n Learn how to archivally preserve your own family photos\, documents and memorabilia.\n Receive free high-resolution scanning of your photos and documents.\n Receive a free archival sleeve for your photos and documents.\n**Sign up ahead of time or just drop in!**
URL:https://www.mshumanities.org/event/old-asylum-history-days/
LOCATION:School of Health Related Professions Building\, University of Mississippi Medical Center\, Jackson\, MS\, United States
END:VEVENT
BEGIN:VEVENT
DTSTART;TZID=America/Chicago:20190719T150000
DTEND;TZID=America/Chicago:20190719T170000
DTSTAMP:20260421T152331
CREATED:20190715T150647Z
LAST-MODIFIED:20190715T150647Z
UID:11220-1563548400-1563555600@www.mshumanities.org
SUMMARY:SB: A Look at Mande Culture Through Traditional Music
DESCRIPTION:This presentation will give the listener a glimpse of the Mande Culture of West Africa. In the tradition of the Mande\, the history and culture is orally preserved in the minds and through the music of the Djeli (oral librarian/mandenka hereditary professional musicians). The establishment of the Mali Empire can be recalled and retold in the musical piece of the legendary Densoba (great warrior) Sunjata. This discussion explores the function of the Mande music and musical instruments\, Mande class system\, songs\, ceremonies and stories. The discussion also examines the influence of West Africa on American culture and why the djembe was outlawed during slavery. Participants will learn about the djembe\, its introduction by drummers like Babatunde Olatunji in 1950 and Ladji Camara from Guinea\, and how it spread throughout America. \nSpeakers Expertise:\nJerry Jenkins is a musician and educator trained in the music of West Africa.
URL:https://www.mshumanities.org/event/sb-look-mande-culture-traditional-music-2/
LOCATION:Clinton YMCA\, 400 Lindale Street\, Clinton\, MS\, 39056
END:VEVENT
END:VCALENDAR