BEGIN:VCALENDAR
VERSION:2.0
PRODID:-//Mississippi Humanities Council - ECPv6.15.18//NONSGML v1.0//EN
CALSCALE:GREGORIAN
METHOD:PUBLISH
X-WR-CALNAME:Mississippi Humanities Council
X-ORIGINAL-URL:https://www.mshumanities.org
X-WR-CALDESC:Events for Mississippi Humanities Council
REFRESH-INTERVAL;VALUE=DURATION:PT1H
X-Robots-Tag:noindex
X-PUBLISHED-TTL:PT1H
BEGIN:VTIMEZONE
TZID:America/Chicago
BEGIN:DAYLIGHT
TZOFFSETFROM:-0600
TZOFFSETTO:-0500
TZNAME:CDT
DTSTART:20180311T080000
END:DAYLIGHT
BEGIN:STANDARD
TZOFFSETFROM:-0500
TZOFFSETTO:-0600
TZNAME:CST
DTSTART:20181104T070000
END:STANDARD
BEGIN:DAYLIGHT
TZOFFSETFROM:-0600
TZOFFSETTO:-0500
TZNAME:CDT
DTSTART:20190310T080000
END:DAYLIGHT
BEGIN:STANDARD
TZOFFSETFROM:-0500
TZOFFSETTO:-0600
TZNAME:CST
DTSTART:20191103T070000
END:STANDARD
BEGIN:DAYLIGHT
TZOFFSETFROM:-0600
TZOFFSETTO:-0500
TZNAME:CDT
DTSTART:20200308T080000
END:DAYLIGHT
BEGIN:STANDARD
TZOFFSETFROM:-0500
TZOFFSETTO:-0600
TZNAME:CST
DTSTART:20201101T070000
END:STANDARD
END:VTIMEZONE
BEGIN:VEVENT
DTSTART;TZID=America/Chicago:20190727T170000
DTEND;TZID=America/Chicago:20190727T183000
DTSTAMP:20260421T152153
CREATED:20190725T185123Z
LAST-MODIFIED:20190725T185123Z
UID:11229-1564246800-1564252200@www.mshumanities.org
SUMMARY:SB: A Look at Mande Culture through Traditional Music
DESCRIPTION:This presentation will give the listener a glimpse of the Mande Culture of West Africa. In the tradition of the Mande\, the history and culture is orally preserved in the minds and through the music of the Djeli (oral librarian/mandenka hereditary professional musicians). The establishment of the Mali Empire can be recalled and retold in the musical piece of the legendary Densoba (great warrior) Sunjata. This discussion explores the function of the Mande music and musical instruments\, Mande class system\, songs\, ceremonies and stories. The discussion also examines the influence of West Africa on American culture and why the djembe was outlawed during slavery. Participants will learn about the djembe\, its introduction by drummers like Babatunde Olatunji in 1950 and Ladji Camara from Guinea\, and how it spread throughout America. \nSpeakers Expertise:\nJerry Jenkins is a musician and educator trained in the music of West Africa.
URL:https://www.mshumanities.org/event/sb-look-mande-culture-traditional-music-3/
LOCATION:China Grove AME Church\, 1060 Mannsdale Road\, Madison\, MS\, 39130
END:VEVENT
END:VCALENDAR