BEGIN:VCALENDAR
VERSION:2.0
PRODID:-//Mississippi Humanities Council - ECPv6.15.18//NONSGML v1.0//EN
CALSCALE:GREGORIAN
METHOD:PUBLISH
X-ORIGINAL-URL:https://www.mshumanities.org
X-WR-CALDESC:Events for Mississippi Humanities Council
REFRESH-INTERVAL;VALUE=DURATION:PT1H
X-Robots-Tag:noindex
X-PUBLISHED-TTL:PT1H
BEGIN:VTIMEZONE
TZID:America/Chicago
BEGIN:DAYLIGHT
TZOFFSETFROM:-0600
TZOFFSETTO:-0500
TZNAME:CDT
DTSTART:20180311T080000
END:DAYLIGHT
BEGIN:STANDARD
TZOFFSETFROM:-0500
TZOFFSETTO:-0600
TZNAME:CST
DTSTART:20181104T070000
END:STANDARD
BEGIN:DAYLIGHT
TZOFFSETFROM:-0600
TZOFFSETTO:-0500
TZNAME:CDT
DTSTART:20190310T080000
END:DAYLIGHT
BEGIN:STANDARD
TZOFFSETFROM:-0500
TZOFFSETTO:-0600
TZNAME:CST
DTSTART:20191103T070000
END:STANDARD
BEGIN:DAYLIGHT
TZOFFSETFROM:-0600
TZOFFSETTO:-0500
TZNAME:CDT
DTSTART:20200308T080000
END:DAYLIGHT
BEGIN:STANDARD
TZOFFSETFROM:-0500
TZOFFSETTO:-0600
TZNAME:CST
DTSTART:20201101T070000
END:STANDARD
END:VTIMEZONE
BEGIN:VEVENT
DTSTART;TZID=America/Chicago:20190731T180000
DTEND;TZID=America/Chicago:20190731T190000
DTSTAMP:20260421T152335
CREATED:20190722T183225Z
LAST-MODIFIED:20190722T183225Z
UID:11226-1564596000-1564599600@www.mshumanities.org
SUMMARY:SB: The Asylum Hill Cemetery Project
DESCRIPTION:The Mississippi Insane Asylum was established in Jackson in 1855 and operated in this location until 1935. During this period\, a cemetery was maintained on the asylum grounds in which several thousand deceased patients were interred. This site is now occupied by the University of Mississippi Medical Center\, for which mission-critical needs have raised numerous administrative\, ethical\, cultural and practical challenges in the long-term management of these burial sites. This presentation provides an overview of the history of the asylum and describes a proposal to memorialize those buried in the Asylum Hill Cemetery in a manner that also creates a research and education resource. \nSpeakers Expertise:\nDr. Ralph H. Didlake is associate vice chancellor for academic affairs and chief academic officer for the University of Mississippi Medical Center. He is also a professor of surgery and director of UMMC’s Center for Bioethics and Medical Humanities. Dr. Didlake’s focus is on the integration of biomedical ethics and professionalism across Mississippi clinical\, educational and research efforts.
URL:https://www.mshumanities.org/event/sb-asylum-hill-cemetery-project-2/
LOCATION:Library of Hattiesburg\, Petal\, and Forrest County\, 329 Hardy Street\, Hattiesburg\, MS\, 39401
END:VEVENT
END:VCALENDAR