BEGIN:VCALENDAR
VERSION:2.0
PRODID:-//Mississippi Humanities Council - ECPv6.15.18//NONSGML v1.0//EN
CALSCALE:GREGORIAN
METHOD:PUBLISH
X-WR-CALNAME:Mississippi Humanities Council
X-ORIGINAL-URL:https://www.mshumanities.org
X-WR-CALDESC:Events for Mississippi Humanities Council
REFRESH-INTERVAL;VALUE=DURATION:PT1H
X-Robots-Tag:noindex
X-PUBLISHED-TTL:PT1H
BEGIN:VTIMEZONE
TZID:America/Chicago
BEGIN:DAYLIGHT
TZOFFSETFROM:-0600
TZOFFSETTO:-0500
TZNAME:CDT
DTSTART:20180311T080000
END:DAYLIGHT
BEGIN:STANDARD
TZOFFSETFROM:-0500
TZOFFSETTO:-0600
TZNAME:CST
DTSTART:20181104T070000
END:STANDARD
BEGIN:DAYLIGHT
TZOFFSETFROM:-0600
TZOFFSETTO:-0500
TZNAME:CDT
DTSTART:20190310T080000
END:DAYLIGHT
BEGIN:STANDARD
TZOFFSETFROM:-0500
TZOFFSETTO:-0600
TZNAME:CST
DTSTART:20191103T070000
END:STANDARD
BEGIN:DAYLIGHT
TZOFFSETFROM:-0600
TZOFFSETTO:-0500
TZNAME:CDT
DTSTART:20200308T080000
END:DAYLIGHT
BEGIN:STANDARD
TZOFFSETFROM:-0500
TZOFFSETTO:-0600
TZNAME:CST
DTSTART:20201101T070000
END:STANDARD
END:VTIMEZONE
BEGIN:VEVENT
DTSTART;VALUE=DATE:20190905
DTEND;VALUE=DATE:20190909
DTSTAMP:20260421T194912
CREATED:20190808T152142Z
LAST-MODIFIED:20190808T152142Z
UID:11231-1567641600-1567987199@www.mshumanities.org
SUMMARY:Tennessee Williams Tribute
DESCRIPTION:“Stella!” Shouting Contestant\n  \n  \n  \n  \nThe Tennessee Williams Tribute is an annual multi-day event honoring the life and works of Columbus-born playwright Tennessee Williams. This year’s Tribute will include four performances of an original play\, a scholars’ reception\, a poetry writing contest and reading\, “Stella!” shouting contest\, two one-act plays\, and a memorabilia display.
URL:https://www.mshumanities.org/event/tennessee-williams-tribute/
LOCATION:Rosenzweig Arts Center\, 501 Main Street \, Columbus \, MS\, United States
END:VEVENT
END:VCALENDAR