BEGIN:VCALENDAR
VERSION:2.0
PRODID:-//Mississippi Humanities Council - ECPv6.15.18//NONSGML v1.0//EN
CALSCALE:GREGORIAN
METHOD:PUBLISH
X-WR-CALNAME:Mississippi Humanities Council
X-ORIGINAL-URL:https://www.mshumanities.org
X-WR-CALDESC:Events for Mississippi Humanities Council
REFRESH-INTERVAL;VALUE=DURATION:PT1H
X-Robots-Tag:noindex
X-PUBLISHED-TTL:PT1H
BEGIN:VTIMEZONE
TZID:America/Chicago
BEGIN:DAYLIGHT
TZOFFSETFROM:-0600
TZOFFSETTO:-0500
TZNAME:CDT
DTSTART:20180311T080000
END:DAYLIGHT
BEGIN:STANDARD
TZOFFSETFROM:-0500
TZOFFSETTO:-0600
TZNAME:CST
DTSTART:20181104T070000
END:STANDARD
BEGIN:DAYLIGHT
TZOFFSETFROM:-0600
TZOFFSETTO:-0500
TZNAME:CDT
DTSTART:20190310T080000
END:DAYLIGHT
BEGIN:STANDARD
TZOFFSETFROM:-0500
TZOFFSETTO:-0600
TZNAME:CST
DTSTART:20191103T070000
END:STANDARD
BEGIN:DAYLIGHT
TZOFFSETFROM:-0600
TZOFFSETTO:-0500
TZNAME:CDT
DTSTART:20200308T080000
END:DAYLIGHT
BEGIN:STANDARD
TZOFFSETFROM:-0500
TZOFFSETTO:-0600
TZNAME:CST
DTSTART:20201101T070000
END:STANDARD
END:VTIMEZONE
BEGIN:VEVENT
DTSTART;TZID=America/Chicago:20190914T130000
DTEND;TZID=America/Chicago:20190914T140000
DTSTAMP:20260421T195002
CREATED:20190910T145924Z
LAST-MODIFIED:20190910T145924Z
UID:11242-1568466000-1568469600@www.mshumanities.org
SUMMARY:SB: Personal Experience Writing
DESCRIPTION:Richelle Putnam shares the power and therapeutic value of words and how to explore the future by visiting the past. She shares her personal experience stories from different anthologies\, provides writing prompts to spur attendee recollections and teaches how to slip past the protector to reach emotional honesty. Other speaker topics are: “How to Create Three-Dimensional Characters\,” “Pour Story Foundations onto Southern Landscapes” and “Developing Character Emotions.” \nSpeakers Expertise:\nRichelle Putnam has been published in many print and online publications in adult and children’s literature and is the author of three regional history books.  She is listed on the Mississippi Arts Commission’s Artist/Teaching Artist Roster.
URL:https://www.mshumanities.org/event/sb-personal-experience-writing/
LOCATION:Crosby Memorial Library\, 900 Goodyear Blvd.\, Picayune\, MS\, 39466
END:VEVENT
END:VCALENDAR