BEGIN:VCALENDAR
VERSION:2.0
PRODID:-//Mississippi Humanities Council - ECPv6.15.18//NONSGML v1.0//EN
CALSCALE:GREGORIAN
METHOD:PUBLISH
X-WR-CALNAME:Mississippi Humanities Council
X-ORIGINAL-URL:https://www.mshumanities.org
X-WR-CALDESC:Events for Mississippi Humanities Council
REFRESH-INTERVAL;VALUE=DURATION:PT1H
X-Robots-Tag:noindex
X-PUBLISHED-TTL:PT1H
BEGIN:VTIMEZONE
TZID:America/Chicago
BEGIN:DAYLIGHT
TZOFFSETFROM:-0600
TZOFFSETTO:-0500
TZNAME:CDT
DTSTART:20180311T080000
END:DAYLIGHT
BEGIN:STANDARD
TZOFFSETFROM:-0500
TZOFFSETTO:-0600
TZNAME:CST
DTSTART:20181104T070000
END:STANDARD
BEGIN:DAYLIGHT
TZOFFSETFROM:-0600
TZOFFSETTO:-0500
TZNAME:CDT
DTSTART:20190310T080000
END:DAYLIGHT
BEGIN:STANDARD
TZOFFSETFROM:-0500
TZOFFSETTO:-0600
TZNAME:CST
DTSTART:20191103T070000
END:STANDARD
BEGIN:DAYLIGHT
TZOFFSETFROM:-0600
TZOFFSETTO:-0500
TZNAME:CDT
DTSTART:20200308T080000
END:DAYLIGHT
BEGIN:STANDARD
TZOFFSETFROM:-0500
TZOFFSETTO:-0600
TZNAME:CST
DTSTART:20201101T070000
END:STANDARD
END:VTIMEZONE
BEGIN:VEVENT
DTSTART;VALUE=DATE:20190930
DTEND;VALUE=DATE:20191001
DTSTAMP:20260421T194936
CREATED:20190903T152237Z
LAST-MODIFIED:20190903T152237Z
UID:11239-1569801600-1569887999@www.mshumanities.org
SUMMARY:UNPACKED: Refugee Baggage
DESCRIPTION:“UNPACKED: Refugee Baggage\,” a first-of-its-kind multi-media installation\, is opening next week at Mississippi State’s Cullis Wade Depot Art Gallery. \nDisplayed Sept. 30-Nov. 1 on the second floor of MSU’s Welcome Center\, the exhibition is supported in part by funding from the Mississippi Humanities Council\, National Endowment for the Humanities\, Mississippi Arts Commission\, National Endowment for the Arts\, and The Criss Trust. Co-organizers are the Department of Art in MSU’s College of Architecture\, Art and Design\, and the Department of Anthropology and Middle Eastern Cultures in the College of Arts and Sciences. Created during summer 2017\, “UNPACKED” features the work of Syrian-born artist and architect Mohamad Hafez and Iraqi-born writer and speaker Ahmed Badr. \nGallery viewing hours are 9 a.m.-5 p.m. Monday-Friday\, and a public reception for the exhibition will be held Sept. 30 from 4-5:30 p.m. in the same location. \nSept. 30\, 10 a.m.\, Fowlkes Auditorium in Colvard Student Union\, “Communicating Migrant Identity” panel discussion featuring Hafez; Jenna Altomonte\, assistant professor in MSU’s Department of Art; Milena A. Melo\, assistant professor in MSU’s Department of Anthropology and Middle Eastern Cultures; and Keith Moser\, professor in MSU’s Department of Classical and Modern Languages and Literatures.
URL:https://www.mshumanities.org/event/unpacked-refugee-baggage/
LOCATION:Fowlkes Auditorium\, 198 Lee Blvd.\, Mississippi State\, 39762
END:VEVENT
BEGIN:VEVENT
DTSTART;TZID=America/Chicago:20190930T173000
DTEND;TZID=America/Chicago:20190930T190000
DTSTAMP:20260421T194936
CREATED:20190820T140452Z
LAST-MODIFIED:20190820T140452Z
UID:11236-1569864600-1569870000@www.mshumanities.org
SUMMARY:Ideas on Tap Biloxi: The Future of Public Education in Mississippi
DESCRIPTION:On September 30\, join the Mississippi Humanities Council and the Phil Hardin Foundation in Biloxi at the Biloxi Visitors Center for the first in a special two-part Ideas on Tap series on public education in the state. \nThe free program will feature an ideologically diverse panel of education policy experts to discuss different approaches to improving public schools. Panelists include Rachel Canter (Mississippi First)\, Nancy Loome (The Parents’ Campaign)\, and Grant Callen (Empower Mississippi) MHC executive director Dr. Stuart Rockoff will moderate. \nA follow-up program that addresses public education in Biloxi will take place on October 15. Both programs are part of a larger yearlong series on public education in communities around the state. \nAs always\, snacks and great conversation are on us\, and drinks are on you.
URL:https://www.mshumanities.org/event/ideas-tap-biloxi-future-public-education-mississippi/
LOCATION:Biloxi Visitors Center\, 1050 Beach Blvd\, Biloxi\, 39530\, United States
END:VEVENT
END:VCALENDAR