BEGIN:VCALENDAR
VERSION:2.0
PRODID:-//Mississippi Humanities Council - ECPv6.15.18//NONSGML v1.0//EN
CALSCALE:GREGORIAN
METHOD:PUBLISH
X-ORIGINAL-URL:https://www.mshumanities.org
X-WR-CALDESC:Events for Mississippi Humanities Council
REFRESH-INTERVAL;VALUE=DURATION:PT1H
X-Robots-Tag:noindex
X-PUBLISHED-TTL:PT1H
BEGIN:VTIMEZONE
TZID:America/Chicago
BEGIN:DAYLIGHT
TZOFFSETFROM:-0600
TZOFFSETTO:-0500
TZNAME:CDT
DTSTART:20180311T080000
END:DAYLIGHT
BEGIN:STANDARD
TZOFFSETFROM:-0500
TZOFFSETTO:-0600
TZNAME:CST
DTSTART:20181104T070000
END:STANDARD
BEGIN:DAYLIGHT
TZOFFSETFROM:-0600
TZOFFSETTO:-0500
TZNAME:CDT
DTSTART:20190310T080000
END:DAYLIGHT
BEGIN:STANDARD
TZOFFSETFROM:-0500
TZOFFSETTO:-0600
TZNAME:CST
DTSTART:20191103T070000
END:STANDARD
BEGIN:DAYLIGHT
TZOFFSETFROM:-0600
TZOFFSETTO:-0500
TZNAME:CDT
DTSTART:20200308T080000
END:DAYLIGHT
BEGIN:STANDARD
TZOFFSETFROM:-0500
TZOFFSETTO:-0600
TZNAME:CST
DTSTART:20201101T070000
END:STANDARD
END:VTIMEZONE
BEGIN:VEVENT
DTSTART;TZID=America/Chicago:20191005T100000
DTEND;TZID=America/Chicago:20191005T170000
DTSTAMP:20260421T195227
CREATED:20191004T130720Z
LAST-MODIFIED:20191004T130720Z
UID:11247-1570269600-1570294800@www.mshumanities.org
SUMMARY:Mississippi Writers Trail: Elizabeth Spencer
DESCRIPTION:  \n  \nMississippi author Elizabeth Spencer will be honored at the Carrollton Pilgrimage & Pioneer Day Festival on Saturday\, October 5th with the unveiling of a new Mississippi Writers Trail marker. Unveiling will take place in front of the Merrill Museum on the old Courthouse Square at 10am. \n 
URL:https://www.mshumanities.org/event/mississippi-writers-trail-elizabeth-spencer/
LOCATION:Merrill Museum\, jackson st.\, Carrollton\, MS\, 38917
END:VEVENT
BEGIN:VEVENT
DTSTART;TZID=America/Chicago:20191005T150000
DTEND;TZID=America/Chicago:20191005T163000
DTSTAMP:20260421T195227
CREATED:20191004T125544Z
LAST-MODIFIED:20191004T125544Z
UID:11246-1570287600-1570293000@www.mshumanities.org
SUMMARY:Hawkins v. Shaw: Wade Through the Waters
DESCRIPTION:The Shaw Civil Rights Project presents Wade Through the Waters\, a play about Civil Rights. Performance takes place at McEvans school in Shaw\, MS.
URL:https://www.mshumanities.org/event/hawkins-v-shaw-wade-waters/
LOCATION:McEvans Elementary School\, 601 Highway 61 N\, Shaw\, MS\, 38773
END:VEVENT
END:VCALENDAR