BEGIN:VCALENDAR
VERSION:2.0
PRODID:-//Mississippi Humanities Council - ECPv6.15.18//NONSGML v1.0//EN
CALSCALE:GREGORIAN
METHOD:PUBLISH
X-WR-CALNAME:Mississippi Humanities Council
X-ORIGINAL-URL:https://www.mshumanities.org
X-WR-CALDESC:Events for Mississippi Humanities Council
REFRESH-INTERVAL;VALUE=DURATION:PT1H
X-Robots-Tag:noindex
X-PUBLISHED-TTL:PT1H
BEGIN:VTIMEZONE
TZID:America/Chicago
BEGIN:DAYLIGHT
TZOFFSETFROM:-0600
TZOFFSETTO:-0500
TZNAME:CDT
DTSTART:20180311T080000
END:DAYLIGHT
BEGIN:STANDARD
TZOFFSETFROM:-0500
TZOFFSETTO:-0600
TZNAME:CST
DTSTART:20181104T070000
END:STANDARD
BEGIN:DAYLIGHT
TZOFFSETFROM:-0600
TZOFFSETTO:-0500
TZNAME:CDT
DTSTART:20190310T080000
END:DAYLIGHT
BEGIN:STANDARD
TZOFFSETFROM:-0500
TZOFFSETTO:-0600
TZNAME:CST
DTSTART:20191103T070000
END:STANDARD
BEGIN:DAYLIGHT
TZOFFSETFROM:-0600
TZOFFSETTO:-0500
TZNAME:CDT
DTSTART:20200308T080000
END:DAYLIGHT
BEGIN:STANDARD
TZOFFSETFROM:-0500
TZOFFSETTO:-0600
TZNAME:CST
DTSTART:20201101T070000
END:STANDARD
END:VTIMEZONE
BEGIN:VEVENT
DTSTART;VALUE=DATE:20191007
DTEND;VALUE=DATE:20191013
DTSTAMP:20260421T212939
CREATED:20190624T194113Z
LAST-MODIFIED:20190624T194113Z
UID:11214-1570406400-1570924799@www.mshumanities.org
SUMMARY:Graphic Novels and Cartoons across the Humanities
DESCRIPTION:The University of Mississippi presents a week-long conference that incorporates graphic novels and cartoons from a plethora of humanities disciplines such as  Philosophy and Religion\, Art/Art History\, Classics\, Writing and Rhetoric\, African American Studies\, Southern Studies\, Political Science\, and the Sarah Isom Center for Women and Gender Studies. \nThe conference will feature a week-long itinerary intended for the local Lafayette- Oxford- University communities as well as state-wide attendees. The schedule includes dedicated ‘reading rooms’ at the University and public libraries; various book clubs\, movie nights\, art exhibits\, two workshops\, and a weekend conference with renowned scholars and artists.
URL:https://www.mshumanities.org/event/graphic-novels-cartoons-across-humanities/
LOCATION:University of Mississippi\, P.O. Box 1848\, University\, MS\, 38677\, United States
END:VEVENT
BEGIN:VEVENT
DTSTART;TZID=America/Chicago:20191011T120000
DTEND;TZID=America/Chicago:20191011T130000
DTSTAMP:20260421T212939
CREATED:20190312T133526Z
LAST-MODIFIED:20190312T133526Z
UID:11179-1570795200-1570798800@www.mshumanities.org
SUMMARY:SB: The Asylum Hill Cemetery Project
DESCRIPTION:The Mississippi Insane Asylum was established in Jackson in 1855 and operated in this location until 1935. During this period\, a cemetery was maintained on the asylum grounds in which several thousand deceased patients were interred. This site is now occupied by the University of Mississippi Medical Center\, for which mission-critical needs have raised numerous administrative\, ethical\, cultural and practical challenges in the long-term management of these burial sites. This presentation provides an overview of the history of the asylum and describes a proposal to memorialize those buried in the Asylum Hill Cemetery in a manner that also creates a research and education resource. \nSpeakers Expertise:\nDr. Ralph H. Didlake is associate vice chancellor for academic affairs and chief academic officer for the University of Mississippi Medical Center. He is also a professor of surgery and director of UMMC’s Center for Bioethics and Medical Humanities. Dr. Didlake’s focus is on the integration of biomedical ethics and professionalism across Mississippi clinical\, educational and research efforts.
URL:https://www.mshumanities.org/event/sb-asylum-hill-cemetery-project/
LOCATION:Columbus-Lowndes Public Library\, 314 7th St N\, Columbus\, MS\, 39701\, United States
END:VEVENT
END:VCALENDAR