BEGIN:VCALENDAR
VERSION:2.0
PRODID:-//Mississippi Humanities Council - ECPv6.15.18//NONSGML v1.0//EN
CALSCALE:GREGORIAN
METHOD:PUBLISH
X-WR-CALNAME:Mississippi Humanities Council
X-ORIGINAL-URL:https://www.mshumanities.org
X-WR-CALDESC:Events for Mississippi Humanities Council
REFRESH-INTERVAL;VALUE=DURATION:PT1H
X-Robots-Tag:noindex
X-PUBLISHED-TTL:PT1H
BEGIN:VTIMEZONE
TZID:America/Chicago
BEGIN:DAYLIGHT
TZOFFSETFROM:-0600
TZOFFSETTO:-0500
TZNAME:CDT
DTSTART:20180311T080000
END:DAYLIGHT
BEGIN:STANDARD
TZOFFSETFROM:-0500
TZOFFSETTO:-0600
TZNAME:CST
DTSTART:20181104T070000
END:STANDARD
BEGIN:DAYLIGHT
TZOFFSETFROM:-0600
TZOFFSETTO:-0500
TZNAME:CDT
DTSTART:20190310T080000
END:DAYLIGHT
BEGIN:STANDARD
TZOFFSETFROM:-0500
TZOFFSETTO:-0600
TZNAME:CST
DTSTART:20191103T070000
END:STANDARD
BEGIN:DAYLIGHT
TZOFFSETFROM:-0600
TZOFFSETTO:-0500
TZNAME:CDT
DTSTART:20200308T080000
END:DAYLIGHT
BEGIN:STANDARD
TZOFFSETFROM:-0500
TZOFFSETTO:-0600
TZNAME:CST
DTSTART:20201101T070000
END:STANDARD
END:VTIMEZONE
BEGIN:VEVENT
DTSTART;TZID=America/Chicago:20191015T173000
DTEND;TZID=America/Chicago:20191015T190000
DTSTAMP:20260421T212939
CREATED:20190820T140551Z
LAST-MODIFIED:20190820T140551Z
UID:11237-1571160600-1571166000@www.mshumanities.org
SUMMARY:Ideas on Tap Biloxi: The Future of Public Education in Biloxi
DESCRIPTION:On October 15\, join the Mississippi Humanities Council\, the Phil Hardin Foundation\, the Sun Herald\, and the Gulf Coast Community Foundation for the second in a special two-part Ideas on Tap series on public education on the Mississippi Gulf Coast. \nThe free program will provide an in-depth look at the state of public education on the Coast\, its connection to economic development\, alternative education routes\, community education partnerships\, and more. Panelists include Ashley Edwards (Gulf Coast Business Council)\, Glen East (Gulfport School District)\, and Dr. Ladd Taylor (Mississippi Gulf Coast Community College). Sun Herald journalist Anita Lee will moderate. \nThe program is part of a larger yearlong series on public education in communities around the state.
URL:https://www.mshumanities.org/event/ideas-tap-biloxi-future-public-education-biloxi/
LOCATION:Biloxi Visitors Center\, 1050 Beach Blvd\, Biloxi\, 39530\, United States
END:VEVENT
END:VCALENDAR