BEGIN:VCALENDAR
VERSION:2.0
PRODID:-//Mississippi Humanities Council - ECPv6.15.18//NONSGML v1.0//EN
CALSCALE:GREGORIAN
METHOD:PUBLISH
X-WR-CALNAME:Mississippi Humanities Council
X-ORIGINAL-URL:https://www.mshumanities.org
X-WR-CALDESC:Events for Mississippi Humanities Council
REFRESH-INTERVAL;VALUE=DURATION:PT1H
X-Robots-Tag:noindex
X-PUBLISHED-TTL:PT1H
BEGIN:VTIMEZONE
TZID:America/Chicago
BEGIN:DAYLIGHT
TZOFFSETFROM:-0600
TZOFFSETTO:-0500
TZNAME:CDT
DTSTART:20180311T080000
END:DAYLIGHT
BEGIN:STANDARD
TZOFFSETFROM:-0500
TZOFFSETTO:-0600
TZNAME:CST
DTSTART:20181104T070000
END:STANDARD
BEGIN:DAYLIGHT
TZOFFSETFROM:-0600
TZOFFSETTO:-0500
TZNAME:CDT
DTSTART:20190310T080000
END:DAYLIGHT
BEGIN:STANDARD
TZOFFSETFROM:-0500
TZOFFSETTO:-0600
TZNAME:CST
DTSTART:20191103T070000
END:STANDARD
BEGIN:DAYLIGHT
TZOFFSETFROM:-0600
TZOFFSETTO:-0500
TZNAME:CDT
DTSTART:20200308T080000
END:DAYLIGHT
BEGIN:STANDARD
TZOFFSETFROM:-0500
TZOFFSETTO:-0600
TZNAME:CST
DTSTART:20201101T070000
END:STANDARD
END:VTIMEZONE
BEGIN:VEVENT
DTSTART;VALUE=DATE:20191022
DTEND;VALUE=DATE:20191025
DTSTAMP:20260421T212939
CREATED:20191001T155751Z
LAST-MODIFIED:20191001T155751Z
UID:11244-1571702400-1571961599@www.mshumanities.org
SUMMARY:Lauren Rogers Museum of Art: Choctaw Days
DESCRIPTION:Each October fourth graders from across south Mississippi visit the Lauren Rogers Museum of Art (LRMA) to participate in Choctaw Days: Fourth Grade Tours Program. This annual event teaches participants about Choctaw culture and enriches their arts-education experience. During Choctaw Days\, students and teachers view the Museum’s renowned By Native Hands Native American Basket Collection and learn about its history from members of the LRMA Guild of Docents and Volunteers\, as well as the education staff. \n \n  \n  \n  \n2019 program: \nTuesday\, Oct. 22   9:00 –  11:30 a.m.   \nWednesday\, Oct. 23   9:00 – 11:30 a.m. \nThursday\, Oct. 24  9:20 – 11:30 a.m.
URL:https://www.mshumanities.org/event/lauren-rogers-museum-art-choctaw-days/
LOCATION:Lauren Rogers Museum of Art\, 565 N. Fifth Avenue\, Laurel\, MS\, 39440
END:VEVENT
BEGIN:VEVENT
DTSTART;VALUE=DATE:20191024
DTEND;VALUE=DATE:20191025
DTSTAMP:20260421T212939
CREATED:20190624T181527Z
LAST-MODIFIED:20190624T181527Z
UID:11211-1571875200-1571961599@www.mshumanities.org
SUMMARY:10 Most Endangered Historic Places in Mississippi
DESCRIPTION:Celebrating its 20th Anniversary\, the 10 Most Endangered Historic Places in Mississippi Program continues to shine a much-needed spotlight on the threats facing Mississippi’s historic places and works with local advocates to find a preservation solution to bring building back to life. \nThe 10 Most Endangered Historic Places in Mississippi for 2019 will be announced on October 24th. Following the announcement\, the 10 most exhibit will be open to the public for tours.
URL:https://www.mshumanities.org/event/10-endangered-historic-places-mississippi/
LOCATION:Morris Ice Company\, 654 Commerce Street\, Jackson\, MS\, United States
END:VEVENT
END:VCALENDAR