BEGIN:VCALENDAR
VERSION:2.0
PRODID:-//Mississippi Humanities Council - ECPv6.15.18//NONSGML v1.0//EN
CALSCALE:GREGORIAN
METHOD:PUBLISH
X-WR-CALNAME:Mississippi Humanities Council
X-ORIGINAL-URL:https://www.mshumanities.org
X-WR-CALDESC:Events for Mississippi Humanities Council
REFRESH-INTERVAL;VALUE=DURATION:PT1H
X-Robots-Tag:noindex
X-PUBLISHED-TTL:PT1H
BEGIN:VTIMEZONE
TZID:America/Chicago
BEGIN:DAYLIGHT
TZOFFSETFROM:-0600
TZOFFSETTO:-0500
TZNAME:CDT
DTSTART:20180311T080000
END:DAYLIGHT
BEGIN:STANDARD
TZOFFSETFROM:-0500
TZOFFSETTO:-0600
TZNAME:CST
DTSTART:20181104T070000
END:STANDARD
BEGIN:DAYLIGHT
TZOFFSETFROM:-0600
TZOFFSETTO:-0500
TZNAME:CDT
DTSTART:20190310T080000
END:DAYLIGHT
BEGIN:STANDARD
TZOFFSETFROM:-0500
TZOFFSETTO:-0600
TZNAME:CST
DTSTART:20191103T070000
END:STANDARD
BEGIN:DAYLIGHT
TZOFFSETFROM:-0600
TZOFFSETTO:-0500
TZNAME:CDT
DTSTART:20200308T080000
END:DAYLIGHT
BEGIN:STANDARD
TZOFFSETFROM:-0500
TZOFFSETTO:-0600
TZNAME:CST
DTSTART:20201101T070000
END:STANDARD
END:VTIMEZONE
BEGIN:VEVENT
DTSTART;TZID=America/Chicago:20191029T173000
DTEND;TZID=America/Chicago:20191029T190000
DTSTAMP:20260421T212940
CREATED:20191018T151510Z
LAST-MODIFIED:20191018T151510Z
UID:11248-1572370200-1572375600@www.mshumanities.org
SUMMARY:Ideas on Tap: What Makes America Great?
DESCRIPTION:On October 29\, join the Mississippi Humanities Council at Hal & Mal’s for the second in a three-part series on American identity. \nThe October 29 program will focus on patriotism: what symbols\, actions\, and words we use to display patriotism; what makes us feel patriotic; how patriotism differs for each person; and much more. The program will feature presentations from individuals across the political spectrum to discuss their relationship to patriotism. Following these presentations\, audience members will discuss patriotism in small-group settings. \nAs always\, snacks and great conversation are on us\, and drinks are on you.
URL:https://www.mshumanities.org/event/ideas-tap-makes-america-great/
LOCATION:Hal & Mal’s\, 200 Commerce Street\, Jackson\, MS\, 39201\, United States
END:VEVENT
END:VCALENDAR