BEGIN:VCALENDAR
VERSION:2.0
PRODID:-//Mississippi Humanities Council - ECPv6.15.18//NONSGML v1.0//EN
CALSCALE:GREGORIAN
METHOD:PUBLISH
X-ORIGINAL-URL:https://www.mshumanities.org
X-WR-CALDESC:Events for Mississippi Humanities Council
REFRESH-INTERVAL;VALUE=DURATION:PT1H
X-Robots-Tag:noindex
X-PUBLISHED-TTL:PT1H
BEGIN:VTIMEZONE
TZID:America/Chicago
BEGIN:DAYLIGHT
TZOFFSETFROM:-0600
TZOFFSETTO:-0500
TZNAME:CDT
DTSTART:20180311T080000
END:DAYLIGHT
BEGIN:STANDARD
TZOFFSETFROM:-0500
TZOFFSETTO:-0600
TZNAME:CST
DTSTART:20181104T070000
END:STANDARD
BEGIN:DAYLIGHT
TZOFFSETFROM:-0600
TZOFFSETTO:-0500
TZNAME:CDT
DTSTART:20190310T080000
END:DAYLIGHT
BEGIN:STANDARD
TZOFFSETFROM:-0500
TZOFFSETTO:-0600
TZNAME:CST
DTSTART:20191103T070000
END:STANDARD
BEGIN:DAYLIGHT
TZOFFSETFROM:-0600
TZOFFSETTO:-0500
TZNAME:CDT
DTSTART:20200308T080000
END:DAYLIGHT
BEGIN:STANDARD
TZOFFSETFROM:-0500
TZOFFSETTO:-0600
TZNAME:CST
DTSTART:20201101T070000
END:STANDARD
END:VTIMEZONE
BEGIN:VEVENT
DTSTART;VALUE=DATE:20191204
DTEND;VALUE=DATE:20191207
DTSTAMP:20260422T002722
CREATED:20190626T204331Z
LAST-MODIFIED:20190626T204331Z
UID:11217-1575417600-1575676799@www.mshumanities.org
SUMMARY:Making and Unmaking Mass Incarceration
DESCRIPTION:  \n  \n  \nContinuing the work of the University of Mississippi’s Rethinking Mass Incarceration in the South conference in 2014 ad 2016 and Harvard’s Beyond the Gates conference in 2018\, the Making and Unmaking Mass Incarceration conference on December 5-7\, 2019 will bring together nationally-recognized scholars\, activists\, policymakers\, lawyers\, artists\, and students at the University of Mississippi to better understand the history of mass incarceration and re-imagine a future in which prisons are not our society’s answer to social and economic problems. \n 
URL:https://www.mshumanities.org/event/making-unmaking-mass-incarceration/
LOCATION:The Overby Center\, 555 Grove Loop\, University\, MS\, 386777\, United States
END:VEVENT
END:VCALENDAR