BEGIN:VCALENDAR
VERSION:2.0
PRODID:-//Mississippi Humanities Council - ECPv6.15.18//NONSGML v1.0//EN
CALSCALE:GREGORIAN
METHOD:PUBLISH
X-ORIGINAL-URL:https://www.mshumanities.org
X-WR-CALDESC:Events for Mississippi Humanities Council
REFRESH-INTERVAL;VALUE=DURATION:PT1H
X-Robots-Tag:noindex
X-PUBLISHED-TTL:PT1H
BEGIN:VTIMEZONE
TZID:America/Chicago
BEGIN:DAYLIGHT
TZOFFSETFROM:-0600
TZOFFSETTO:-0500
TZNAME:CDT
DTSTART:20180311T080000
END:DAYLIGHT
BEGIN:STANDARD
TZOFFSETFROM:-0500
TZOFFSETTO:-0600
TZNAME:CST
DTSTART:20181104T070000
END:STANDARD
BEGIN:DAYLIGHT
TZOFFSETFROM:-0600
TZOFFSETTO:-0500
TZNAME:CDT
DTSTART:20190310T080000
END:DAYLIGHT
BEGIN:STANDARD
TZOFFSETFROM:-0500
TZOFFSETTO:-0600
TZNAME:CST
DTSTART:20191103T070000
END:STANDARD
BEGIN:DAYLIGHT
TZOFFSETFROM:-0600
TZOFFSETTO:-0500
TZNAME:CDT
DTSTART:20200308T080000
END:DAYLIGHT
BEGIN:STANDARD
TZOFFSETFROM:-0500
TZOFFSETTO:-0600
TZNAME:CST
DTSTART:20201101T070000
END:STANDARD
END:VTIMEZONE
BEGIN:VEVENT
DTSTART;TZID=America/Chicago:20191210T173000
DTEND;TZID=America/Chicago:20191210T190000
DTSTAMP:20260422T003206
CREATED:20191202T151335Z
LAST-MODIFIED:20191202T151335Z
UID:11258-1575999000-1576004400@www.mshumanities.org
SUMMARY:Ideas on Tap: Who Is Mississippi?
DESCRIPTION:On December 10\, join the Mississippi Humanities Council and the Women’s Foundation of Mississippi at Hal and Mal’s in Jackson for the third in a three-part series on American identity. \nThe December 10 program will focus on Mississippi identity in 2020. Who lives here and why? Where do Mississippians live? What brought us here or is keeping us here? What is the role of women in the state’s economy? We’ll discuss this and much more with panelists Dr. John J. Green\, director for the Center for Population Studies at the University of Mississippi; Ercilla Dometz-Hendrix\, policy analyst for the office of the state economist and the University Research Center; and a representative from the Women’s Foundation of Mississippi. \nAs always\, snacks and great conversation are on us\, and drinks are on you.
URL:https://www.mshumanities.org/event/ideas-tap-mississippi/
LOCATION:Hal & Mal’s\, 200 Commerce Street\, Jackson\, MS\, 39201\, United States
END:VEVENT
END:VCALENDAR