BEGIN:VCALENDAR
VERSION:2.0
PRODID:-//Mississippi Humanities Council - ECPv6.15.18//NONSGML v1.0//EN
CALSCALE:GREGORIAN
METHOD:PUBLISH
X-WR-CALNAME:Mississippi Humanities Council
X-ORIGINAL-URL:https://www.mshumanities.org
X-WR-CALDESC:Events for Mississippi Humanities Council
REFRESH-INTERVAL;VALUE=DURATION:PT1H
X-Robots-Tag:noindex
X-PUBLISHED-TTL:PT1H
BEGIN:VTIMEZONE
TZID:America/Chicago
BEGIN:DAYLIGHT
TZOFFSETFROM:-0600
TZOFFSETTO:-0500
TZNAME:CDT
DTSTART:20180311T080000
END:DAYLIGHT
BEGIN:STANDARD
TZOFFSETFROM:-0500
TZOFFSETTO:-0600
TZNAME:CST
DTSTART:20181104T070000
END:STANDARD
BEGIN:DAYLIGHT
TZOFFSETFROM:-0600
TZOFFSETTO:-0500
TZNAME:CDT
DTSTART:20190310T080000
END:DAYLIGHT
BEGIN:STANDARD
TZOFFSETFROM:-0500
TZOFFSETTO:-0600
TZNAME:CST
DTSTART:20191103T070000
END:STANDARD
BEGIN:DAYLIGHT
TZOFFSETFROM:-0600
TZOFFSETTO:-0500
TZNAME:CDT
DTSTART:20200308T080000
END:DAYLIGHT
BEGIN:STANDARD
TZOFFSETFROM:-0500
TZOFFSETTO:-0600
TZNAME:CST
DTSTART:20201101T070000
END:STANDARD
END:VTIMEZONE
BEGIN:VEVENT
DTSTART;TZID=America/Chicago:20191211T173000
DTEND;TZID=America/Chicago:20191211T193000
DTSTAMP:20260422T002447
CREATED:20190220T161113Z
LAST-MODIFIED:20190220T161113Z
UID:11172-1576085400-1576092600@www.mshumanities.org
SUMMARY:Capturing the Coast: Chauncey Hinman and the Tourism Industry
DESCRIPTION:The Local History and Genealogy Department of Biloxi Public Library recently received a donation of over 36\,000 negatives of weddings\, events\, families\, land aerials\, and historic buildings by Chauncey Hinman. Hinman (1913-1989) was a commercial photographer who was active from the late 1940s to the 1980s. During his most active period from the 1950s-1960s\, Hinman worked for the magazine Down South. Hinman’s work documents the advances that transformed the Mississippi Gulf COast economy from seafoood industry-centric t tourism-focused. \nOnce digitized\, there will be will an exhibition highlights some of the interesting images from the collection. There will be a discussion of the career of Hinman and the tourism industry of the Mississippi Gulf Coast. \nThe public program will feature Dr. Deanne Stephens (Professor of History at University of Southern Mississippi.) \n 
URL:https://www.mshumanities.org/event/capturing-coast-chauncey-hinman-tourism-industry/
LOCATION:Biloxi Public Library\, 580 Howard Avenue\, Biloxi\, MS\, 39530
END:VEVENT
END:VCALENDAR