BEGIN:VCALENDAR
VERSION:2.0
PRODID:-//Mississippi Humanities Council - ECPv6.15.18//NONSGML v1.0//EN
CALSCALE:GREGORIAN
METHOD:PUBLISH
X-ORIGINAL-URL:https://www.mshumanities.org
X-WR-CALDESC:Events for Mississippi Humanities Council
REFRESH-INTERVAL;VALUE=DURATION:PT1H
X-Robots-Tag:noindex
X-PUBLISHED-TTL:PT1H
BEGIN:VTIMEZONE
TZID:America/Chicago
BEGIN:DAYLIGHT
TZOFFSETFROM:-0600
TZOFFSETTO:-0500
TZNAME:CDT
DTSTART:20180311T080000
END:DAYLIGHT
BEGIN:STANDARD
TZOFFSETFROM:-0500
TZOFFSETTO:-0600
TZNAME:CST
DTSTART:20181104T070000
END:STANDARD
BEGIN:DAYLIGHT
TZOFFSETFROM:-0600
TZOFFSETTO:-0500
TZNAME:CDT
DTSTART:20190310T080000
END:DAYLIGHT
BEGIN:STANDARD
TZOFFSETFROM:-0500
TZOFFSETTO:-0600
TZNAME:CST
DTSTART:20191103T070000
END:STANDARD
BEGIN:DAYLIGHT
TZOFFSETFROM:-0600
TZOFFSETTO:-0500
TZNAME:CDT
DTSTART:20200308T080000
END:DAYLIGHT
BEGIN:STANDARD
TZOFFSETFROM:-0500
TZOFFSETTO:-0600
TZNAME:CST
DTSTART:20201101T070000
END:STANDARD
END:VTIMEZONE
BEGIN:VEVENT
DTSTART;TZID=America/Chicago:20191212T080000
DTEND;TZID=America/Chicago:20191212T170000
DTSTAMP:20260422T002721
CREATED:20191113T155423Z
LAST-MODIFIED:20191113T155423Z
UID:11252-1576137600-1576170000@www.mshumanities.org
SUMMARY:Bridging Cultures: Working for Equity Across Race\, Class\, Religion\, and Ethnicity
DESCRIPTION:Through its “Bridging Cultures” Program\, the International Museum of Muslin Cultures utilizes its two signature exhibitions: “Muslims with Christians and Jews: An Exhibition of Covenants and Coexistence\,” and “The Legacy of Timbuktu: Wonders of the Written Word” to develop a series of programs and educational opportunities.  IMMC’s Islamic Thought Institute engages local and  national partners to host a series of conversations and/or panel discussions around the various themes of the two exhibitions. \nThe topic for December’s event is “Islam and the Discovery of Freedom”: A conversation exploring Prophet Muhammad’s liberating Theology and its impact of the American Revolution.
URL:https://www.mshumanities.org/event/bridging-cultures-working-equity-across-race-class-religion-ethnicity/
LOCATION:International Museum of Muslim Cultures\, 201 East Pascagoula Street\, Jackson\, MS\, 39201
END:VEVENT
END:VCALENDAR