BEGIN:VCALENDAR
VERSION:2.0
PRODID:-//Mississippi Humanities Council - ECPv6.15.18//NONSGML v1.0//EN
CALSCALE:GREGORIAN
METHOD:PUBLISH
X-ORIGINAL-URL:https://www.mshumanities.org
X-WR-CALDESC:Events for Mississippi Humanities Council
REFRESH-INTERVAL;VALUE=DURATION:PT1H
X-Robots-Tag:noindex
X-PUBLISHED-TTL:PT1H
BEGIN:VTIMEZONE
TZID:America/Chicago
BEGIN:DAYLIGHT
TZOFFSETFROM:-0600
TZOFFSETTO:-0500
TZNAME:CDT
DTSTART:20190310T080000
END:DAYLIGHT
BEGIN:STANDARD
TZOFFSETFROM:-0500
TZOFFSETTO:-0600
TZNAME:CST
DTSTART:20191103T070000
END:STANDARD
BEGIN:DAYLIGHT
TZOFFSETFROM:-0600
TZOFFSETTO:-0500
TZNAME:CDT
DTSTART:20200308T080000
END:DAYLIGHT
BEGIN:STANDARD
TZOFFSETFROM:-0500
TZOFFSETTO:-0600
TZNAME:CST
DTSTART:20201101T070000
END:STANDARD
BEGIN:DAYLIGHT
TZOFFSETFROM:-0600
TZOFFSETTO:-0500
TZNAME:CDT
DTSTART:20210314T080000
END:DAYLIGHT
BEGIN:STANDARD
TZOFFSETFROM:-0500
TZOFFSETTO:-0600
TZNAME:CST
DTSTART:20211107T070000
END:STANDARD
END:VTIMEZONE
BEGIN:VEVENT
DTSTART;TZID=America/Chicago:20200206T173000
DTEND;TZID=America/Chicago:20200206T183000
DTSTAMP:20260422T032504
CREATED:20200129T154955Z
LAST-MODIFIED:20200129T154955Z
UID:11276-1581010200-1581013800@www.mshumanities.org
SUMMARY:"Back in the Day" Black History Celebration: New Hope Legacy Night
DESCRIPTION:Annual Black history month programs featuring historical perspectives on the African American experience in Mississippi from slavery through Civil Rights and contemporary times. The February 6th event will feature guest speaker Dr. John A Peoples\, Jr.\, retired President of Jackson State University.
URL:https://www.mshumanities.org/event/back-day-black-history-celebration-new-hope-legacy-night/
LOCATION:New Hope Baptist Church\, 5202 Watkins Dr.\, Jackson\, MS\, 39206
END:VEVENT
END:VCALENDAR