BEGIN:VCALENDAR
VERSION:2.0
PRODID:-//Mississippi Humanities Council - ECPv6.15.18//NONSGML v1.0//EN
CALSCALE:GREGORIAN
METHOD:PUBLISH
X-WR-CALNAME:Mississippi Humanities Council
X-ORIGINAL-URL:https://www.mshumanities.org
X-WR-CALDESC:Events for Mississippi Humanities Council
REFRESH-INTERVAL;VALUE=DURATION:PT1H
X-Robots-Tag:noindex
X-PUBLISHED-TTL:PT1H
BEGIN:VTIMEZONE
TZID:America/Chicago
BEGIN:DAYLIGHT
TZOFFSETFROM:-0600
TZOFFSETTO:-0500
TZNAME:CDT
DTSTART:20190310T080000
END:DAYLIGHT
BEGIN:STANDARD
TZOFFSETFROM:-0500
TZOFFSETTO:-0600
TZNAME:CST
DTSTART:20191103T070000
END:STANDARD
BEGIN:DAYLIGHT
TZOFFSETFROM:-0600
TZOFFSETTO:-0500
TZNAME:CDT
DTSTART:20200308T080000
END:DAYLIGHT
BEGIN:STANDARD
TZOFFSETFROM:-0500
TZOFFSETTO:-0600
TZNAME:CST
DTSTART:20201101T070000
END:STANDARD
BEGIN:DAYLIGHT
TZOFFSETFROM:-0600
TZOFFSETTO:-0500
TZNAME:CDT
DTSTART:20210314T080000
END:DAYLIGHT
BEGIN:STANDARD
TZOFFSETFROM:-0500
TZOFFSETTO:-0600
TZNAME:CST
DTSTART:20211107T070000
END:STANDARD
END:VTIMEZONE
BEGIN:VEVENT
DTSTART;TZID=America/Chicago:20200218T110000
DTEND;TZID=America/Chicago:20200218T120000
DTSTAMP:20260422T032200
CREATED:20200217T153157Z
LAST-MODIFIED:20200217T153157Z
UID:11283-1582023600-1582027200@www.mshumanities.org
SUMMARY:Time Bomb in a River: Ross Barnett\, JFK\, and 2 Million Pounds of Missing Chlorine
DESCRIPTION:Dr. Micah Rueber\, Humanities Teacher Awardee for Mississippi Valley State University\, will present his public lecture: \nRueber will present material he has gathered while working on a manuscript about a river barge that sank in 1961.  While barge sinkings are not uncommon\, this one drew the attention of President Kennedy because it was carrying 1000 tons of pressurized liquid chlorine that\, if released\, would threaten over 40\,000 people in and around Natchez\, MS.  The subsequent clean-up efforts\, which involved a wide range of both state and federal agencies\, reveals how Mississippi governor Ross Barnett\, while taking a very public stance against the federal government in refusing to admit James Meredith to Ole Miss\, showed quite a different character behind the scenes\, as he took great pains to make sure that the federal government spared no effort or expense in removing the dangerous material.
URL:https://www.mshumanities.org/event/time-bomb-river-ross-barnett-jfk-2-million-pounds-missing-chlorine/
LOCATION:Mississippi Valley State University\, 14000 US-82\, Itta Bena\, MS\, 38941
END:VEVENT
BEGIN:VEVENT
DTSTART;TZID=America/Chicago:20200218T120000
DTEND;TZID=America/Chicago:20200218T130000
DTSTAMP:20260422T032200
CREATED:20200217T154012Z
LAST-MODIFIED:20200217T154012Z
UID:11284-1582027200-1582030800@www.mshumanities.org
SUMMARY:The History and Phenomena of John Newton's "Amazing Grace!" within American Christianity and Beyond
DESCRIPTION:  \n  \nJohn Robert Hall\, Humanities Teacher Award winner for Holmes Community College\, presents his public lecture: \nIn 1772\, John Newton\, former slave trader turned Anglican priest\, wrote the words to the hymn titled “Amazing Grace!”  Though published in 1779\, “Amazing Grace!” remained a lesser known hymn in Great Britain; however\, in the nineteenth century in the United States\, it grew in popularity\, gained a new verse\, and secured its now recognizable hymn tune.  From the end of the twentieth century into the twenty-first century\, “Amazing Grace!” has become not only a popular song\, both musically and lyrically\, but often produces phenomena beyond the words of John Newton.
URL:https://www.mshumanities.org/event/history-phenomena-john-newtons-amazing-grace-within-american-christianity-beyond/
LOCATION:Holmes Community College – Ridgeland Campus\, 412 W. Ridgeland Avenue\, Ridgeland\, MS\, 39157
END:VEVENT
BEGIN:VEVENT
DTSTART;TZID=America/Chicago:20200218T170000
DTEND;TZID=America/Chicago:20200218T180000
DTSTAMP:20260422T032200
CREATED:20200217T152452Z
LAST-MODIFIED:20200217T152452Z
UID:11282-1582045200-1582048800@www.mshumanities.org
SUMMARY:Medievalism: The Uses of the Middle Ages in the Modern World
DESCRIPTION:Dr. Courtney Luckhardt\, Humanities Teacher Awardee for the University of Southern Mississippi\, presents her public lecture: \nIn order to make the history of the European Middle Ages relevant\, it’s important for both students and the wider public to understand the way that the history of pre-modern period is used by modern people. Dr. Luckhardt teaches not only on the history of the Middle Ages itself (500-1500 CE)\, but also on “medievalism\,” which is the use of ideas about the Middle Ages to serve contemporary needs. For instance\, ideas about the glory of the Middle Ages have been used by white supremacists to reduce the real and complex history of the period to the supposed “white” origins of civilization. In order to bust myths about the so-called “Dark Ages”\, we must re-examine our ideas about the past in light of cutting-edge scholarship\, which can help us to shake off antiquated ideas that reflect neither pre-modern historical realities\, nor who we are now in the 21st century.
URL:https://www.mshumanities.org/event/medievalism-uses-middle-ages-modern-world/
LOCATION:University of Southern Mississippi\, Hattiesburg \, MS - Mississippi\, 39406
END:VEVENT
BEGIN:VEVENT
DTSTART;TZID=America/Chicago:20200218T173000
DTEND;TZID=America/Chicago:20200218T190000
DTSTAMP:20260422T032200
CREATED:20200205T155304Z
LAST-MODIFIED:20200205T155304Z
UID:11279-1582047000-1582052400@www.mshumanities.org
SUMMARY:Ideas on Tap: Prison Re-Vision
DESCRIPTION:On February 18\, join the Mississippi Humanities Council at Hal and Mal’s in Jackson for a program about prison reform in Mississippi. \nThe February 18 program will focus on the current unrest and violence in Mississippi prisons as a way to examine our larger relationship to the prison system\, its history and role in our society\, and the effects of possible reform efforts. Panelists include James Robertson (Empower Mississippi)\, Stephanie Rolph (Millsaps College)\, and Rukia Lumumba (People’s Advocacy Institute). \nAs always\, snacks and great conversation are on us\, and drinks are on you.
URL:https://www.mshumanities.org/event/ideas-tap-prison-re-vision/
LOCATION:Hal & Mal’s\, 200 Commerce Street\, Jackson\, MS\, 39201\, United States
END:VEVENT
BEGIN:VEVENT
DTSTART;TZID=America/Chicago:20200218T180000
DTEND;TZID=America/Chicago:20200218T180000
DTSTAMP:20260422T032200
CREATED:20200113T211619Z
LAST-MODIFIED:20200113T211619Z
UID:11261-1582048800-1582048800@www.mshumanities.org
SUMMARY:League of Women Voters 100th Anniversary Project
DESCRIPTION:  \nThe League of Women Voters Oxford-North Mississippi will present a media project commemorating 100 years of womens suffrage (as well as the founding of LWV) at a February 18 celebration.
URL:https://www.mshumanities.org/event/league-women-voters-100th-anniversary-project/
LOCATION:The Lyric\, 1006 VanBuren Avenue\, Oxford\, MS\, 38655
END:VEVENT
BEGIN:VEVENT
DTSTART;TZID=America/Chicago:20200218T180000
DTEND;TZID=America/Chicago:20200218T190000
DTSTAMP:20260422T032200
CREATED:20200217T152134Z
LAST-MODIFIED:20200217T152134Z
UID:11281-1582048800-1582052400@www.mshumanities.org
SUMMARY:"1619" Myths and Memories of Slavery in the United States
DESCRIPTION:Dr. Christian Pinnen\, Humanities Teacher of the Year for Mississippi College\, presents his public lecture: \nThe date “1619” has garnered more attention than in recent memory over the last couple of months. The year the first enslaved Africans arrived on the shores of the Virginia colony engenders a sort of intellectual reckoning with Americas past and the deep roots of slavery in the history of the country\, but it also lays open the fault lines of our public discourse. I want to use this opportunity to talk about the role of the (digital) humanities at large in this debate\, how historians include the story of slavery in the production of American history\, and the difficulties historians encounter to cement the facts that surround the events in 1619. Engaging the public in a debate about the meaning of race and slavery in United States history is vital\, yet controversial even 400 plus years after the first arrival of enslaved people on the Eastern Seaboard.
URL:https://www.mshumanities.org/event/1619-myths-memories-slavery-united-states/
LOCATION:Mississippi College\, 200 Capitol St.\, Clinton\, MS\, 39056
END:VEVENT
BEGIN:VEVENT
DTSTART;TZID=America/Chicago:20200218T190000
DTEND;TZID=America/Chicago:20200218T190000
DTSTAMP:20260422T032200
CREATED:20200113T211054Z
LAST-MODIFIED:20200113T211054Z
UID:11260-1582052400-1582052400@www.mshumanities.org
SUMMARY:The Academy Stories
DESCRIPTION:  \n  \nDelta State University will host Ellen Ann Fentress\, author\, journalist\, and documentary filmmaker\, from February 17-19\, 2020. On February 18 at 7pm\, Ms. Fentress will present a public program about her latest project\, “The Academy Stories.” A panel discussion will occur immediately following the presentation (Broom Hall\, Baioni Conference Center.)
URL:https://www.mshumanities.org/event/the-academy-stories/
LOCATION:Delta State University\, 1003 W Sunflower Rd\, Cleveland\, MS\, 38733\, United States
END:VEVENT
END:VCALENDAR