BEGIN:VCALENDAR
VERSION:2.0
PRODID:-//Mississippi Humanities Council - ECPv6.15.18//NONSGML v1.0//EN
CALSCALE:GREGORIAN
METHOD:PUBLISH
X-ORIGINAL-URL:https://www.mshumanities.org
X-WR-CALDESC:Events for Mississippi Humanities Council
REFRESH-INTERVAL;VALUE=DURATION:PT1H
X-Robots-Tag:noindex
X-PUBLISHED-TTL:PT1H
BEGIN:VTIMEZONE
TZID:America/Chicago
BEGIN:DAYLIGHT
TZOFFSETFROM:-0600
TZOFFSETTO:-0500
TZNAME:CDT
DTSTART:20190310T080000
END:DAYLIGHT
BEGIN:STANDARD
TZOFFSETFROM:-0500
TZOFFSETTO:-0600
TZNAME:CST
DTSTART:20191103T070000
END:STANDARD
BEGIN:DAYLIGHT
TZOFFSETFROM:-0600
TZOFFSETTO:-0500
TZNAME:CDT
DTSTART:20200308T080000
END:DAYLIGHT
BEGIN:STANDARD
TZOFFSETFROM:-0500
TZOFFSETTO:-0600
TZNAME:CST
DTSTART:20201101T070000
END:STANDARD
BEGIN:DAYLIGHT
TZOFFSETFROM:-0600
TZOFFSETTO:-0500
TZNAME:CDT
DTSTART:20210314T080000
END:DAYLIGHT
BEGIN:STANDARD
TZOFFSETFROM:-0500
TZOFFSETTO:-0600
TZNAME:CST
DTSTART:20211107T070000
END:STANDARD
END:VTIMEZONE
BEGIN:VEVENT
DTSTART;TZID=America/Chicago:20200219T140000
DTEND;TZID=America/Chicago:20200219T150000
DTSTAMP:20260422T032541
CREATED:20200217T162258Z
LAST-MODIFIED:20200217T162258Z
UID:11285-1582120800-1582124400@www.mshumanities.org
SUMMARY:International Service-Learning: Faculty Engagement and Transformation
DESCRIPTION:  \n  \nDr. Kristen K. White\, Humanities Teacher Awardee for Belhaven University\, presents her public lecture: \nThis qualitative study explored how international service-learning developed faculty personally and professionally. The 48 interviews from 17 faith-based universities found that if faculty engaged in all four of Kolb’s (1984) experiential learning stages\, their commitment to service-learning increased and encouraged their continued participation in future service-learning opportunities benefitting their students.
URL:https://www.mshumanities.org/event/international-service-learning-faculty-engagement-transformation/
LOCATION:Belhaven University\, 1500 Peachtree Street\, Jackson\, MS\, 39202
END:VEVENT
BEGIN:VEVENT
DTSTART;TZID=America/Chicago:20200219T160000
DTEND;TZID=America/Chicago:20200219T170000
DTSTAMP:20260422T032541
CREATED:20200217T162919Z
LAST-MODIFIED:20200217T162919Z
UID:11286-1582128000-1582131600@www.mshumanities.org
SUMMARY:The Shadow of Death: Southern Baptists and the Politics of Compassion in the Nigeria-Biafra War 1967-70
DESCRIPTION:  \nAs the recipient of the Humanities Teacher Award at Millsaps College\, Dr. Davis will give a public lecture on Wednesday\, February 19\, 2020 at 4:00 p.m. in the McMullen Lecture Hall (Room 122) in the Selby and Richard McRae Christian Center on the Millsaps College campus entitled\, “The Shadow of Death: Southern Baptists and the Politics of Compassion in the Nigeria-Biafra War 1967-70.” The lecture will focus on the international politics of humanitarian efforts in Nigerian Civil War\, a very personal and cathartic journey based on the his father’s time in Biafra. His story is just one of thousands of  stories of heroism\, self-sacrifice\, and compassion that emerge from the human tragedy that was the Nigerian Civil War. Dr. Davis is currently working on a manuscript entitled “Heroes of Mercy.”
URL:https://www.mshumanities.org/event/shadow-death-southern-baptists-politics-compassion-nigeria-biafra-war-1967-70/
LOCATION:Millsaps College\, 1701 N. State Street\, Jackson\, Mississippi\, 39202
END:VEVENT
END:VCALENDAR