BEGIN:VCALENDAR
VERSION:2.0
PRODID:-//Mississippi Humanities Council - ECPv6.15.18//NONSGML v1.0//EN
CALSCALE:GREGORIAN
METHOD:PUBLISH
X-WR-CALNAME:Mississippi Humanities Council
X-ORIGINAL-URL:https://www.mshumanities.org
X-WR-CALDESC:Events for Mississippi Humanities Council
REFRESH-INTERVAL;VALUE=DURATION:PT1H
X-Robots-Tag:noindex
X-PUBLISHED-TTL:PT1H
BEGIN:VTIMEZONE
TZID:America/Chicago
BEGIN:DAYLIGHT
TZOFFSETFROM:-0600
TZOFFSETTO:-0500
TZNAME:CDT
DTSTART:20190310T080000
END:DAYLIGHT
BEGIN:STANDARD
TZOFFSETFROM:-0500
TZOFFSETTO:-0600
TZNAME:CST
DTSTART:20191103T070000
END:STANDARD
BEGIN:DAYLIGHT
TZOFFSETFROM:-0600
TZOFFSETTO:-0500
TZNAME:CDT
DTSTART:20200308T080000
END:DAYLIGHT
BEGIN:STANDARD
TZOFFSETFROM:-0500
TZOFFSETTO:-0600
TZNAME:CST
DTSTART:20201101T070000
END:STANDARD
BEGIN:DAYLIGHT
TZOFFSETFROM:-0600
TZOFFSETTO:-0500
TZNAME:CDT
DTSTART:20210314T080000
END:DAYLIGHT
BEGIN:STANDARD
TZOFFSETFROM:-0500
TZOFFSETTO:-0600
TZNAME:CST
DTSTART:20211107T070000
END:STANDARD
END:VTIMEZONE
BEGIN:VEVENT
DTSTART;TZID=America/Chicago:20200224T180000
DTEND;TZID=America/Chicago:20200224T190000
DTSTAMP:20260422T032221
CREATED:20200217T171257Z
LAST-MODIFIED:20200217T171257Z
UID:11290-1582567200-1582570800@www.mshumanities.org
SUMMARY:How History and the Humanities Can Fight White Supremacy
DESCRIPTION:  \n  \nDr. Kristi DiClemente\, Humanities Teacher Awardee at Mississippi University for Women\, will present her public lecture: \nIn the past few years\, white supremacist groups have adopted historical imagery\, and an imagined “pure” European past to argue against diversity and inclusion in all aspects of modern life. DiClemente will take on this ahistorical interpretation of the past and discuss how we as historians\, and other humanities faculty\, can fight against this imagery by actively decolonizing syllabuses and supporting the voices of underrepresented scholars.
URL:https://www.mshumanities.org/event/history-humanities-can-fight-white-supremacy/
LOCATION:Mississippi University for Women – Fant Memorial Library\, 1200 5th Ave S\, Columbus\, MS\, 39701\, United States
END:VEVENT
END:VCALENDAR