BEGIN:VCALENDAR
VERSION:2.0
PRODID:-//Mississippi Humanities Council - ECPv6.15.18//NONSGML v1.0//EN
CALSCALE:GREGORIAN
METHOD:PUBLISH
X-WR-CALNAME:Mississippi Humanities Council
X-ORIGINAL-URL:https://www.mshumanities.org
X-WR-CALDESC:Events for Mississippi Humanities Council
REFRESH-INTERVAL;VALUE=DURATION:PT1H
X-Robots-Tag:noindex
X-PUBLISHED-TTL:PT1H
BEGIN:VTIMEZONE
TZID:America/Chicago
BEGIN:DAYLIGHT
TZOFFSETFROM:-0600
TZOFFSETTO:-0500
TZNAME:CDT
DTSTART:20190310T080000
END:DAYLIGHT
BEGIN:STANDARD
TZOFFSETFROM:-0500
TZOFFSETTO:-0600
TZNAME:CST
DTSTART:20191103T070000
END:STANDARD
BEGIN:DAYLIGHT
TZOFFSETFROM:-0600
TZOFFSETTO:-0500
TZNAME:CDT
DTSTART:20200308T080000
END:DAYLIGHT
BEGIN:STANDARD
TZOFFSETFROM:-0500
TZOFFSETTO:-0600
TZNAME:CST
DTSTART:20201101T070000
END:STANDARD
BEGIN:DAYLIGHT
TZOFFSETFROM:-0600
TZOFFSETTO:-0500
TZNAME:CDT
DTSTART:20210314T080000
END:DAYLIGHT
BEGIN:STANDARD
TZOFFSETFROM:-0500
TZOFFSETTO:-0600
TZNAME:CST
DTSTART:20211107T070000
END:STANDARD
END:VTIMEZONE
BEGIN:VEVENT
DTSTART;TZID=America/Chicago:20200304T180000
DTEND;TZID=America/Chicago:20200304T190000
DTSTAMP:20260422T050240
CREATED:20200121T180704Z
LAST-MODIFIED:20200121T180704Z
UID:11262-1583344800-1583348400@www.mshumanities.org
SUMMARY:The Global South and the Black Diaspora--From Mississippi to the Caribbean
DESCRIPTION:A two-day event with keynote presentations by Dr. Jarvis McInnis\, the Cordelia and William Laverack Assistant Professor of English at Duke University. A graduate of Tougaloo College\, Dr. McInnis’s upcoming book\, The Afterlives of the Plantation: Aesthetics\, Labor\, and Diaspora in the Global Black South\, examines black transnational identity through African American and Caribbean culture and literature during the early twentieth century. McInnis’s recognition that black identities overlapped as much as they diverged\, offers a unique insight into this period of history where the consolidation of white power–through imperialist growth and systematic black disempowerment–tend to dominate the historical narrative. \n \nMcInnis offers two lectures\, both free and open to the public: \nWednesday\, March 4th @ 6pm\, at Millsaps College (focused on the book project with an eye toward the meaning of the “Global South” and racial identity \nThursday\, March 5th @ 12PM\, at the 2020 Mississippi Historical Society’s annual meeting in Cleveland\, MS (focused on his archival journey and the process of developing his recently published article\, “A Corporate Plantation Reading Public: Labor\, Literacy\, and Diaspora in the Global South\,”–Which focuses on Cotton Farmer\, an African American newspaper published by black tenant farmers in the Mississippi Delta.)
URL:https://www.mshumanities.org/event/global-south-black-diaspora-mississippi-carribbean/
LOCATION:Millsaps College\, 1701 N. State Street\, Jackson\, Mississippi\, 39202
END:VEVENT
END:VCALENDAR