BEGIN:VCALENDAR
VERSION:2.0
PRODID:-//Mississippi Humanities Council - ECPv6.15.18//NONSGML v1.0//EN
CALSCALE:GREGORIAN
METHOD:PUBLISH
X-ORIGINAL-URL:https://www.mshumanities.org
X-WR-CALDESC:Events for Mississippi Humanities Council
REFRESH-INTERVAL;VALUE=DURATION:PT1H
X-Robots-Tag:noindex
X-PUBLISHED-TTL:PT1H
BEGIN:VTIMEZONE
TZID:America/Chicago
BEGIN:DAYLIGHT
TZOFFSETFROM:-0600
TZOFFSETTO:-0500
TZNAME:CDT
DTSTART:20190310T080000
END:DAYLIGHT
BEGIN:STANDARD
TZOFFSETFROM:-0500
TZOFFSETTO:-0600
TZNAME:CST
DTSTART:20191103T070000
END:STANDARD
BEGIN:DAYLIGHT
TZOFFSETFROM:-0600
TZOFFSETTO:-0500
TZNAME:CDT
DTSTART:20200308T080000
END:DAYLIGHT
BEGIN:STANDARD
TZOFFSETFROM:-0500
TZOFFSETTO:-0600
TZNAME:CST
DTSTART:20201101T070000
END:STANDARD
BEGIN:DAYLIGHT
TZOFFSETFROM:-0600
TZOFFSETTO:-0500
TZNAME:CDT
DTSTART:20210314T080000
END:DAYLIGHT
BEGIN:STANDARD
TZOFFSETFROM:-0500
TZOFFSETTO:-0600
TZNAME:CST
DTSTART:20211107T070000
END:STANDARD
END:VTIMEZONE
BEGIN:VEVENT
DTSTART;TZID=America/Chicago:20200312T080000
DTEND;TZID=America/Chicago:20200312T170000
DTSTAMP:20260422T050534
CREATED:20191113T162246Z
LAST-MODIFIED:20191113T162246Z
UID:11255-1584000000-1584032400@www.mshumanities.org
SUMMARY:Bridging Cultures: Working for Equity Across Race\, Class\, Religion\, and Ethnicity
DESCRIPTION:Through its “Bridging Cultures” Program\, the International Museum of Muslin Cultures utilizes its two signature exhibitions: “Muslims with Christians and Jews: An Exhibition of Covenants and Coexistence\,” and “The Legacy of Timbuktu: Wonders of the Written Word” to develop a series of programs and educational opportunities.  IMMC’s Islamic Thought Institute engages local and national partners to host a series of conversations and/or panel discussions around the various themes of the two exhibitions. \nThe topic for March’s event is “Religion and the Freedom Movement: The Historical and Current Role of Women\,” A conversation exploring religion’s connection with the Freedom Movement through the role of women.
URL:https://www.mshumanities.org/event/bridging-cultures-working-equity-across-race-class-religion-ethnicity-4/
LOCATION:International Museum of Muslim Cultures\, 201 East Pascagoula Street\, Jackson\, MS\, 39201
END:VEVENT
END:VCALENDAR