BEGIN:VCALENDAR
VERSION:2.0
PRODID:-//Mississippi Humanities Council - ECPv6.15.18//NONSGML v1.0//EN
CALSCALE:GREGORIAN
METHOD:PUBLISH
X-WR-CALNAME:Mississippi Humanities Council
X-ORIGINAL-URL:https://www.mshumanities.org
X-WR-CALDESC:Events for Mississippi Humanities Council
REFRESH-INTERVAL;VALUE=DURATION:PT1H
X-Robots-Tag:noindex
X-PUBLISHED-TTL:PT1H
BEGIN:VTIMEZONE
TZID:America/Chicago
BEGIN:DAYLIGHT
TZOFFSETFROM:-0600
TZOFFSETTO:-0500
TZNAME:CDT
DTSTART:20190310T080000
END:DAYLIGHT
BEGIN:STANDARD
TZOFFSETFROM:-0500
TZOFFSETTO:-0600
TZNAME:CST
DTSTART:20191103T070000
END:STANDARD
BEGIN:DAYLIGHT
TZOFFSETFROM:-0600
TZOFFSETTO:-0500
TZNAME:CDT
DTSTART:20200308T080000
END:DAYLIGHT
BEGIN:STANDARD
TZOFFSETFROM:-0500
TZOFFSETTO:-0600
TZNAME:CST
DTSTART:20201101T070000
END:STANDARD
BEGIN:DAYLIGHT
TZOFFSETFROM:-0600
TZOFFSETTO:-0500
TZNAME:CDT
DTSTART:20210314T080000
END:DAYLIGHT
BEGIN:STANDARD
TZOFFSETFROM:-0500
TZOFFSETTO:-0600
TZNAME:CST
DTSTART:20211107T070000
END:STANDARD
END:VTIMEZONE
BEGIN:VEVENT
DTSTART;TZID=America/Chicago:20200421T180000
DTEND;TZID=America/Chicago:20200421T190000
DTSTAMP:20260422T063230
CREATED:20200123T164449Z
LAST-MODIFIED:20200123T164449Z
UID:11265-1587492000-1587495600@www.mshumanities.org
SUMMARY:Voice and Vision: Fire and Water
DESCRIPTION:These programs are part of the Museum’s Voice and Vision initiative that stages dialogues between the works of Walter Anderson and artifacts from other collections\, along with voices across time and place. Voice and Vision includes four in-gallery installations composed of artworks\, objects\, scholarship\, and documentary fieldwork\, representing a diversity of stories and experiences rooted in the Southern land. \nWalter Anderson sought harmony between humanity and the environment\, in part as a response to what he observed as the destruction that accompanied modern society. In partnership with the Grand Bay National Estuarine Research Reserve\, this interdisciplinary public program connects Anderson’s life and art to current Gulf Coast conservation efforts. Special guests include Jack E. Davis\, professor of history and the Rothman Family Chair in the Humanities at the University of Florida\, where he specializes in environmental history and sustainability studies. In 2018\, his book The Gulf: The Making of an American Sea won the Pulitzer Prize in history. Cost: Free to the public.
URL:https://www.mshumanities.org/event/voice-vision-fire-water/
LOCATION:Walter Anderson Museum of Art\, 510 Washington Ave\, Ocean Springs\, MS\, 39564
END:VEVENT
END:VCALENDAR