BEGIN:VCALENDAR
VERSION:2.0
PRODID:-//Mississippi Humanities Council - ECPv6.15.18//NONSGML v1.0//EN
CALSCALE:GREGORIAN
METHOD:PUBLISH
X-ORIGINAL-URL:https://www.mshumanities.org
X-WR-CALDESC:Events for Mississippi Humanities Council
REFRESH-INTERVAL;VALUE=DURATION:PT1H
X-Robots-Tag:noindex
X-PUBLISHED-TTL:PT1H
BEGIN:VTIMEZONE
TZID:America/Chicago
BEGIN:DAYLIGHT
TZOFFSETFROM:-0600
TZOFFSETTO:-0500
TZNAME:CDT
DTSTART:20190310T080000
END:DAYLIGHT
BEGIN:STANDARD
TZOFFSETFROM:-0500
TZOFFSETTO:-0600
TZNAME:CST
DTSTART:20191103T070000
END:STANDARD
BEGIN:DAYLIGHT
TZOFFSETFROM:-0600
TZOFFSETTO:-0500
TZNAME:CDT
DTSTART:20200308T080000
END:DAYLIGHT
BEGIN:STANDARD
TZOFFSETFROM:-0500
TZOFFSETTO:-0600
TZNAME:CST
DTSTART:20201101T070000
END:STANDARD
BEGIN:DAYLIGHT
TZOFFSETFROM:-0600
TZOFFSETTO:-0500
TZNAME:CDT
DTSTART:20210314T080000
END:DAYLIGHT
BEGIN:STANDARD
TZOFFSETFROM:-0500
TZOFFSETTO:-0600
TZNAME:CST
DTSTART:20211107T070000
END:STANDARD
END:VTIMEZONE
BEGIN:VEVENT
DTSTART;TZID=America/Chicago:20200626T120000
DTEND;TZID=America/Chicago:20200626T130000
DTSTAMP:20260422T093802
CREATED:20200619T144220Z
LAST-MODIFIED:20200619T144220Z
UID:11299-1593172800-1593176400@www.mshumanities.org
SUMMARY:SB: Black Women and the Suffrage Movement in Mississippi\, 1863-1965
DESCRIPTION:Black women in Mississippi actively participated in the suffrage movement after the Civil War. They fought actively for women’s suffrage even as they supported Black men and passage of the 15th Amendment. With passage of the 19th Amendment in 1920\, Black women could not claim victory. It would take another 40  years before they could exercise the right to vote. White supremacy robbed Black women of the right to vote. White women\, who should have been allies in the fight for women’s suffrage\, turned their backs on Black women. Black women\, then\, fought both racism and sexism in the struggle for the right to vote. They created a vibrant\, active political culture that began during the Civil War. They attended political rallies\, campaigned and raised money for candidates\, monitored polling places\, and counted ballots. They participated actively in political clubs\, first in Loyal Leagues and later in Republican Clubs. Black women built a vibrant political culture in the church\, secret societies\, clubs\, and even their independent enterprises. They did so despite being shunned by White women suffragists; subjected to extralegal racial sexual violence and economic repression by Whites; and  undermined by the sexism of Black men. This presentation provides an overview of the 100-year-fight by Black women in Mississippi to maintain their place in public political discourse\, from the Civil War to passage of the Voting Rights Act in 1965.
URL:https://www.mshumanities.org/event/sb-black-women-suffrage-movement-mississippi-1863-1965-2/
LOCATION:MS
END:VEVENT
END:VCALENDAR