BEGIN:VCALENDAR
VERSION:2.0
PRODID:-//Mississippi Humanities Council - ECPv6.15.18//NONSGML v1.0//EN
CALSCALE:GREGORIAN
METHOD:PUBLISH
X-WR-CALNAME:Mississippi Humanities Council
X-ORIGINAL-URL:https://www.mshumanities.org
X-WR-CALDESC:Events for Mississippi Humanities Council
REFRESH-INTERVAL;VALUE=DURATION:PT1H
X-Robots-Tag:noindex
X-PUBLISHED-TTL:PT1H
BEGIN:VTIMEZONE
TZID:America/Chicago
BEGIN:DAYLIGHT
TZOFFSETFROM:-0600
TZOFFSETTO:-0500
TZNAME:CDT
DTSTART:20190310T080000
END:DAYLIGHT
BEGIN:STANDARD
TZOFFSETFROM:-0500
TZOFFSETTO:-0600
TZNAME:CST
DTSTART:20191103T070000
END:STANDARD
BEGIN:DAYLIGHT
TZOFFSETFROM:-0600
TZOFFSETTO:-0500
TZNAME:CDT
DTSTART:20200308T080000
END:DAYLIGHT
BEGIN:STANDARD
TZOFFSETFROM:-0500
TZOFFSETTO:-0600
TZNAME:CST
DTSTART:20201101T070000
END:STANDARD
BEGIN:DAYLIGHT
TZOFFSETFROM:-0600
TZOFFSETTO:-0500
TZNAME:CDT
DTSTART:20210314T080000
END:DAYLIGHT
BEGIN:STANDARD
TZOFFSETFROM:-0500
TZOFFSETTO:-0600
TZNAME:CST
DTSTART:20211107T070000
END:STANDARD
END:VTIMEZONE
BEGIN:VEVENT
DTSTART;TZID=America/Chicago:20200731T120000
DTEND;TZID=America/Chicago:20200731T130000
DTSTAMP:20260422T105357
CREATED:20200717T154622Z
LAST-MODIFIED:20200717T154622Z
UID:11306-1596196800-1596200400@www.mshumanities.org
SUMMARY:SB: From the Fields to the Factories
DESCRIPTION:In this presentation\, Dr. Brinda Willis will explore the Great Migration of African Americans from the rural South to the urban North in the 20th century. \n  \nVirtual program: Visit link below to attend
URL:https://www.mshumanities.org/event/sb-fields-factories/
LOCATION:MS
END:VEVENT
BEGIN:VEVENT
DTSTART;TZID=America/Chicago:20200731T173000
DTEND;TZID=America/Chicago:20200731T190000
DTSTAMP:20260422T105357
CREATED:20200720T204713Z
LAST-MODIFIED:20200720T204713Z
UID:11307-1596216600-1596222000@www.mshumanities.org
SUMMARY:HumBox: The MAX (Meridian)
DESCRIPTION:HumBox\, the Mississippi Humanities Council’s newest virtual program\, allows communities to come together for relevant\, humanities-based conversations in the safety of their own homes. HumBox is a digital resource box curated and compiled by the MHC and scholars that combines educational information\, resources\, and the opportunity for community-based discussion. \nOn July 31\, the MAX in Meridian will host the HumBox “A Usable Past: Pandemic History in the United States.” Developed by Dr. Amy Forbes (Millsaps College)\, this HumBox looks at past pandemics like the Spanish Flu and contagious diseases like Polio to understand our historical connection to public health emergencies and what kind of cultural changes we can expect in a post-Covid-19 world. Julian Rankin\, director of the Walter Anderson Museum of Art\, will host a Zoom HumBox presentation on Pandemic History from his office in Ocean Springs. You can join in-person at the MAX or participate from home via Facebook Live. Participants are invited to pose questions and topics of discussion. \nThis program is free and open to the public. Registration is recommended and can be here.
URL:https://www.mshumanities.org/event/humbox-max-meridian/
LOCATION:The MAX\, 2118 Front St\, Meridian\, MS\, 39301\, United States
END:VEVENT
END:VCALENDAR