BEGIN:VCALENDAR
VERSION:2.0
PRODID:-//Mississippi Humanities Council - ECPv6.15.18//NONSGML v1.0//EN
CALSCALE:GREGORIAN
METHOD:PUBLISH
X-WR-CALNAME:Mississippi Humanities Council
X-ORIGINAL-URL:https://www.mshumanities.org
X-WR-CALDESC:Events for Mississippi Humanities Council
REFRESH-INTERVAL;VALUE=DURATION:PT1H
X-Robots-Tag:noindex
X-PUBLISHED-TTL:PT1H
BEGIN:VTIMEZONE
TZID:America/Chicago
BEGIN:DAYLIGHT
TZOFFSETFROM:-0600
TZOFFSETTO:-0500
TZNAME:CDT
DTSTART:20190310T080000
END:DAYLIGHT
BEGIN:STANDARD
TZOFFSETFROM:-0500
TZOFFSETTO:-0600
TZNAME:CST
DTSTART:20191103T070000
END:STANDARD
BEGIN:DAYLIGHT
TZOFFSETFROM:-0600
TZOFFSETTO:-0500
TZNAME:CDT
DTSTART:20200308T080000
END:DAYLIGHT
BEGIN:STANDARD
TZOFFSETFROM:-0500
TZOFFSETTO:-0600
TZNAME:CST
DTSTART:20201101T070000
END:STANDARD
BEGIN:DAYLIGHT
TZOFFSETFROM:-0600
TZOFFSETTO:-0500
TZNAME:CDT
DTSTART:20210314T080000
END:DAYLIGHT
BEGIN:STANDARD
TZOFFSETFROM:-0500
TZOFFSETTO:-0600
TZNAME:CST
DTSTART:20211107T070000
END:STANDARD
END:VTIMEZONE
BEGIN:VEVENT
DTSTART;VALUE=DATE:20200914
DTEND;VALUE=DATE:20201023
DTSTAMP:20260422T162354
CREATED:20200916T012143Z
LAST-MODIFIED:20200916T012143Z
UID:11311-1600041600-1603411199@www.mshumanities.org
SUMMARY:"Crossroads" Exhibit in Senatobia
DESCRIPTION:Northwest Mississippi Community College will host Crossroads: Change in Rural America\, a Smithsonian traveling exhibition\, from September 14 through October 22. The exhibit is open to the public Mondays-Thursdays from 8am to 9pm\, Fridays from 8am-3:30pm\, and Sundays 2-7pm. \nCrossroads is a traveling exhibit offered by the Museum on Main Street division of the Smithsonian Institution. It consists of six free-standing display units incorporating photographs\, text\, and numerous interactive elements. Requiring a minimum of 750 sq. ft.\, the exhibit is designed for smaller venues to achieve Museum on Main Street’s goal of bringing the Smithsonian to small town America. The exhibit is free and open to the public to visit. The Mississippi tour of Crossroads is sponsored by a generous grant from Entergy Mississippi. \nCrossroads: Change in Rural America offers small towns a chance to look at their own paths to highlight the changes that affected their fortunes over the past century. The exhibition will prompt discussions about what happened when America’s rural population became a minority of the country’s population and the ripple effects that occurred. \nIn addition to hosting the exhibit\, Northwest will also host a series of programs that are free and open to the public. \nCrossroads events in Senatobia:\nSeptember 25\, 11am: “Exploring Rural Mississippi Through Population Studies” lecture\nSeptember 29\, 6pm: “Mississippi Foodways” Speakers Bureau program\nOctober 6\, 2pm: Virtual book discussion\, Crooked Letter\, Crooked Letter\nOctober 16\, 11am: “Cultural Appropriation at the Crossroads” lecture\nOctober 20\, 7pm: Bluegrass concert featuring local musician Andy Ratliff
URL:https://www.mshumanities.org/event/crossroads-exhibit-senatobia/
LOCATION:Northwest Mississippi Community College Learning Resource Center\, 4975 Highway 51 N\, Senatobia\, MS\, 38668\, United States
END:VEVENT
BEGIN:VEVENT
DTSTART;TZID=America/Chicago:20201013T080000
DTEND;TZID=America/Chicago:20201013T170000
DTSTAMP:20260422T162354
CREATED:20201006T165943Z
LAST-MODIFIED:20201006T165943Z
UID:11317-1602576000-1602608400@www.mshumanities.org
SUMMARY:Mississippi Hispanic Heritage Month & Indigenous People's Day: A Night of Art and Storytelling
DESCRIPTION:There are three components to our project: a short film\, a panel discussion\, and an art exhibit. On October 13\, the MS Museum of Art will premier a short film\, host a  panel discussion\, and unveil an art exhibit comprised of photographs. The film will be presented in person and online via Zoom and Facebook Live followed by the panel discussion. The panel will be composed of Lorena Quiroz\, Noel Didla\, Ingrid Cruz\, and immigrant community members who were impacted by the August 7\, 2019\, immigration raids. The purpose of the panel is to discuss lived experiences\, the rapid response of MS organizers to the August 7\, 2019\, raids\, and the future for immigrant\ncommunities in Mississippi and immigrant justice in Mississippi. Questions from the audience and public will be answered. Following the panel discussion\, the art exhibit will be unveiled and open to explore. This event is free and open to the public and takes into consideration accessibility (interpretation\, online participation\, etc.) and COVID-19.
URL:https://www.mshumanities.org/event/mississippi-hispanic-heritage-month-indigenous-peoples-day-night-art-storytelling/
LOCATION:Mississippi Museum of Art\, 380 South Lamar Street\, Jackson\, MS\, 39201
END:VEVENT
END:VCALENDAR