BEGIN:VCALENDAR
VERSION:2.0
PRODID:-//Mississippi Humanities Council - ECPv6.15.18//NONSGML v1.0//EN
CALSCALE:GREGORIAN
METHOD:PUBLISH
X-ORIGINAL-URL:https://www.mshumanities.org
X-WR-CALDESC:Events for Mississippi Humanities Council
REFRESH-INTERVAL;VALUE=DURATION:PT1H
X-Robots-Tag:noindex
X-PUBLISHED-TTL:PT1H
BEGIN:VTIMEZONE
TZID:America/Chicago
BEGIN:DAYLIGHT
TZOFFSETFROM:-0600
TZOFFSETTO:-0500
TZNAME:CDT
DTSTART:20200308T080000
END:DAYLIGHT
BEGIN:STANDARD
TZOFFSETFROM:-0500
TZOFFSETTO:-0600
TZNAME:CST
DTSTART:20201101T070000
END:STANDARD
BEGIN:DAYLIGHT
TZOFFSETFROM:-0600
TZOFFSETTO:-0500
TZNAME:CDT
DTSTART:20210314T080000
END:DAYLIGHT
BEGIN:STANDARD
TZOFFSETFROM:-0500
TZOFFSETTO:-0600
TZNAME:CST
DTSTART:20211107T070000
END:STANDARD
BEGIN:DAYLIGHT
TZOFFSETFROM:-0600
TZOFFSETTO:-0500
TZNAME:CDT
DTSTART:20220313T080000
END:DAYLIGHT
BEGIN:STANDARD
TZOFFSETFROM:-0500
TZOFFSETTO:-0600
TZNAME:CST
DTSTART:20221106T070000
END:STANDARD
END:VTIMEZONE
BEGIN:VEVENT
DTSTART;TZID=America/Chicago:20210201T180000
DTEND;TZID=America/Chicago:20210201T200000
DTSTAMP:20260422T214725
CREATED:20201124T151718Z
LAST-MODIFIED:20201124T151718Z
UID:11333-1612202400-1612209600@www.mshumanities.org
SUMMARY:Oxford Film Festival: "I'm Not a Racist\, Am I?" Screening and Community Talk
DESCRIPTION:Free screening of “I’m Not a Racist\, Am I?” followed by a 60-90 minute workshop to further examine the context of the film and our own role in deconstructing race and confronting racism. For more information\, visit https://www.oxfordfilmfest.com/
URL:https://www.mshumanities.org/event/oxford-film-festival-im-not-a-racist-am-i-screening-and-community-talk/
LOCATION:MS
END:VEVENT
END:VCALENDAR