BEGIN:VCALENDAR
VERSION:2.0
PRODID:-//Mississippi Humanities Council - ECPv6.15.18//NONSGML v1.0//EN
CALSCALE:GREGORIAN
METHOD:PUBLISH
X-ORIGINAL-URL:https://www.mshumanities.org
X-WR-CALDESC:Events for Mississippi Humanities Council
REFRESH-INTERVAL;VALUE=DURATION:PT1H
X-Robots-Tag:noindex
X-PUBLISHED-TTL:PT1H
BEGIN:VTIMEZONE
TZID:America/Chicago
BEGIN:DAYLIGHT
TZOFFSETFROM:-0600
TZOFFSETTO:-0500
TZNAME:CDT
DTSTART:20200308T080000
END:DAYLIGHT
BEGIN:STANDARD
TZOFFSETFROM:-0500
TZOFFSETTO:-0600
TZNAME:CST
DTSTART:20201101T070000
END:STANDARD
BEGIN:DAYLIGHT
TZOFFSETFROM:-0600
TZOFFSETTO:-0500
TZNAME:CDT
DTSTART:20210314T080000
END:DAYLIGHT
BEGIN:STANDARD
TZOFFSETFROM:-0500
TZOFFSETTO:-0600
TZNAME:CST
DTSTART:20211107T070000
END:STANDARD
BEGIN:DAYLIGHT
TZOFFSETFROM:-0600
TZOFFSETTO:-0500
TZNAME:CDT
DTSTART:20220313T080000
END:DAYLIGHT
BEGIN:STANDARD
TZOFFSETFROM:-0500
TZOFFSETTO:-0600
TZNAME:CST
DTSTART:20221106T070000
END:STANDARD
END:VTIMEZONE
BEGIN:VEVENT
DTSTART;TZID=America/Chicago:20210514T080000
DTEND;TZID=America/Chicago:20210625T170000
DTSTAMP:20260423T032059
CREATED:20210421T203015Z
LAST-MODIFIED:20210421T203015Z
UID:11371-1620979200-1624640400@www.mshumanities.org
SUMMARY:"Crossroads" Exhibit in Greenwood
DESCRIPTION:The Museum of the Mississippi Delta in Greenwood will host Crossroads: Change in Rural America\, a Smithsonian traveling exhibition\, from May 14 through June 25. \nCrossroads is a traveling exhibit offered by the Museum on Main Street division of the Smithsonian Institution. It consists of six free-standing display units incorporating photographs\, text\, and numerous interactive elements. Requiring a minimum of 750 sq. ft.\, the exhibit is designed for smaller venues to achieve Museum on Main Street’s goal of bringing the Smithsonian to small town America. The exhibit is free and open to the public to visit. The Mississippi tour of Crossroads is sponsored by a generous grant from Entergy Mississippi. \nCrossroads: Change in Rural America offers small towns a chance to look at their own paths to highlight the changes that affected their fortunes over the past century. The exhibition will prompt discussions about what happened when America’s rural population became a minority of the country’s population and the ripple effects that occurred. \nIn addition to hosting the exhibition\, the Museum of the Mississippi Delta will also host a series of programs that are free and open to the public. \nCrossroads events in Greenwood: \nMay 20\, 11:30am: “Why We Call It Soul Food” presentation\, Dr. Brinda Willis\nJune 5\, 10am: Trials of the Earth community book discussion\nJune 12\, 10am: “Rural Roots: What Did I Learn?” presentation\, Rev. Herron Wilson and Gene Dattel\nJune 17\, 6pm: A Place Like Mississippi reading and signing\, Ralph Eubanks\nJune 24\, 6pm: Trials of the Earth reading and signing\, Kerry Hamilton \n“Crossroads Children” events:\nMy Growing Delta workshop (rising 3rd-6th grades)\nMay 25\, 8:45am\nMay 26\, 12:45pm\nMy Growing Delta workshop (rising 7th grade)\n June 10\, 8:45am\nJune 11\, 12:45pm\nMy Musical Delta workshop (rising 5K-rising 2nd grades)\nJune 15\, 10:30am\nJune 22\, 10:30am
URL:https://www.mshumanities.org/event/crossroads-exhibit-in-greenwood/
LOCATION:Museum of the Mississippi Delta\, 1608 Hwy 82 West\, Greenwood\, MS\, 38930
END:VEVENT
BEGIN:VEVENT
DTSTART;TZID=America/Chicago:20210612T100000
DTEND;TZID=America/Chicago:20210612T113000
DTSTAMP:20260423T032059
CREATED:20210510T174950Z
LAST-MODIFIED:20210510T174950Z
UID:11376-1623492000-1623497400@www.mshumanities.org
SUMMARY:Crossroads @ Greenwood: Rural Roots: What Did I Learn?
DESCRIPTION:On June 12\, the Museum of the Mississippi Delta will host a free and open to the public discussion featuring Rev. Herron Wilson and Gene Dattel about their childhood experiences in rural Mississippi. The discussion will take place in conjunction with the Smithsonian traveling exhibition Crossroads: Change in Rural America\, on display in Greenwood through June 26. \nFor Rev. Herron Wilson and Gene Dattel\, a conversation about growing up in the Mississippi Delta is more than an exercise in nostalgia. It illustrates how rural life prepared two young boys of different races and religious backgrounds for their futures. While both men have stories to tell from different points of view\, they have one thing in common–their boyhood in the Mississippi Delta had a profound impact on the people they would become. \nCrossroads: Change in Rural America offers small towns a chance to look at their own paths to highlight the changes that affected their fortunes over the past century. The exhibition will prompt discussions about what happened when America’s rural population became a minority of the country’s population and the ripple effects that occurred. \nThe exhibit will be on display at the Museum of the Mississippi Delta through June 26 and is open to the public Tuesdays-Saturdays 10am-3pm. Crossroads is free to visit. \nUpcoming Crossroads events in Greenwood:\nJune 17\, 6pm: A Place Like Mississippi reading and signing\, Ralph Eubanks\nJune 24\, 6pm: Trials of the Earth reading and signing\, Kerry Hamilton \nUpcoming “Crossroads Children” events:\nMy Musical Delta workshop (rising 5K-rising 2nd grades)\nJune 15\, 10:30am\nJune 22\, 10:30am
URL:https://www.mshumanities.org/event/crossroads-greenwood-rural-roots-what-did-i-learn/
LOCATION:Museum of the Mississippi Delta\, 1608 Hwy 82 West\, Greenwood\, MS\, 38930
END:VEVENT
BEGIN:VEVENT
DTSTART;TZID=America/Chicago:20210612T103000
DTEND;TZID=America/Chicago:20210612T160000
DTSTAMP:20260423T032059
CREATED:20210601T144830Z
LAST-MODIFIED:20210601T144830Z
UID:11395-1623493800-1623513600@www.mshumanities.org
SUMMARY:SB: Mississippi Telling
DESCRIPTION:Dr. Rebecca Jernigan will provide an overview of the storytelling Renaissance in America with emphasis upon the oral tradition in Mississippi. The literary tradition of Mississippi owes much to the rich storytelling legacy that riddles the tales of our families and our communities as reflected in the works of many of our best authors: Welty\, Wright\, Faulkner\, Henley\, Williams. As part of the presentation\, Dr. Jernigan performs as a story teller calling upon on her rich repertoire of original tales and literary masterpieces gearing her choices of tales according to her audience and offers material for children and adults. \n\n\n\n\n\n\n\n\n\n\n\nThe Blueberry Jubilee is a festival geared to celebrating the blueberry industry in Pearl River County\, as well as an arts and crafts fair held the second Saturday in June of each year. It is located in downtown Poplarville\, Mississippi and attracts more than 10\,00 visitors each year. The Jubilee features arts & crafts\, storytelling\, live entertainment\, an annual 5K and 1-mile Fun run and also a car show. lots of food\, and sweet Southern charm.
URL:https://www.mshumanities.org/event/sb-mississippi-telling-6/
LOCATION:Poplarville Public Library\, 202 W Beers Street\, Poplarville\, MS\, 39470
END:VEVENT
END:VCALENDAR