BEGIN:VCALENDAR
VERSION:2.0
PRODID:-//Mississippi Humanities Council - ECPv6.15.18//NONSGML v1.0//EN
CALSCALE:GREGORIAN
METHOD:PUBLISH
X-WR-CALNAME:Mississippi Humanities Council
X-ORIGINAL-URL:https://www.mshumanities.org
X-WR-CALDESC:Events for Mississippi Humanities Council
REFRESH-INTERVAL;VALUE=DURATION:PT1H
X-Robots-Tag:noindex
X-PUBLISHED-TTL:PT1H
BEGIN:VTIMEZONE
TZID:America/Chicago
BEGIN:DAYLIGHT
TZOFFSETFROM:-0600
TZOFFSETTO:-0500
TZNAME:CDT
DTSTART:20200308T080000
END:DAYLIGHT
BEGIN:STANDARD
TZOFFSETFROM:-0500
TZOFFSETTO:-0600
TZNAME:CST
DTSTART:20201101T070000
END:STANDARD
BEGIN:DAYLIGHT
TZOFFSETFROM:-0600
TZOFFSETTO:-0500
TZNAME:CDT
DTSTART:20210314T080000
END:DAYLIGHT
BEGIN:STANDARD
TZOFFSETFROM:-0500
TZOFFSETTO:-0600
TZNAME:CST
DTSTART:20211107T070000
END:STANDARD
BEGIN:DAYLIGHT
TZOFFSETFROM:-0600
TZOFFSETTO:-0500
TZNAME:CDT
DTSTART:20220313T080000
END:DAYLIGHT
BEGIN:STANDARD
TZOFFSETFROM:-0500
TZOFFSETTO:-0600
TZNAME:CST
DTSTART:20221106T070000
END:STANDARD
END:VTIMEZONE
BEGIN:VEVENT
DTSTART;TZID=America/Chicago:20210514T080000
DTEND;TZID=America/Chicago:20210625T170000
DTSTAMP:20260423T031922
CREATED:20210421T203015Z
LAST-MODIFIED:20210421T203015Z
UID:11371-1620979200-1624640400@www.mshumanities.org
SUMMARY:"Crossroads" Exhibit in Greenwood
DESCRIPTION:The Museum of the Mississippi Delta in Greenwood will host Crossroads: Change in Rural America\, a Smithsonian traveling exhibition\, from May 14 through June 25. \nCrossroads is a traveling exhibit offered by the Museum on Main Street division of the Smithsonian Institution. It consists of six free-standing display units incorporating photographs\, text\, and numerous interactive elements. Requiring a minimum of 750 sq. ft.\, the exhibit is designed for smaller venues to achieve Museum on Main Street’s goal of bringing the Smithsonian to small town America. The exhibit is free and open to the public to visit. The Mississippi tour of Crossroads is sponsored by a generous grant from Entergy Mississippi. \nCrossroads: Change in Rural America offers small towns a chance to look at their own paths to highlight the changes that affected their fortunes over the past century. The exhibition will prompt discussions about what happened when America’s rural population became a minority of the country’s population and the ripple effects that occurred. \nIn addition to hosting the exhibition\, the Museum of the Mississippi Delta will also host a series of programs that are free and open to the public. \nCrossroads events in Greenwood: \nMay 20\, 11:30am: “Why We Call It Soul Food” presentation\, Dr. Brinda Willis\nJune 5\, 10am: Trials of the Earth community book discussion\nJune 12\, 10am: “Rural Roots: What Did I Learn?” presentation\, Rev. Herron Wilson and Gene Dattel\nJune 17\, 6pm: A Place Like Mississippi reading and signing\, Ralph Eubanks\nJune 24\, 6pm: Trials of the Earth reading and signing\, Kerry Hamilton \n“Crossroads Children” events:\nMy Growing Delta workshop (rising 3rd-6th grades)\nMay 25\, 8:45am\nMay 26\, 12:45pm\nMy Growing Delta workshop (rising 7th grade)\n June 10\, 8:45am\nJune 11\, 12:45pm\nMy Musical Delta workshop (rising 5K-rising 2nd grades)\nJune 15\, 10:30am\nJune 22\, 10:30am
URL:https://www.mshumanities.org/event/crossroads-exhibit-in-greenwood/
LOCATION:Museum of the Mississippi Delta\, 1608 Hwy 82 West\, Greenwood\, MS\, 38930
END:VEVENT
BEGIN:VEVENT
DTSTART;TZID=America/Chicago:20210615T103000
DTEND;TZID=America/Chicago:20210615T120000
DTSTAMP:20260423T031922
CREATED:20210511T142700Z
LAST-MODIFIED:20210511T142700Z
UID:11383-1623753000-1623758400@www.mshumanities.org
SUMMARY:Crossroads @ Greenwood: My Musical Delta Youth Workshop
DESCRIPTION:On June 15\, the Museum of the Mississippi Delta will host a free workshop for rising 5K- rising 2nd graders called “My Musical Delta.” The event will take place in conjunction with the Smithsonian traveling exhibition Crossroads: Change in Rural America\, on display in Greenwood through June 26. \nStorytime never sounded so good! Join us as we read from the award-winning picture book Muddy: The Story of Blues Legend Muddy Waters written by Michael Mahin and illustrated by Evan Turk. The book celebrates blues musician Muddy Water\, whose unique sound became the foundation for what would become rock and roll. After the story\, we will decorate a guitar as we listen to Muddy’s music. This event is being held in collaboration with Turnrow Books\, which will have copies of the book available for purchase at the event. \nThe “My Musical Delta” workshop series is part of Crossroads Children\, a series hosted in conjunction with the Smithsonian Crossroads exhibition\, to help children understand their own community and its contributions to the world. \nThere is no cost to attend the youth workshop programs\, but space is limited and registration is required. Email education@museumofthemississippidelta.com or call 662-453-0925 to register. \nCrossroads: Change in Rural America offers small towns a chance to look at their own paths to highlight the changes that affected their fortunes over the past century. The exhibition will prompt discussions about what happened when America’s rural population became a minority of the country’s population and the ripple effects that occurred. \nThe exhibit will be on display at the Museum of the Mississippi Delta through June 26 and is open to the public Tuesdays-Saturdays 10am-3pm. Crossroads is free to visit. \nUpcoming Crossroads events in Greenwood:\nJune 17\, 6pm: A Place Like Mississippi reading and signing\, Ralph Eubanks\nJune 24\, 6pm: Trials of the Earth reading and signing\, Kerry Hamilton \nUpcoming “Crossroads Children” events:\nMy Musical Delta workshop (rising 5K-rising 2nd grades)\nJune 22\, 10:30am
URL:https://www.mshumanities.org/event/crossroads-greenwood-my-musical-delta-youth-workshop/
LOCATION:Museum of the Mississippi Delta\, 1608 Hwy 82 West\, Greenwood\, MS\, 38930
END:VEVENT
END:VCALENDAR