BEGIN:VCALENDAR
VERSION:2.0
PRODID:-//Mississippi Humanities Council - ECPv6.15.18//NONSGML v1.0//EN
CALSCALE:GREGORIAN
METHOD:PUBLISH
X-WR-CALNAME:Mississippi Humanities Council
X-ORIGINAL-URL:https://www.mshumanities.org
X-WR-CALDESC:Events for Mississippi Humanities Council
REFRESH-INTERVAL;VALUE=DURATION:PT1H
X-Robots-Tag:noindex
X-PUBLISHED-TTL:PT1H
BEGIN:VTIMEZONE
TZID:America/Chicago
BEGIN:DAYLIGHT
TZOFFSETFROM:-0600
TZOFFSETTO:-0500
TZNAME:CDT
DTSTART:20200308T080000
END:DAYLIGHT
BEGIN:STANDARD
TZOFFSETFROM:-0500
TZOFFSETTO:-0600
TZNAME:CST
DTSTART:20201101T070000
END:STANDARD
BEGIN:DAYLIGHT
TZOFFSETFROM:-0600
TZOFFSETTO:-0500
TZNAME:CDT
DTSTART:20210314T080000
END:DAYLIGHT
BEGIN:STANDARD
TZOFFSETFROM:-0500
TZOFFSETTO:-0600
TZNAME:CST
DTSTART:20211107T070000
END:STANDARD
BEGIN:DAYLIGHT
TZOFFSETFROM:-0600
TZOFFSETTO:-0500
TZNAME:CDT
DTSTART:20220313T080000
END:DAYLIGHT
BEGIN:STANDARD
TZOFFSETFROM:-0500
TZOFFSETTO:-0600
TZNAME:CST
DTSTART:20221106T070000
END:STANDARD
END:VTIMEZONE
BEGIN:VEVENT
DTSTART;TZID=America/Chicago:20211004T170000
DTEND;TZID=America/Chicago:20211004T200000
DTSTAMP:20260423T092931
CREATED:20210804T142908Z
LAST-MODIFIED:20210804T142908Z
UID:11408-1633366800-1633377600@www.mshumanities.org
SUMMARY:Voice From the Sit-In - Mississippi Delta Movie Premiere
DESCRIPTION:On March 10\, 1969 52 students were arrested at the Black Students sit-in and spent the night at Parchman Penitentiary.  This film tells the story of the sit-in from the perspectives of four students\, as told to current Delta State students. The screening will take place at the Bologna Performing Arts Center\, and will consist of a screening\, Q&A\, and reception. The event will be free and open to the public.
URL:https://www.mshumanities.org/event/voice-from-the-sit-in-mississippi-delta-movie-premiere/
LOCATION:Bologna Performing Arts Center Lobby\, Highway 8 West\, Cleveland\, MS\, 38732
END:VEVENT
END:VCALENDAR