BEGIN:VCALENDAR
VERSION:2.0
PRODID:-//Mississippi Humanities Council - ECPv6.15.18//NONSGML v1.0//EN
CALSCALE:GREGORIAN
METHOD:PUBLISH
X-ORIGINAL-URL:https://www.mshumanities.org
X-WR-CALDESC:Events for Mississippi Humanities Council
REFRESH-INTERVAL;VALUE=DURATION:PT1H
X-Robots-Tag:noindex
X-PUBLISHED-TTL:PT1H
BEGIN:VTIMEZONE
TZID:America/Chicago
BEGIN:DAYLIGHT
TZOFFSETFROM:-0600
TZOFFSETTO:-0500
TZNAME:CDT
DTSTART:20200308T080000
END:DAYLIGHT
BEGIN:STANDARD
TZOFFSETFROM:-0500
TZOFFSETTO:-0600
TZNAME:CST
DTSTART:20201101T070000
END:STANDARD
BEGIN:DAYLIGHT
TZOFFSETFROM:-0600
TZOFFSETTO:-0500
TZNAME:CDT
DTSTART:20210314T080000
END:DAYLIGHT
BEGIN:STANDARD
TZOFFSETFROM:-0500
TZOFFSETTO:-0600
TZNAME:CST
DTSTART:20211107T070000
END:STANDARD
BEGIN:DAYLIGHT
TZOFFSETFROM:-0600
TZOFFSETTO:-0500
TZNAME:CDT
DTSTART:20220313T080000
END:DAYLIGHT
BEGIN:STANDARD
TZOFFSETFROM:-0500
TZOFFSETTO:-0600
TZNAME:CST
DTSTART:20221106T070000
END:STANDARD
END:VTIMEZONE
BEGIN:VEVENT
DTSTART;TZID=America/Chicago:20211028T180000
DTEND;TZID=America/Chicago:20211028T200000
DTSTAMP:20260423T092946
CREATED:20211012T134435Z
LAST-MODIFIED:20211012T134435Z
UID:11418-1635444000-1635451200@www.mshumanities.org
SUMMARY:Fighting Sexism\, Racism and Corruption in the Community with the Guerilla Girls
DESCRIPTION:Mississippi University for Women will partner with the Guerrilla Girls\, a group of feminist activists that uses political art to fight sexism\, racism and corruption in society\, for a virtual event at 6 p.m. Thursday\, Oct. 28\, on Zoom. \nThe event is a collaboration between the Ina E. Gordy Honors College\, the NEW Leadership Mississippi program\, the National Organization of Women (NOW) chapter at The W\, the Fant Memorial Library\, the MUW Galleries and the Departments of History\, Art and Languages\, Literature & Philosophy. Drouillard\, who is the project director/organizer of the event\, said local businesses Friendly City Books and the Columbus Arts Council and Colin Krieger\, who was voted “local hero in the Golden Triangle 2021\,” also will help promote the event.
URL:https://www.mshumanities.org/event/fighting-sexism-racism-and-corruption-in-the-community-with-the-guerilla-girls/
LOCATION:Online Event
END:VEVENT
END:VCALENDAR