BEGIN:VCALENDAR
VERSION:2.0
PRODID:-//Mississippi Humanities Council - ECPv6.15.18//NONSGML v1.0//EN
CALSCALE:GREGORIAN
METHOD:PUBLISH
X-WR-CALNAME:Mississippi Humanities Council
X-ORIGINAL-URL:https://www.mshumanities.org
X-WR-CALDESC:Events for Mississippi Humanities Council
REFRESH-INTERVAL;VALUE=DURATION:PT1H
X-Robots-Tag:noindex
X-PUBLISHED-TTL:PT1H
BEGIN:VTIMEZONE
TZID:America/Chicago
BEGIN:DAYLIGHT
TZOFFSETFROM:-0600
TZOFFSETTO:-0500
TZNAME:CDT
DTSTART:20200308T080000
END:DAYLIGHT
BEGIN:STANDARD
TZOFFSETFROM:-0500
TZOFFSETTO:-0600
TZNAME:CST
DTSTART:20201101T070000
END:STANDARD
BEGIN:DAYLIGHT
TZOFFSETFROM:-0600
TZOFFSETTO:-0500
TZNAME:CDT
DTSTART:20210314T080000
END:DAYLIGHT
BEGIN:STANDARD
TZOFFSETFROM:-0500
TZOFFSETTO:-0600
TZNAME:CST
DTSTART:20211107T070000
END:STANDARD
BEGIN:DAYLIGHT
TZOFFSETFROM:-0600
TZOFFSETTO:-0500
TZNAME:CDT
DTSTART:20220313T080000
END:DAYLIGHT
BEGIN:STANDARD
TZOFFSETFROM:-0500
TZOFFSETTO:-0600
TZNAME:CST
DTSTART:20221106T070000
END:STANDARD
END:VTIMEZONE
BEGIN:VEVENT
DTSTART;TZID=America/Chicago:20211103T080000
DTEND;TZID=America/Chicago:20211103T170000
DTSTAMP:20260423T121033
CREATED:20211027T160540Z
LAST-MODIFIED:20211027T160540Z
UID:11420-1635926400-1635958800@www.mshumanities.org
SUMMARY:“Light in the Piazza” Conversation
DESCRIPTION:At noon Nov. 3 in the Paris-Yates Chapel on the University of Mississippi campus\, Adam Guettel\, Blake McIver and Mary Donnelly Haskell will have a conversation about Elizabeth Spencer’s novella “The Light in the Piazza\,” which was made into a musical. \nIn celebration of Mississippi writer Elizabeth Spencer’s one hundredth birthday\, the University of Mississippi Department of Music is staging a November 2021 production of “The Light in the Piazza\,” a musical based on Spencer’s novella of the same name. In conjunction with this production\, the department is presenting Piazza composer\, lyricist\, and orchestrator Adam Guettel in a residency of public programing that explores Spencer\, her novella\, Guettel’s rationale for and process of creating a musical from Spencer’s work\, and the themes\, characters and concepts revealed in both pieces. \nGuettel is a composer steeped in the opera and musical theatre traditions of America. The grandson of Richard Rodgers (of Rodgers and Hammerstein) and son of writer/composer Mary Rodgers\, Guettel is well-versed in the history of American musical theatre forms. As a Tony Award-winning composer in his own right\, his work is helping move those forms forward. “The Light in the Piazza” was nominated for 11 Tony Awards and won six\, including two for Guettel for original score and orchestration.
URL:https://www.mshumanities.org/event/light-in-the-piazza-conversation/
LOCATION:Paris-Yates Chapel\, 60 Chapel Lane\, University\, MS\, 38677\, United States
END:VEVENT
END:VCALENDAR