BEGIN:VCALENDAR
VERSION:2.0
PRODID:-//Mississippi Humanities Council - ECPv6.15.18//NONSGML v1.0//EN
CALSCALE:GREGORIAN
METHOD:PUBLISH
X-WR-CALNAME:Mississippi Humanities Council
X-ORIGINAL-URL:https://www.mshumanities.org
X-WR-CALDESC:Events for Mississippi Humanities Council
REFRESH-INTERVAL;VALUE=DURATION:PT1H
X-Robots-Tag:noindex
X-PUBLISHED-TTL:PT1H
BEGIN:VTIMEZONE
TZID:America/Chicago
BEGIN:DAYLIGHT
TZOFFSETFROM:-0600
TZOFFSETTO:-0500
TZNAME:CDT
DTSTART:20200308T080000
END:DAYLIGHT
BEGIN:STANDARD
TZOFFSETFROM:-0500
TZOFFSETTO:-0600
TZNAME:CST
DTSTART:20201101T070000
END:STANDARD
BEGIN:DAYLIGHT
TZOFFSETFROM:-0600
TZOFFSETTO:-0500
TZNAME:CDT
DTSTART:20210314T080000
END:DAYLIGHT
BEGIN:STANDARD
TZOFFSETFROM:-0500
TZOFFSETTO:-0600
TZNAME:CST
DTSTART:20211107T070000
END:STANDARD
BEGIN:DAYLIGHT
TZOFFSETFROM:-0600
TZOFFSETTO:-0500
TZNAME:CDT
DTSTART:20220313T080000
END:DAYLIGHT
BEGIN:STANDARD
TZOFFSETFROM:-0500
TZOFFSETTO:-0600
TZNAME:CST
DTSTART:20221106T070000
END:STANDARD
END:VTIMEZONE
BEGIN:VEVENT
DTSTART;TZID=America/Chicago:20211110T180000
DTEND;TZID=America/Chicago:20211110T200000
DTSTAMP:20260423T121033
CREATED:20211028T132436Z
LAST-MODIFIED:20211028T132436Z
UID:11421-1636567200-1636574400@www.mshumanities.org
SUMMARY:Community Meeting- Natchez US Colored Troops Monument Project
DESCRIPTION:The public is invited to attend a community meeting on the Natchez US Colored Troops Monument project at 6:00pm on Wednesday\, Nov. 10th at the Natchez Convention Center.  The purpose of this meeting is to gather public input on the proposed monument project that will honor the more than 3\,000 African American men who served with the six regiments at Fort McPherson in Natchez.
URL:https://www.mshumanities.org/event/community-meeting-natchez-us-colored-troops-monument-project/
LOCATION:Natchez Convention Center\, 211 Main Street\, Natchez\, MS\, 39120
END:VEVENT
END:VCALENDAR