BEGIN:VCALENDAR
VERSION:2.0
PRODID:-//Mississippi Humanities Council - ECPv6.15.18//NONSGML v1.0//EN
CALSCALE:GREGORIAN
METHOD:PUBLISH
X-WR-CALNAME:Mississippi Humanities Council
X-ORIGINAL-URL:https://www.mshumanities.org
X-WR-CALDESC:Events for Mississippi Humanities Council
REFRESH-INTERVAL;VALUE=DURATION:PT1H
X-Robots-Tag:noindex
X-PUBLISHED-TTL:PT1H
BEGIN:VTIMEZONE
TZID:America/Chicago
BEGIN:DAYLIGHT
TZOFFSETFROM:-0600
TZOFFSETTO:-0500
TZNAME:CDT
DTSTART:20200308T080000
END:DAYLIGHT
BEGIN:STANDARD
TZOFFSETFROM:-0500
TZOFFSETTO:-0600
TZNAME:CST
DTSTART:20201101T070000
END:STANDARD
BEGIN:DAYLIGHT
TZOFFSETFROM:-0600
TZOFFSETTO:-0500
TZNAME:CDT
DTSTART:20210314T080000
END:DAYLIGHT
BEGIN:STANDARD
TZOFFSETFROM:-0500
TZOFFSETTO:-0600
TZNAME:CST
DTSTART:20211107T070000
END:STANDARD
BEGIN:DAYLIGHT
TZOFFSETFROM:-0600
TZOFFSETTO:-0500
TZNAME:CDT
DTSTART:20220313T080000
END:DAYLIGHT
BEGIN:STANDARD
TZOFFSETFROM:-0500
TZOFFSETTO:-0600
TZNAME:CST
DTSTART:20221106T070000
END:STANDARD
END:VTIMEZONE
BEGIN:VEVENT
DTSTART;TZID=America/Chicago:20211111T180000
DTEND;TZID=America/Chicago:20211111T190000
DTSTAMP:20260423T105148
CREATED:20211108T213836Z
LAST-MODIFIED:20211108T213836Z
UID:11425-1636653600-1636657200@www.mshumanities.org
SUMMARY:Brennan Collins Discussion Program - Historical Society of Gulfport
DESCRIPTION:The Historical Society of Gulfport will meet Thursday\, November 11\, 2021\, from 6-7 pm at the Vestry (formerly St. Matthew’s Lutheran Church). \nBrennan Collins\, Research Center Coordinator\, will discuss his role in establishing the Gulfport Museum of History Research Center and his work with the Mississippi Digital Library. \nCurrently a graduate student in the University of Southern Mississippi’s School of Master of Library and Information Science\, he is credited with making the Ralph Bean Architectural Collection the museum’s initial entry in the Mississippi Digital Library. \nThe research center and Brennan’s part-time position were funded by a grant through the American Rescue Plan\, along with the National Endowment for the Humanities and the Mississippi Humanities Council.
URL:https://www.mshumanities.org/event/brennan-collins-discussion-program-historical-society-of-gulfport/
LOCATION:Vestry\, 11213 US 49\, Gulfport\, MS\, 39503\, United States
END:VEVENT
END:VCALENDAR