BEGIN:VCALENDAR
VERSION:2.0
PRODID:-//Mississippi Humanities Council - ECPv6.15.18//NONSGML v1.0//EN
CALSCALE:GREGORIAN
METHOD:PUBLISH
X-ORIGINAL-URL:https://www.mshumanities.org
X-WR-CALDESC:Events for Mississippi Humanities Council
REFRESH-INTERVAL;VALUE=DURATION:PT1H
X-Robots-Tag:noindex
X-PUBLISHED-TTL:PT1H
BEGIN:VTIMEZONE
TZID:America/Chicago
BEGIN:DAYLIGHT
TZOFFSETFROM:-0600
TZOFFSETTO:-0500
TZNAME:CDT
DTSTART:20200308T080000
END:DAYLIGHT
BEGIN:STANDARD
TZOFFSETFROM:-0500
TZOFFSETTO:-0600
TZNAME:CST
DTSTART:20201101T070000
END:STANDARD
BEGIN:DAYLIGHT
TZOFFSETFROM:-0600
TZOFFSETTO:-0500
TZNAME:CDT
DTSTART:20210314T080000
END:DAYLIGHT
BEGIN:STANDARD
TZOFFSETFROM:-0500
TZOFFSETTO:-0600
TZNAME:CST
DTSTART:20211107T070000
END:STANDARD
BEGIN:DAYLIGHT
TZOFFSETFROM:-0600
TZOFFSETTO:-0500
TZNAME:CDT
DTSTART:20220313T080000
END:DAYLIGHT
BEGIN:STANDARD
TZOFFSETFROM:-0500
TZOFFSETTO:-0600
TZNAME:CST
DTSTART:20221106T070000
END:STANDARD
END:VTIMEZONE
BEGIN:VEVENT
DTSTART;TZID=America/Chicago:20211113T090000
DTEND;TZID=America/Chicago:20211113T170000
DTSTAMP:20260423T121147
CREATED:20211101T130404Z
LAST-MODIFIED:20211101T130404Z
UID:11422-1636794000-1636822800@www.mshumanities.org
SUMMARY:SB - Jernigan - Mississippi Telling
DESCRIPTION:The presenter provides an overview of the storytelling Renaissance in America with emphasis upon the oral tradition in Mississippi. The literary tradition of Mississippi owes much to the rich storytelling legacy that riddles the tales of our families and our communities as reflected in the works of many of our best authors: Welty\, Wright\, Faulkner\, Henley\, Williams. As part of the presentation\, Dr. Jernigan performs as a story teller calling upon on her rich repertoire of original tales and literary masterpieces gearing her choices of tales according to her audience and offers material for children and adults.
URL:https://www.mshumanities.org/event/sb-jernigan-mississippi-telling/
LOCATION:MoMS1
END:VEVENT
END:VCALENDAR